BEGIN:VCALENDAR
VERSION:2.0
PRODID:IEEE vTools.Events//EN
CALSCALE:GREGORIAN
BEGIN:VTIMEZONE
TZID:Asia/Kolkata
BEGIN:STANDARD
DTSTART:19451014T230000
TZOFFSETFROM:+0630
TZOFFSETTO:+0530
TZNAME:IST
END:STANDARD
END:VTIMEZONE
BEGIN:VEVENT
DTSTAMP:20260216T182923Z
UID:5D2E3653-7982-44AB-8EAE-6BB6D28DB2E9
DTSTART;TZID=Asia/Kolkata:20260215T100000
DTEND;TZID=Asia/Kolkata:20260215T120000
DESCRIPTION:[]\n\nCodeCombat is a competitive programming hackathon organiz
 ed by the IEEE CTSOc Student Branch to bring together passionate programme
 rs and problem-solvers. The event provides a platform for students to test
  their algorithmic thinking\, coding efficiency\, and logical reasoning by
  solving time-bound programming challenges.\n\nParticipants will compete i
 ndividually or in teams to solve a series of competitive programming probl
 ems of varying difficulty\, focusing on data structures\, algorithms\, and
  optimization techniques. CodeCombat aims to foster a competitive coding m
 indset\, encourage learning through problem-solving\, and strengthen the c
 ulture of competitive programming among students.\n\nSpeaker(s): Biswajit 
 Sahoo\, Panigrahi\n\ncampus - 25\, kiit university\, bhubaneswar\, Orissa\
 , India\, 751024
LOCATION:campus - 25\, kiit university\, bhubaneswar\, Orissa\, India\, 751
 024
ORGANIZER:niranjan.rayfcs@kiit.ac.in
SEQUENCE:40
SUMMARY:Code Combat – 2-Hour Hackathon
URL;VALUE=URI:https://events.vtools.ieee.org/m/538764
X-ALT-DESC:Description: &lt;br /&gt;&lt;p data-start=&quot;150&quot; data-end=&quot;468&quot;&gt;&lt;strong da
 ta-start=&quot;150&quot; data-end=&quot;164&quot;&gt;&lt;img src=&quot;https://events.vtools.ieee.org/vto
 ols_ui/media/display/b00a2f3d-d730-4db0-b998-23d138c9b2d5&quot; alt=&quot;&quot; width=&quot;1
 019&quot; height=&quot;573&quot;&gt;&lt;/strong&gt;&lt;/p&gt;\n&lt;p data-start=&quot;150&quot; data-end=&quot;468&quot;&gt;&amp;nbsp\
 ;&lt;/p&gt;\n&lt;p data-start=&quot;150&quot; data-end=&quot;468&quot;&gt;&lt;strong data-start=&quot;150&quot; data-en
 d=&quot;164&quot;&gt;CodeCombat&lt;/strong&gt; is a competitive programming hackathon organiz
 ed by the IEEE CTSOc Student Branch to bring together passionate programme
 rs and problem-solvers. The event provides a platform for students to test
  their algorithmic thinking\, coding efficiency\, and logical reasoning by
  solving time-bound programming challenges.&lt;/p&gt;\n&lt;p data-start=&quot;470&quot; data-
 end=&quot;837&quot;&gt;Participants will compete individually or in teams to solve a se
 ries of competitive programming problems of varying difficulty\, focusing 
 on data structures\, algorithms\, and optimization techniques. CodeCombat 
 aims to foster a competitive coding mindset\, encourage learning through p
 roblem-solving\, and strengthen the culture of competitive programming amo
 ng students.&lt;/p&gt;
END:VEVENT
END:VCALENDAR

