BEGIN:VCALENDAR
VERSION:2.0
PRODID:IEEE vTools.Events//EN
CALSCALE:GREGORIAN
BEGIN:VTIMEZONE
TZID:Asia/Kolkata
BEGIN:STANDARD
DTSTART:19451014T230000
TZOFFSETFROM:+0630
TZOFFSETTO:+0530
TZNAME:IST
END:STANDARD
END:VTIMEZONE
BEGIN:VEVENT
DTSTAMP:20260216T071337Z
UID:DE6C601E-9771-46AA-8480-E9FC85F2F715
DTSTART;TZID=Asia/Kolkata:20260216T110000
DTEND;TZID=Asia/Kolkata:20260216T121500
DESCRIPTION:IEEE EDS SBC IIT Patna celebrating IEEE Foundation day on 16th 
 Feb\, 2026\n\nSpeaker(s): \, Miss Ankita Kumari\n\nVirtual: https://events
 .vtools.ieee.org/m/538774
LOCATION:Virtual: https://events.vtools.ieee.org/m/538774
ORGANIZER:ieee.eds@iitp.ac.in
SEQUENCE:11
SUMMARY:IEEE Foundation Day
URL;VALUE=URI:https://events.vtools.ieee.org/m/538774
X-ALT-DESC:Description: &lt;br /&gt;&lt;p&gt;IEEE EDS SBC IIT Patna celebrating IEEE Fo
 undation day on 16th Feb\, 2026&lt;/p&gt;
END:VEVENT
END:VCALENDAR

