BEGIN:VCALENDAR
VERSION:2.0
PRODID:IEEE vTools.Events//EN
CALSCALE:GREGORIAN
BEGIN:VTIMEZONE
TZID:America/New_York
BEGIN:DAYLIGHT
DTSTART:20260308T030000
TZOFFSETFROM:-0500
TZOFFSETTO:-0400
RRULE:FREQ=YEARLY;BYDAY=2SU;BYMONTH=3
TZNAME:EDT
END:DAYLIGHT
BEGIN:STANDARD
DTSTART:20251102T010000
TZOFFSETFROM:-0400
TZOFFSETTO:-0500
RRULE:FREQ=YEARLY;BYDAY=1SU;BYMONTH=11
TZNAME:EST
END:STANDARD
END:VTIMEZONE
BEGIN:VEVENT
DTSTAMP:20260217T020539Z
UID:35B6AF7D-3A06-436C-BF8C-0A59CA92E85C
DTSTART;TZID=America/New_York:20260213T093000
DTEND;TZID=America/New_York:20260213T110000
DESCRIPTION:Starlink and alike have attracted a lot of attention recently\,
  however\, the inner working of these low-earth-orbit (LEO) satellite netw
 orks is still largely unknown. This talk presents an ongoing measurement c
 ampaign focusing on Starlink and OneWeb\, including their satellite access
  networks\, gateway and point-of-presence structures\, and backbone and In
 ternet connections\, revealing insights applicable to other LEO satellite 
 providers. It also highlights the challenges\nand research opportunities o
 f the integrated space-air-ground-aqua network envisioned by 6G mobile com
 munication systems and calls for a concerted community effort from practic
 al and experimentation aspects.\n\nSpeaker(s): Jianping\, \n\nRoom: EIT 41
 52\, Bldg: Centre for Environmental &amp;. Information Technology\, University
  of Waterloo\, Waterloo\, Ontario\, Canada
LOCATION:Room: EIT 4152\, Bldg: Centre for Environmental &amp;. Information Tec
 hnology\, University of Waterloo\, Waterloo\, Ontario\, Canada
ORGANIZER:leil@uoguelph.ca
SEQUENCE:14
SUMMARY:Measuring Low-Earth Orbit Satellite Networks
URL;VALUE=URI:https://events.vtools.ieee.org/m/538832
X-ALT-DESC:Description: &lt;br /&gt;&lt;p&gt;&lt;span style=&quot;font-size: 11.0pt\; font-fami
 ly: &#39;Aptos&#39;\,sans-serif\; mso-fareast-font-family: &#39;Times New Roman&#39;\; mso
 -bidi-font-family: Aptos\; mso-ansi-language: EN-AU\; mso-fareast-language
 : ZH-CN\; mso-bidi-language: AR-SA\;&quot;&gt;Starlink and alike have attracted a 
 lot of attention recently\,&amp;nbsp\;however\, the inner working of these low
 -earth-orbit (LEO) satellite&amp;nbsp\;networks is still largely unknown. This
  talk presents an ongoing&amp;nbsp\;measurement campaign focusing on Starlink 
 and OneWeb\, including their&amp;nbsp\;satellite access networks\, gateway and
  point-of-presence structures\,&amp;nbsp\;and backbone and Internet connection
 s\, revealing insights applicable&amp;nbsp\;to other LEO satellite providers. 
 It also highlights the challenges&lt;br&gt;and research opportunities of the int
 egrated space-air-ground-aqua&amp;nbsp\;network envisioned by 6G mobile commun
 ication systems and calls for a&amp;nbsp\;concerted community effort from prac
 tical and experimentation aspects.&lt;br style=&quot;mso-special-character: line-b
 reak\;&quot;&gt;&lt;!-- [if !supportLineBreakNewLine]--&gt;&lt;br style=&quot;mso-special-charac
 ter: line-break\;&quot;&gt;&lt;!--[endif]--&gt;&lt;/span&gt;&lt;/p&gt;
END:VEVENT
END:VCALENDAR

