BEGIN:VCALENDAR
VERSION:2.0
PRODID:IEEE vTools.Events//EN
CALSCALE:GREGORIAN
BEGIN:VTIMEZONE
TZID:America/New_York
BEGIN:DAYLIGHT
DTSTART:20260308T030000
TZOFFSETFROM:-0500
TZOFFSETTO:-0400
RRULE:FREQ=YEARLY;BYDAY=2SU;BYMONTH=3
TZNAME:EDT
END:DAYLIGHT
BEGIN:STANDARD
DTSTART:20251102T010000
TZOFFSETFROM:-0400
TZOFFSETTO:-0500
RRULE:FREQ=YEARLY;BYDAY=1SU;BYMONTH=11
TZNAME:EST
END:STANDARD
END:VTIMEZONE
BEGIN:VEVENT
DTSTAMP:20260219T193046Z
UID:AC822D5A-EA91-4F50-95CF-025C54A46C3D
DTSTART;TZID=America/New_York:20260219T113000
DTEND;TZID=America/New_York:20260219T133000
DESCRIPTION:Come have lunch with us and enjoy traditional Brazilian savory 
 pastries including Coxinhas\, Pastels(Empanadas)\, Kibbeh\, and on Thursda
 y\, the special is their Picanha Steak Sandwich. And leave room for their 
 unique desserts. Take some home too.\n\nThis is a counter service restaura
 nt. There are a group of tables to the right inside the door. Let&#39;s try to
  locate there.\n\nSeparate checks. You might want to team up with someone 
 so that you can try more items.\n\nSweetest Brazilian Bakery\, 471 Wards C
 orner\, Loveland\, Ohio\, United States\, 45140
LOCATION:Sweetest Brazilian Bakery\, 471 Wards Corner\, Loveland\, Ohio\, U
 nited States\, 45140
ORGANIZER:brian.resnick@ieee.org
SEQUENCE:44
SUMMARY:Foodie Outing to Sweetest Brazilian Bakery
URL;VALUE=URI:https://events.vtools.ieee.org/m/538859
X-ALT-DESC:Description: &lt;br /&gt;&lt;p&gt;Come have lunch with us and enjoy traditio
 nal Brazilian savory pastries including Coxinhas\, Pastels(Empanadas)\, Ki
 bbeh\, and on Thursday\, the special is their Picanha Steak Sandwich. And 
 leave room for their unique desserts. Take some home too.&lt;/p&gt;\n&lt;p&gt;This is 
 a counter service restaurant. There are a group of tables to the right ins
 ide the door. Let&#39;s try to locate there.&amp;nbsp\;&lt;/p&gt;\n&lt;p&gt;Separate checks. Y
 ou might want to team up with someone so that you can try more items.&lt;/p&gt;
END:VEVENT
END:VCALENDAR

