BEGIN:VCALENDAR
VERSION:2.0
PRODID:IEEE vTools.Events//EN
CALSCALE:GREGORIAN
BEGIN:VTIMEZONE
TZID:America/New_York
BEGIN:DAYLIGHT
DTSTART:20260308T030000
TZOFFSETFROM:-0500
TZOFFSETTO:-0400
RRULE:FREQ=YEARLY;BYDAY=2SU;BYMONTH=3
TZNAME:EDT
END:DAYLIGHT
BEGIN:STANDARD
DTSTART:20251102T010000
TZOFFSETFROM:-0400
TZOFFSETTO:-0500
RRULE:FREQ=YEARLY;BYDAY=1SU;BYMONTH=11
TZNAME:EST
END:STANDARD
END:VTIMEZONE
BEGIN:VEVENT
DTSTAMP:20260215T223028Z
UID:25B76811-C7B2-415A-8575-12911D5E961B
DTSTART;TZID=America/New_York:20260212T153000
DTEND;TZID=America/New_York:20260212T163000
DESCRIPTION:NFC Card Workshop Part 2 is the continuation of our Design Your
  Own NFC Card event. In this session\, participants will pick up their man
 ufactured NFC cards and learn how to program and configure them for real-w
 orld use. We will walk through how to write data to the card and set it up
  to instantly share things like a LinkedIn profile\, portfolio\, resume\, 
 or custom link with a simple tap.\n\nThis session is hands-on and practica
 l\, focused on turning your design into a finished\, functional product. A
  short social will follow once cards are programmed and tested.\n\nThis ev
 ent is intended for those who participated in Part 1.\n\nRoom: 1410\, Bldg
 : ACEB\, 1151 Richmond St\, London\, Alberta\, Canada\, N6A 3K7
LOCATION:Room: 1410\, Bldg: ACEB\, 1151 Richmond St\, London\, Alberta\, Ca
 nada\, N6A 3K7
ORGANIZER:rjohn255@uwo.ca
SEQUENCE:5
SUMMARY:NFC Card Workshop Pt.2
URL;VALUE=URI:https://events.vtools.ieee.org/m/538864
X-ALT-DESC:Description: &lt;br /&gt;&lt;p data-start=&quot;115&quot; data-end=&quot;503&quot;&gt;NFC Card W
 orkshop Part 2 is the continuation of our Design Your Own NFC Card event. 
 In this session\, participants will pick up their manufactured NFC cards a
 nd learn how to program and configure them for real-world use. We will wal
 k through how to write data to the card and set it up to instantly share t
 hings like a LinkedIn profile\, portfolio\, resume\, or custom link with a
  simple tap.&lt;/p&gt;\n&lt;p data-start=&quot;505&quot; data-end=&quot;677&quot;&gt;This session is hands
 -on and practical\, focused on turning your design into a finished\, funct
 ional product. A short social will follow once cards are programmed and te
 sted.&lt;/p&gt;\n&lt;p data-start=&quot;679&quot; data-end=&quot;739&quot;&gt;This event is intended for t
 hose who participated in Part 1.&lt;/p&gt;
END:VEVENT
END:VCALENDAR

