BEGIN:VCALENDAR
VERSION:2.0
PRODID:IEEE vTools.Events//EN
CALSCALE:GREGORIAN
BEGIN:VTIMEZONE
TZID:Europe/Istanbul
BEGIN:DAYLIGHT
DTSTART:20380119T061407
TZOFFSETFROM:+0300
TZOFFSETTO:+0300
RRULE:FREQ=YEARLY;BYDAY=3TU;BYMONTH=1
TZNAME:+03
END:DAYLIGHT
BEGIN:STANDARD
DTSTART:20160907T000000
TZOFFSETFROM:+0300
TZOFFSETTO:+0300
RRULE:FREQ=YEARLY;BYDAY=1WE;BYMONTH=9
TZNAME:+03
END:STANDARD
END:VTIMEZONE
BEGIN:VEVENT
DTSTAMP:20260218T093648Z
UID:DE8E9A81-BA6C-47B4-A678-7F9FB1D0EB65
DTSTART;TZID=Europe/Istanbul:20260218T100000
DTEND;TZID=Europe/Istanbul:20260218T113000
DESCRIPTION:This EXCom meeting of the IEEE Industrial Electronics Society (
 IES) Jordan Section will focus on strategic discussions regarding potentia
 l collaboration agreements with industrial partners.\n\nThe objective of t
 his session is to align the Section’s strategic goals with industry need
 s and to establish a clear roadmap for sustainable and impactful partnersh
 ips.\n\nAgenda: \nAgenda:\nOpen discussion on potential collaboration agre
 ements between IES Jordan Section and Industrial partners.\n\nVirtual: htt
 ps://events.vtools.ieee.org/m/538866
LOCATION:Virtual: https://events.vtools.ieee.org/m/538866
ORGANIZER:Iman.Hindi@htu.edu.jo
SEQUENCE:1
SUMMARY:IEEE-IES OFFICERS MEETING NO.2 2026
URL;VALUE=URI:https://events.vtools.ieee.org/m/538866
X-ALT-DESC:Description: &lt;br /&gt;&lt;p data-start=&quot;240&quot; data-end=&quot;429&quot;&gt;This EXCom
  meeting of the IEEE Industrial Electronics Society (IES) Jordan Section w
 ill focus on strategic discussions regarding potential collaboration agree
 ments with industrial partners.&lt;/p&gt;\n&lt;p data-start=&quot;859&quot; data-end=&quot;1027&quot;&gt;T
 he objective of this session is to align the Section&amp;rsquo\;s strategic go
 als with industry needs and to establish a clear roadmap for sustainable a
 nd impactful partnerships.&lt;/p&gt;&lt;br /&gt;&lt;br /&gt;Agenda: &lt;br /&gt;&lt;p&gt;Agenda:&lt;br&gt;Open
  discussion on potential collaboration agreements between IES Jordan Secti
 on and Industrial partners.&lt;/p&gt;
END:VEVENT
END:VCALENDAR

