BEGIN:VCALENDAR
VERSION:2.0
PRODID:IEEE vTools.Events//EN
CALSCALE:GREGORIAN
BEGIN:VTIMEZONE
TZID:Asia/Kolkata
BEGIN:STANDARD
DTSTART:19451014T230000
TZOFFSETFROM:+0630
TZOFFSETTO:+0530
TZNAME:IST
END:STANDARD
END:VTIMEZONE
BEGIN:VEVENT
DTSTAMP:20260314T110831Z
UID:8495D928-74B0-4B9E-8059-C0FA7B1E62A4
DTSTART;TZID=Asia/Kolkata:20260219T063200
DTEND;TZID=Asia/Kolkata:20260221T063400
DESCRIPTION:1 International Conference on “Artificial Intelligence &amp; Mach
 ine Learning in Communication and Power Systems” AIMLCPS-2026 (IEEE Conf
 erence record number 68702) is being organized by the Department of Electr
 ical Engineering and Department of Electronics &amp; Telecommunication\, Paral
 a Maharaja Engineering College\, Berhampur\, Odisha\, India\, during 20 
 – 21 February 2026 in hybrid mode. The\nobjective is to provide a compre
 hensive platform for academicians\, scientists\, researchers\, engineers\,
  and students to stay updated on recent trends and likely future research 
 directions in Electronics and Electrical Engineering at the intersection o
 f AI/ML. The conference aims to foster the theme through keynote addresses
 \, invited talks\, and oral presentations of research articles in the most
  relevant areas related to the conference theme. The conference will also 
 provide an international platform for delegates to share research ideas\, 
 exchange scientific thoughts and open possibilities of new collaborations 
 on research problems. Papers submitted to AIMLCPS-2026 should contain orig
 inal\nresearch/study and should not have been published or submitted for p
 ublication elsewhere. Accepted and presented papers will be submitted for 
 inclusion into IEEE Xplore subject to meeting IEEE scope and quality requi
 rements. The IEEE antiplagiarism policy is applicable to all submissions. 
 At least one author of each accepted paper must register for the conferenc
 e and present his/her paper.\n\nCo-sponsored by: IEEE Bhubaneswar Section 
 &amp; IEEE Students Branch-PMEC Berhampur\n\nSpeaker(s): SPEAKER\, SPEAKER\, S
 peaker \, Speaker \, Speaker \, Speaker\, Speaker \, Speaker \n\nAgenda: \
 nConference Agenda\n\nDAY 0: February 19\, 2026 (Thursday)\n\n09:00 AM - 1
 0:30 AM\nKeynote Talk 1\nProf. Milos Manic\, Virginia Commonwealth Univers
 ity\nChair: Dr. Chinmaya Panigrahi\nLocation: Seminar Hall - 110 (Hybrid)\
 n[Google Meet Link](https://events.vtools.ieee.org/tego_/event/edit/meet.g
 oogle.com/xmt-fkzz-vic)\n\n11:30 AM - 01:00 PM\nTechnical Presentation - S
 ession 1\nChair: Dr. Preeti Ranjan Sahu &amp; Dr. Ritanjali Behera\nLocation: 
 Seminar Hall - 216 &amp; 329\n[Google Meet Link 1](https://events.vtools.ieee.
 org/tego_/event/edit/meet.google.com/hia-qmvh-gut) | [Google Meet Link 2](
 https://events.vtools.ieee.org/tego_/event/edit/meet.google.com/ocq-hste-e
 pv)\n\n01:00 PM - 02:00 PM\nLunch Break\n\n02:00 PM - 05:15 PM\nTechnical 
 Presentations - Sessions 3 to 8\nChairs: Various\nLocation: Seminar Hall -
  216\, 329\, &amp; 429\n[Google Meet Links for Sessions](https://events.vtools
 .ieee.org/tego_/event/edit/meet.google.com/hia-qmvh-gut) | [Google Meet Li
 nks for Sessions](https://events.vtools.ieee.org/tego_/event/edit/meet.goo
 gle.com/rzv-dwdn-ksr) | [Google Meet Links for Sessions](https://events.vt
 ools.ieee.org/tego_/event/edit/meet.google.com/ocq-hste-epv)\n------------
 ---------------------------------------------------\n\nDAY 1: February 20\
 , 2026 (Friday)\n\n09:00 AM - 10:00 AM\nKeynote Talk 2\nProf. Nand Kishor\
 , Østfold University College\nChair: Dr. Prakash Kumar Ray\nLocation: Sem
 inar Hall - 110 (Hybrid)\n[Google Meet Link](https://events.vtools.ieee.or
 g/tego_/event/edit/meet.google.com/xpo-frjd-kxg)\n\n10:00 AM - 11:15 AM\nI
 nauguration\nPatron: Prof. Chittaranjan Mohanty\nLocation: Seminar Hall - 
 110 (In Person)\n[Google Meet Link](https://events.vtools.ieee.org/tego_/e
 vent/edit/meet.google.com/xpo-frjd-kxg)\n\n11:30 AM - 01:30 PM\nKeynote Ta
 lks 3 &amp; 4\nProf. Sanjib Kumar Panda &amp; Prof. Subhransu Ranjan Samantaray\nC
 hair: Various\nLocation: Seminar Hall - 110 (In Person)\n[Google Meet Link
 ](https://events.vtools.ieee.org/tego_/event/edit/meet.google.com/xpo-frjd
 -kxg)\n\n01:30 PM - 02:30 PM\nLunch Break\n\n02:30 PM - 05:00 PM\nKeynote 
 Talk 5 &amp; Technical Presentations - Sessions 9 to 11\nChairs: Various\nLoca
 tion: Seminar Hall - 216\, 329\, &amp; 429\n[Google Meet Links for Sessions](h
 ttps://events.vtools.ieee.org/tego_/event/edit/meet.google.com/hia-qmvh-gu
 t) | [Google Meet Links for Sessions](https://events.vtools.ieee.org/tego_
 /event/edit/meet.google.com/rzv-dwdn-ksr) | [Google Meet Links for Session
 s](https://events.vtools.ieee.org/tego_/event/edit/meet.google.com/ocq-hst
 e-epv)\n---------------------------------------------------------------\n\
 nDAY 2: February 21\, 2026 (Saturday)\n\n09:00 AM - 10:00 AM\nKeynote Talk
 s 6 &amp; 7\nMr. Jugal Kishore Sahu &amp; Mr. Shahbaz Sarik\nChair: Dr. Suryalok D
 ash\nLocation: Seminar Hall - 216 &amp; 110 (Online)\n[Google Meet Links](http
 s://events.vtools.ieee.org/tego_/event/edit/meet.google.com/xpo-frjd-kxg) 
 | [Google Meet Links](https://events.vtools.ieee.org/tego_/event/edit/meet
 .google.com/rzv-dwdn-ksr)\n\n10:00 AM - 12:00 PM\nKeynote Talks 8\, 9 &amp; 10
 \nProf. Bidyadhar Subudhi\, Prof. Kailash Chandra Ray\, Prof. Debiprasad P
 riyabrata Acharya\nChair: Various\nLocation: Seminar Hall - 110 (In Person
 )\n[Google Meet Link](https://events.vtools.ieee.org/tego_/event/edit/meet
 .google.com/xpo-frjd-kxg)\n\n12:00 PM - 01:30 PM\nTechnical Presentations 
 - Sessions 15 to 17\nChairs: Various\nLocation: Seminar Hall - 216\, 329\,
  &amp; 429\n[Google Meet Links for Sessions](https://events.vtools.ieee.org/te
 go_/event/edit/meet.google.com/hia-qmvh-gut) | [Google Meet Links for Sess
 ions](https://events.vtools.ieee.org/tego_/event/edit/meet.google.com/rzv-
 dwdn-ksr) | [Google Meet Links for Sessions](https://events.vtools.ieee.or
 g/tego_/event/edit/meet.google.com/ocq-hste-epv)\n\n01:30 PM - 02:30 PM\nL
 unch Break\n\n02:30 PM - 05:00 PM\nTechnical Presentations - Sessions 18 t
 o 20\nChairs: Various\nLocation: Seminar Hall - 216\, 329\, &amp; 429\n[Google
  Meet Links for Sessions](https://events.vtools.ieee.org/tego_/event/edit/
 meet.google.com/hia-qmvh-gut) | [Google Meet Links for Sessions](https://e
 vents.vtools.ieee.org/tego_/event/edit/meet.google.com/rzv-dwdn-ksr) | [Go
 ogle Meet Links for Sessions](https://events.vtools.ieee.org/tego_/event/e
 dit/meet.google.com/ocq-hste-epv)\n\n04:00 PM - 05:00 PM\nValedictory\nPat
 ron: Prof. Chittaranjan Mohanty\nLocation: Seminar Hall - 110 (Hybrid)\n[G
 oogle Meet Link](https://events.vtools.ieee.org/tego_/event/edit/meet.goog
 le.com/xpo-frjd-kxg)\n\nRoom: 110  \, Bldg: PMEC Main Building \, PARALA M
 AHARAJA ENGINEERING COLLEGE \, MAIN BUILDING \, Berhampur \, Orissa\, Indi
 a\, 761003
LOCATION:Room: 110  \, Bldg: PMEC Main Building \, PARALA MAHARAJA ENGINEER
 ING COLLEGE \, MAIN BUILDING \, Berhampur \, Orissa\, India\, 761003
ORGANIZER:ieeesb@pmec.ac.in 
SEQUENCE:155
SUMMARY:1st International Conference on Artificial Intelligence &amp; Machine L
 earning in Communication and Power Systems- AIMLCPS 2026
URL;VALUE=URI:https://events.vtools.ieee.org/m/539059
X-ALT-DESC:Description: &lt;br /&gt;&lt;p&gt;1 International Conference on &amp;ldquo\;Arti
 ficial Intelligence &amp;amp\;&amp;nbsp\;Machine Learning in Communication and Pow
 er Systems&amp;rdquo\;&amp;nbsp\;AIMLCPS-2026 (IEEE Conference record number 68702
 ) is&amp;nbsp\;being organized by the Department of Electrical Engineering&amp;nbs
 p\;and Department of Electronics &amp;amp\; Telecommunication\, Parala&amp;nbsp\;M
 aharaja Engineering College\, Berhampur\, Odisha\, India\,&amp;nbsp\;during 20
  &amp;ndash\; 21 February 2026 in hybrid mode. The&lt;br&gt;objective is to provide 
 a comprehensive platform for&amp;nbsp\;academicians\, scientists\, researchers
 \, engineers\, and&amp;nbsp\;students to stay updated on recent trends and lik
 ely future&amp;nbsp\;research directions in Electronics and Electrical Enginee
 ring&amp;nbsp\;at the intersection of AI/ML. The conference aims to foster the
 &amp;nbsp\;theme through keynote addresses\, invited talks\, and oral&amp;nbsp\;pr
 esentations of research articles in the most relevant areas&amp;nbsp\;related 
 to the conference theme. The conference will also&amp;nbsp\;provide an interna
 tional platform for delegates to share&amp;nbsp\;research ideas\, exchange sci
 entific thoughts and open&amp;nbsp\;possibilities of new collaborations on res
 earch problems.&amp;nbsp\;Papers submitted to AIMLCPS-2026 should contain orig
 inal&lt;br&gt;research/study and should not have been published or&amp;nbsp\;submitt
 ed for publication elsewhere. Accepted and presented&amp;nbsp\;papers will be 
 submitted for inclusion into IEEE Xplore subject&amp;nbsp\;to meeting IEEE sco
 pe and quality requirements. The IEEE&amp;nbsp\;antiplagiarism policy is appli
 cable to all submissions. At least&amp;nbsp\;one author of each accepted paper
  must register for the&amp;nbsp\;conference and present his/her paper.&lt;/p&gt;&lt;br 
 /&gt;&lt;br /&gt;Agenda: &lt;br /&gt;&lt;h2&gt;Conference Agenda&lt;/h2&gt;\n&lt;h3&gt;&lt;br&gt;DAY 0: February 
 19\, 2026 (Thursday)&lt;/h3&gt;\n&lt;p&gt;&lt;strong&gt;09:00 AM - 10:30 AM&lt;/strong&gt;&lt;br&gt;&lt;str
 ong&gt;Keynote Talk 1&lt;/strong&gt;&lt;br&gt;&lt;em&gt;Prof. Milos Manic\, Virginia Commonweal
 th University&lt;/em&gt;&lt;br&gt;&lt;em&gt;Chair: Dr. Chinmaya Panigrahi&lt;/em&gt;&lt;br&gt;&lt;em&gt;Locati
 on: Seminar Hall - 110 (Hybrid)&lt;/em&gt;&lt;br&gt;&lt;a class=&quot;&quot; href=&quot;https://events.v
 tools.ieee.org/tego_/event/edit/meet.google.com/xmt-fkzz-vic&quot; target=&quot;_bla
 nk&quot; rel=&quot;noopener noreferrer&quot;&gt;Google Meet Link&lt;/a&gt;&lt;/p&gt;\n&lt;p&gt;&lt;strong&gt;11:30 A
 M - 01:00 PM&lt;/strong&gt;&lt;br&gt;&lt;strong&gt;Technical Presentation - Session 1&lt;/stron
 g&gt;&lt;br&gt;&lt;em&gt;Chair: Dr. Preeti Ranjan Sahu &amp;amp\; Dr. Ritanjali Behera&lt;/em&gt;&lt;b
 r&gt;&lt;em&gt;Location: Seminar Hall - 216 &amp;amp\; 329&lt;/em&gt;&lt;br&gt;&lt;a class=&quot;&quot; href=&quot;ht
 tps://events.vtools.ieee.org/tego_/event/edit/meet.google.com/hia-qmvh-gut
 &quot; target=&quot;_blank&quot; rel=&quot;noopener noreferrer&quot;&gt;Google Meet Link 1&lt;/a&gt; | &lt;a cl
 ass=&quot;&quot; href=&quot;https://events.vtools.ieee.org/tego_/event/edit/meet.google.c
 om/ocq-hste-epv&quot; target=&quot;_blank&quot; rel=&quot;noopener noreferrer&quot;&gt;Google Meet Lin
 k 2&lt;/a&gt;&lt;/p&gt;\n&lt;p&gt;&lt;strong&gt;01:00 PM - 02:00 PM&lt;/strong&gt;&lt;br&gt;&lt;strong&gt;Lunch Brea
 k&lt;/strong&gt;&lt;/p&gt;\n&lt;p&gt;&lt;strong&gt;02:00 PM - 05:15 PM&lt;/strong&gt;&lt;br&gt;&lt;strong&gt;Technic
 al Presentations - Sessions 3 to 8&lt;/strong&gt;&lt;br&gt;&lt;em&gt;Chairs: Various&lt;/em&gt;&lt;br
 &gt;&lt;em&gt;Location: Seminar Hall - 216\, 329\, &amp;amp\; 429&lt;/em&gt;&lt;br&gt;&lt;a class=&quot;&quot; h
 ref=&quot;https://events.vtools.ieee.org/tego_/event/edit/meet.google.com/hia-q
 mvh-gut&quot; target=&quot;_blank&quot; rel=&quot;noopener noreferrer&quot;&gt;Google Meet Links for S
 essions&lt;/a&gt; | &lt;a class=&quot;&quot; href=&quot;https://events.vtools.ieee.org/tego_/event
 /edit/meet.google.com/rzv-dwdn-ksr&quot; target=&quot;_blank&quot; rel=&quot;noopener noreferr
 er&quot;&gt;Google Meet Links for Sessions&lt;/a&gt; | &lt;a class=&quot;&quot; href=&quot;https://events.
 vtools.ieee.org/tego_/event/edit/meet.google.com/ocq-hste-epv&quot; target=&quot;_bl
 ank&quot; rel=&quot;noopener noreferrer&quot;&gt;Google Meet Links for Sessions&lt;/a&gt;&lt;/p&gt;\n&lt;hr
 &gt;\n&lt;h3&gt;DAY 1: February 20\, 2026 (Friday)&lt;/h3&gt;\n&lt;p&gt;&lt;strong&gt;09:00 AM - 10:0
 0 AM&lt;/strong&gt;&lt;br&gt;&lt;strong&gt;Keynote Talk 2&lt;/strong&gt;&lt;br&gt;&lt;em&gt;Prof. Nand Kishor\
 , &amp;Oslash\;stfold University College&lt;/em&gt;&lt;br&gt;&lt;em&gt;Chair: Dr. Prakash Kumar 
 Ray&lt;/em&gt;&lt;br&gt;&lt;em&gt;Location: Seminar Hall - 110 (Hybrid)&lt;/em&gt;&lt;br&gt;&lt;a class=&quot;&quot; 
 href=&quot;https://events.vtools.ieee.org/tego_/event/edit/meet.google.com/xpo-
 frjd-kxg&quot; target=&quot;_blank&quot; rel=&quot;noopener noreferrer&quot;&gt;Google Meet Link&lt;/a&gt;&lt;/
 p&gt;\n&lt;p&gt;&lt;strong&gt;10:00 AM - 11:15 AM&lt;/strong&gt;&lt;br&gt;&lt;strong&gt;Inauguration&lt;/stron
 g&gt;&lt;br&gt;&lt;em&gt;Patron: Prof. Chittaranjan Mohanty&lt;/em&gt;&lt;br&gt;&lt;em&gt;Location: Seminar
  Hall - 110 (In Person)&lt;/em&gt;&lt;br&gt;&lt;a class=&quot;&quot; href=&quot;https://events.vtools.ie
 ee.org/tego_/event/edit/meet.google.com/xpo-frjd-kxg&quot; target=&quot;_blank&quot; rel=
 &quot;noopener noreferrer&quot;&gt;Google Meet Link&lt;/a&gt;&lt;/p&gt;\n&lt;p&gt;&lt;strong&gt;11:30 AM - 01:3
 0 PM&lt;/strong&gt;&lt;br&gt;&lt;strong&gt;Keynote Talks 3 &amp;amp\; 4&lt;/strong&gt;&lt;br&gt;&lt;em&gt;Prof. Sa
 njib Kumar Panda &amp;amp\; Prof. Subhransu Ranjan Samantaray&lt;/em&gt;&lt;br&gt;&lt;em&gt;Chai
 r: Various&lt;/em&gt;&lt;br&gt;&lt;em&gt;Location: Seminar Hall - 110 (In Person)&lt;/em&gt;&lt;br&gt;&lt;a
  class=&quot;&quot; href=&quot;https://events.vtools.ieee.org/tego_/event/edit/meet.googl
 e.com/xpo-frjd-kxg&quot; target=&quot;_blank&quot; rel=&quot;noopener noreferrer&quot;&gt;Google Meet 
 Link&lt;/a&gt;&lt;/p&gt;\n&lt;p&gt;&lt;strong&gt;01:30 PM - 02:30 PM&lt;/strong&gt;&lt;br&gt;&lt;strong&gt;Lunch Bre
 ak&lt;/strong&gt;&lt;/p&gt;\n&lt;p&gt;&lt;strong&gt;02:30 PM - 05:00 PM&lt;/strong&gt;&lt;br&gt;&lt;strong&gt;Keynot
 e Talk 5 &amp;amp\; Technical Presentations - Sessions 9 to 11&lt;/strong&gt;&lt;br&gt;&lt;em
 &gt;Chairs: Various&lt;/em&gt;&lt;br&gt;&lt;em&gt;Location: Seminar Hall - 216\, 329\, &amp;amp\; 4
 29&lt;/em&gt;&lt;br&gt;&lt;a class=&quot;&quot; href=&quot;https://events.vtools.ieee.org/tego_/event/ed
 it/meet.google.com/hia-qmvh-gut&quot; target=&quot;_blank&quot; rel=&quot;noopener noreferrer&quot;
 &gt;Google Meet Links for Sessions&lt;/a&gt; | &lt;a class=&quot;&quot; href=&quot;https://events.vto
 ols.ieee.org/tego_/event/edit/meet.google.com/rzv-dwdn-ksr&quot; target=&quot;_blank
 &quot; rel=&quot;noopener noreferrer&quot;&gt;Google Meet Links for Sessions&lt;/a&gt; | &lt;a class=
 &quot;&quot; href=&quot;https://events.vtools.ieee.org/tego_/event/edit/meet.google.com/o
 cq-hste-epv&quot; target=&quot;_blank&quot; rel=&quot;noopener noreferrer&quot;&gt;Google Meet Links f
 or Sessions&lt;/a&gt;&lt;/p&gt;\n&lt;hr&gt;\n&lt;h3&gt;DAY 2: February 21\, 2026 (Saturday)&lt;/h3&gt;\n
 &lt;p&gt;&lt;strong&gt;09:00 AM - 10:00 AM&lt;/strong&gt;&lt;br&gt;&lt;strong&gt;Keynote Talks 6 &amp;amp\; 
 7&lt;/strong&gt;&lt;br&gt;&lt;em&gt;Mr. Jugal Kishore Sahu &amp;amp\; Mr. Shahbaz Sarik&lt;/em&gt;&lt;br&gt;
 &lt;em&gt;Chair: Dr. Suryalok Dash&lt;/em&gt;&lt;br&gt;&lt;em&gt;Location: Seminar Hall - 216 &amp;amp
 \; 110 (Online)&lt;/em&gt;&lt;br&gt;&lt;a class=&quot;&quot; href=&quot;https://events.vtools.ieee.org/t
 ego_/event/edit/meet.google.com/xpo-frjd-kxg&quot; target=&quot;_blank&quot; rel=&quot;noopene
 r noreferrer&quot;&gt;Google Meet Links&lt;/a&gt; | &lt;a class=&quot;&quot; href=&quot;https://events.vto
 ols.ieee.org/tego_/event/edit/meet.google.com/rzv-dwdn-ksr&quot; target=&quot;_blank
 &quot; rel=&quot;noopener noreferrer&quot;&gt;Google Meet Links&lt;/a&gt;&lt;/p&gt;\n&lt;p&gt;&lt;strong&gt;10:00 AM
  - 12:00 PM&lt;/strong&gt;&lt;br&gt;&lt;strong&gt;Keynote Talks 8\, 9 &amp;amp\; 10&lt;/strong&gt;&lt;br&gt;
 &lt;em&gt;Prof. Bidyadhar Subudhi\, Prof. Kailash Chandra Ray\, Prof. Debiprasad
  Priyabrata Acharya&lt;/em&gt;&lt;br&gt;&lt;em&gt;Chair: Various&lt;/em&gt;&lt;br&gt;&lt;em&gt;Location: Semin
 ar Hall - 110 (In Person)&lt;/em&gt;&lt;br&gt;&lt;a class=&quot;&quot; href=&quot;https://events.vtools.
 ieee.org/tego_/event/edit/meet.google.com/xpo-frjd-kxg&quot; target=&quot;_blank&quot; re
 l=&quot;noopener noreferrer&quot;&gt;Google Meet Link&lt;/a&gt;&lt;/p&gt;\n&lt;p&gt;&lt;strong&gt;12:00 PM - 01
 :30 PM&lt;/strong&gt;&lt;br&gt;&lt;strong&gt;Technical Presentations - Sessions 15 to 17&lt;/st
 rong&gt;&lt;br&gt;&lt;em&gt;Chairs: Various&lt;/em&gt;&lt;br&gt;&lt;em&gt;Location: Seminar Hall - 216\, 32
 9\, &amp;amp\; 429&lt;/em&gt;&lt;br&gt;&lt;a class=&quot;&quot; href=&quot;https://events.vtools.ieee.org/te
 go_/event/edit/meet.google.com/hia-qmvh-gut&quot; target=&quot;_blank&quot; rel=&quot;noopener
  noreferrer&quot;&gt;Google Meet Links for Sessions&lt;/a&gt; | &lt;a class=&quot;&quot; href=&quot;https:
 //events.vtools.ieee.org/tego_/event/edit/meet.google.com/rzv-dwdn-ksr&quot; ta
 rget=&quot;_blank&quot; rel=&quot;noopener noreferrer&quot;&gt;Google Meet Links for Sessions&lt;/a&gt;
  | &lt;a class=&quot;&quot; href=&quot;https://events.vtools.ieee.org/tego_/event/edit/meet.
 google.com/ocq-hste-epv&quot; target=&quot;_blank&quot; rel=&quot;noopener noreferrer&quot;&gt;Google 
 Meet Links for Sessions&lt;/a&gt;&lt;/p&gt;\n&lt;p&gt;&lt;strong&gt;01:30 PM - 02:30 PM&lt;/strong&gt;&lt;b
 r&gt;&lt;strong&gt;Lunch Break&lt;/strong&gt;&lt;/p&gt;\n&lt;p&gt;&lt;strong&gt;02:30 PM - 05:00 PM&lt;/strong
 &gt;&lt;br&gt;&lt;strong&gt;Technical Presentations - Sessions 18 to 20&lt;/strong&gt;&lt;br&gt;&lt;em&gt;C
 hairs: Various&lt;/em&gt;&lt;br&gt;&lt;em&gt;Location: Seminar Hall - 216\, 329\, &amp;amp\; 429
 &lt;/em&gt;&lt;br&gt;&lt;a class=&quot;&quot; href=&quot;https://events.vtools.ieee.org/tego_/event/edit
 /meet.google.com/hia-qmvh-gut&quot; target=&quot;_blank&quot; rel=&quot;noopener noreferrer&quot;&gt;G
 oogle Meet Links for Sessions&lt;/a&gt; | &lt;a class=&quot;&quot; href=&quot;https://events.vtool
 s.ieee.org/tego_/event/edit/meet.google.com/rzv-dwdn-ksr&quot; target=&quot;_blank&quot; 
 rel=&quot;noopener noreferrer&quot;&gt;Google Meet Links for Sessions&lt;/a&gt; | &lt;a class=&quot;&quot;
  href=&quot;https://events.vtools.ieee.org/tego_/event/edit/meet.google.com/ocq
 -hste-epv&quot; target=&quot;_blank&quot; rel=&quot;noopener noreferrer&quot;&gt;Google Meet Links for
  Sessions&lt;/a&gt;&lt;/p&gt;\n&lt;p&gt;&lt;strong&gt;04:00 PM - 05:00 PM&lt;/strong&gt;&lt;br&gt;&lt;strong&gt;Vale
 dictory&lt;/strong&gt;&lt;br&gt;&lt;em&gt;Patron: Prof. Chittaranjan Mohanty&lt;/em&gt;&lt;br&gt;&lt;em&gt;Loc
 ation: Seminar Hall - 110 (Hybrid)&lt;/em&gt;&lt;br&gt;&lt;a class=&quot;&quot; href=&quot;https://event
 s.vtools.ieee.org/tego_/event/edit/meet.google.com/xpo-frjd-kxg&quot; target=&quot;_
 blank&quot; rel=&quot;noopener noreferrer&quot;&gt;Google Meet Link&lt;/a&gt;&lt;/p&gt;
END:VEVENT
END:VCALENDAR

