BEGIN:VCALENDAR
VERSION:2.0
PRODID:IEEE vTools.Events//EN
CALSCALE:GREGORIAN
BEGIN:VTIMEZONE
TZID:America/Los_Angeles
BEGIN:DAYLIGHT
DTSTART:20260308T030000
TZOFFSETFROM:-0800
TZOFFSETTO:-0700
RRULE:FREQ=YEARLY;BYDAY=2SU;BYMONTH=3
TZNAME:PDT
END:DAYLIGHT
BEGIN:STANDARD
DTSTART:20251102T010000
TZOFFSETFROM:-0700
TZOFFSETTO:-0800
RRULE:FREQ=YEARLY;BYDAY=1SU;BYMONTH=11
TZNAME:PST
END:STANDARD
END:VTIMEZONE
BEGIN:VEVENT
DTSTAMP:20260309T021040Z
UID:749F8F96-B844-4FFA-B7AD-D4480DB8EB4D
DTSTART;TZID=America/Los_Angeles:20260219T140000
DTEND;TZID=America/Los_Angeles:20260219T143000
DESCRIPTION:Heading to the [Chiplet Summit](https://chipletsummit.com/) nex
 t week? We’d love to see you there!\n\nThe IEEE SCV Section will be at B
 ooth 321 from Feb 17–19. We are especially excited to host a Fireside Ch
 at in the Chiplet Summit Theater on February 19\, 2:00 pm featuring [Thoma
 s Coughlin](https://www.linkedin.com/in/thomas-coughlin-41a65/)\, 2024 IEE
 E President\, in conversation with our Section Chair\, [Avery Lu](https://
 www.linkedin.com/in/averylu/). Come say hello\, share your thoughts\, and 
 &quot;Meet a Past IEEE President!&quot;\n\nSanta Clara Convention Center\, 5001 Grea
 t America Pkwy\, Santa Clara\, CA 95054-1119\, SAnta Clara \, California\,
  United States\, 95054-1119
LOCATION:Santa Clara Convention Center\, 5001 Great America Pkwy\, Santa Cl
 ara\, CA 95054-1119\, SAnta Clara \, California\, United States\, 95054-11
 19
ORGANIZER:liliane.peters@ieee.org
SEQUENCE:39
SUMMARY:Meet a Past IEEE President
URL;VALUE=URI:https://events.vtools.ieee.org/m/539073
X-ALT-DESC:Description: &lt;br /&gt;&lt;p data-path-to-node=&quot;5\,0&quot;&gt;Heading to the &lt;s
 trong data-path-to-node=&quot;5\,0&quot; data-index-in-node=&quot;15&quot;&gt;&lt;!----&gt;&lt;!----&gt;&lt;!---
 -&gt;&lt;!----&gt;&lt;!----&gt;&lt;!----&gt;&lt;!----&gt;&lt;!----&gt;&lt;!----&gt;&lt;!----&gt;&lt;!----&gt;&lt;!----&gt;&lt;!----&gt;&lt;!
 ----&gt;&lt;!----&gt;&lt;!----&gt;&lt;!----&gt;&lt;!----&gt;&lt;!----&gt;&lt;!----&gt;&lt;!----&gt;&lt;!----&gt;&lt;!----&gt;&lt;!----
 &gt;&lt;a class=&quot;ng-star-inserted&quot; href=&quot;https://chipletsummit.com/&quot; target=&quot;_bl
 ank&quot; rel=&quot;noopener&quot; data-hveid=&quot;0&quot; data-ved=&quot;0CAAQ_4QMahcKEwjlseLZttWSAxUA
 AAAAHQAAAAAQbw&quot;&gt;Chiplet Summit&lt;/a&gt;&lt;!----&gt;&lt;!----&gt;&lt;!----&gt;&lt;!----&gt;&lt;!----&gt;&lt;!---
 -&gt;&lt;!----&gt;&lt;!----&gt;&lt;!----&gt;&lt;!----&gt;&lt;!----&gt;&lt;!----&gt;&lt;!----&gt;&lt;!----&gt;&lt;!----&gt;&lt;!----&gt;&lt;!
 ----&gt;&lt;!----&gt;&lt;!----&gt;&lt;!----&gt;&lt;!----&gt;&lt;!----&gt;&lt;!----&gt;&lt;!----&gt;&lt;!----&gt;&lt;!----&gt;&lt;!----
 &gt;&lt;!----&gt;&lt;!----&gt;&lt;!----&gt;&lt;!----&gt;&lt;!----&gt;&lt;!----&gt;&lt;!----&gt;&lt;!----&gt;&lt;!----&gt;&lt;!----&gt;&lt;!-
 ---&gt;&lt;!----&gt;&lt;!----&gt;&lt;/strong&gt; next week? We&amp;rsquo\;d love to see you there!&lt;
 /p&gt;\n&lt;p data-path-to-node=&quot;5\,1&quot;&gt;The &lt;strong data-path-to-node=&quot;5\,1&quot; data
 -index-in-node=&quot;4&quot;&gt;IEEE SCV Section&lt;/strong&gt; will be at &lt;strong data-path-
 to-node=&quot;5\,1&quot; data-index-in-node=&quot;32&quot;&gt;Booth 321&lt;/strong&gt; from Feb 17&amp;ndas
 h\;19. We are especially excited to host a Fireside Chat in the Chiplet Su
 mmit Theater on February 19\, 2:00 pm featuring &lt;a href=&quot;https://www.linke
 din.com/in/thomas-coughlin-41a65/&quot; target=&quot;_blank&quot; rel=&quot;noopener&quot;&gt;&lt;strong 
 data-path-to-node=&quot;5\,1&quot; data-index-in-node=&quot;118&quot;&gt;Thomas Coughlin&lt;/strong&gt;
 &lt;/a&gt;\, 2024 IEEE President\, in conversation with our Section Chair\, &lt;a h
 ref=&quot;https://www.linkedin.com/in/averylu/&quot;&gt;&lt;strong data-path-to-node=&quot;5\,1
 &quot; data-index-in-node=&quot;196&quot;&gt;Avery Lu&lt;/strong&gt;&lt;/a&gt;. Come say hello\, share y
 our thoughts\, and &quot;Meet a Past IEEE President!&quot;&lt;/p&gt;\n&lt;p data-path-to-node
 =&quot;5\,1&quot;&gt;&amp;nbsp\;&lt;/p&gt;
END:VEVENT
END:VCALENDAR

