BEGIN:VCALENDAR
VERSION:2.0
PRODID:IEEE vTools.Events//EN
CALSCALE:GREGORIAN
BEGIN:VTIMEZONE
TZID:Pacific/Honolulu
BEGIN:STANDARD
DTSTART:19470608T023000
TZOFFSETFROM:-1130
TZOFFSETTO:-1000
TZNAME:HST
END:STANDARD
END:VTIMEZONE
BEGIN:VEVENT
DTSTAMP:20260320T201243Z
UID:FC615B49-E83C-4B69-93C3-B8507D60A968
DTSTART;TZID=Pacific/Honolulu:20260318T183000
DTEND;TZID=Pacific/Honolulu:20260318T203000
DESCRIPTION:Our Favorite DIY Projects\n\nOur Birds of a Feather (BOF) meeti
 ngs are about sharing.\nCome and share (tell us about) your favorite hand-
 built project.\n\nWhat makes it special?\n\nShould our young engineers (or
  students) build it too?\n\nAre there &quot;simple&quot; and inexpensive projects th
 at really show off (visualize or experience) an engineering concept?\nSo m
 uch of modern technology is invisible. Miniaturized into invisibility.\nAr
 e there projects that bring concepts back into view?\n\nAre there projects
  we should bring to the young engineers?\n\nThis meeting is a no-host even
 t. Come and share a drink or a meal together.\n\nCo-sponsored by: com\n\nB
 ldg: Zippy&#39;s Vineyard\, 59 N Vineyard Blvd\, HI  96817\, Honolulu\, Hawaii
 \, United States\, 96817
LOCATION:Bldg: Zippy&#39;s Vineyard\, 59 N Vineyard Blvd\, HI  96817\, Honolulu
 \, Hawaii\, United States\, 96817
ORGANIZER:eugene.chang@ieee.org
SEQUENCE:22
SUMMARY:Birds of a Feather: Our Favorite DIY Projects
URL;VALUE=URI:https://events.vtools.ieee.org/m/539270
X-ALT-DESC:Description: &lt;br /&gt;&lt;p&gt;&lt;strong&gt;Our Favorite DIY Projects&lt;/strong&gt;
 &lt;/p&gt;\n&lt;p&gt;Our Birds of a Feather (BOF) meetings are about sharing.&lt;br&gt;Come 
 and share (tell us about) your favorite hand-built project.&lt;/p&gt;\n&lt;p&gt;What m
 akes it special?&lt;/p&gt;\n&lt;p&gt;Should our young engineers (or students) build it
  too?&lt;/p&gt;\n&lt;p&gt;Are there &quot;simple&quot; and inexpensive projects that really show
  off (visualize or experience) an engineering concept?&lt;br&gt;So much of moder
 n technology is invisible. Miniaturized into invisibility.&amp;nbsp\;&lt;br&gt;Are t
 here projects that bring concepts back into view?&lt;/p&gt;\n&lt;p&gt;Are there projec
 ts we should bring to the young engineers?&lt;/p&gt;\n&lt;p&gt;&amp;nbsp\;&lt;/p&gt;\n&lt;p&gt;&amp;nbsp\;
 &lt;/p&gt;\n&lt;p&gt;This meeting is a no-host event. Come and share a drink or a meal
  together.&lt;/p&gt;\n&lt;p&gt;&amp;nbsp\;&lt;/p&gt;
END:VEVENT
END:VCALENDAR

