BEGIN:VCALENDAR
VERSION:2.0
PRODID:IEEE vTools.Events//EN
CALSCALE:GREGORIAN
BEGIN:VTIMEZONE
TZID:Europe/Istanbul
BEGIN:DAYLIGHT
DTSTART:20380119T061407
TZOFFSETFROM:+0300
TZOFFSETTO:+0300
RRULE:FREQ=YEARLY;BYDAY=3TU;BYMONTH=1
TZNAME:+03
END:DAYLIGHT
BEGIN:STANDARD
DTSTART:20160907T000000
TZOFFSETFROM:+0300
TZOFFSETTO:+0300
RRULE:FREQ=YEARLY;BYDAY=1WE;BYMONTH=9
TZNAME:+03
END:STANDARD
END:VTIMEZONE
BEGIN:VEVENT
DTSTAMP:20260214T135732Z
UID:05E1CF63-CC16-486A-9BD8-94A95B617349
DTSTART;TZID=Europe/Istanbul:20260314T090000
DTEND;TZID=Europe/Istanbul:20260315T180000
DESCRIPTION:BioCase is a multidisciplinary competition that brings together
  students\, researchers and interested professionals in fields such as bio
 logy\, food\, environment\, chemistry\, biotechnology. While exploring cur
 rent scientific developments\, participants have the opportunity to make t
 heory suitable for practical knowledge through workshops\, presentations a
 nd case analysis\, and gain problem-solving experience with teamwork. This
  event\, which encourages scientific thinking to advance\, aims to increas
 e the cooperation of participants from different disciplines and inspire t
 heir career paths. The disciplines to be studied in the event can be liste
 d as Food\, Biology\, Chemistry\, Environment\, Biotechnology.\n\nIzmir In
 stitute of Technology\, Gulbahce\, Urla\, Izmir\, Türkiye\, 35422
LOCATION:Izmir Institute of Technology\, Gulbahce\, Urla\, Izmir\, Türkiye
 \, 35422
ORGANIZER:ieeeiyte@gmail.com
SEQUENCE:9
SUMMARY:IEEE IZTECH BioCase
URL;VALUE=URI:https://events.vtools.ieee.org/m/539358
X-ALT-DESC:Description: &lt;br /&gt;&lt;p&gt;BioCase is a multidisciplinary competition
  that brings together students\, researchers and interested professionals 
 in fields such as biology\, food\, environment\, chemistry\, biotechnology
 . While exploring current scientific developments\, participants have the 
 opportunity to make theory suitable for practical knowledge through worksh
 ops\, presentations and case analysis\, and gain problem-solving experienc
 e with teamwork. This event\, which encourages scientific thinking to adva
 nce\, aims to increase the cooperation of participants from different disc
 iplines and inspire their career paths. The disciplines to be studied in t
 he event can be listed as Food\, Biology\, Chemistry\, Environment\, Biote
 chnology.&lt;/p&gt;
END:VEVENT
END:VCALENDAR

