BEGIN:VCALENDAR
VERSION:2.0
PRODID:IEEE vTools.Events//EN
CALSCALE:GREGORIAN
BEGIN:VTIMEZONE
TZID:America/New_York
BEGIN:DAYLIGHT
DTSTART:20260308T030000
TZOFFSETFROM:-0500
TZOFFSETTO:-0400
RRULE:FREQ=YEARLY;BYDAY=2SU;BYMONTH=3
TZNAME:EDT
END:DAYLIGHT
BEGIN:STANDARD
DTSTART:20251102T010000
TZOFFSETFROM:-0400
TZOFFSETTO:-0500
RRULE:FREQ=YEARLY;BYDAY=1SU;BYMONTH=11
TZNAME:EST
END:STANDARD
END:VTIMEZONE
BEGIN:VEVENT
DTSTAMP:20260304T200903Z
UID:C5926888-982D-47E8-B73E-198CB77ABA1D
DTSTART;TZID=America/New_York:20260304T133000
DTEND;TZID=America/New_York:20260304T143000
DESCRIPTION:Reflections on entrepreneurship in integrated photonics and wor
 kforce development\n\nAbstract:\n\nPhotonic integrated circuits (PICs) pro
 mise improvements in size\, weight\, power\, cost\, and functionality comp
 ared to bulk/discrete optics and photonics for several applications. In th
 is talk\, Dr. McComber will introduce the field of integrated photonics an
 d the histories and trajectories of the two companies he leads\, providing
  insights into the photonics talent pipeline and marketplace as well as le
 ssons learned in entrepreneurship. This talk is relevant for those interes
 ted in entrepreneurship and the ever-changing landscape of integrated phot
 onics.\n\nDr. Kevin McComber\n\nSpeaker(s): Dr. Kevin McComber\n\nVirtual:
  https://events.vtools.ieee.org/m/539458
LOCATION:Virtual: https://events.vtools.ieee.org/m/539458
ORGANIZER:Alex.Poungoue@ieee.org
SEQUENCE:35
SUMMARY:Reflections on entrepreneurship in integrated photonics and workfor
 ce development
URL;VALUE=URI:https://events.vtools.ieee.org/m/539458
X-ALT-DESC:Description: &lt;br /&gt;&lt;p&gt;&lt;span style=&quot;text-decoration: underline\;&quot;
 &gt;&lt;strong&gt;Reflections on entrepreneurship in integrated photonics and workf
 orce development&lt;/strong&gt;&lt;/span&gt;&lt;/p&gt;\n&lt;p class=&quot;MsoNormal&quot;&gt;&lt;strong&gt;Abstrac
 t&lt;/strong&gt;:&amp;nbsp\;&lt;/p&gt;\n&lt;p class=&quot;MsoNormal&quot;&gt;Photonic integrated circuits 
 (PICs) promise improvements in size\, weight\, power\, cost\, and function
 ality compared to bulk/discrete optics and photonics for several applicati
 ons. In this talk\, Dr. McComber will introduce the field of integrated ph
 otonics and the histories and trajectories of the two companies he leads\,
  providing insights into the photonics talent pipeline and marketplace as 
 well as lessons learned in entrepreneurship. This talk is relevant for tho
 se interested in entrepreneurship and the ever-changing landscape of integ
 rated photonics.&lt;/p&gt;\n&lt;p class=&quot;MsoNormal&quot;&gt;&lt;img src=&quot;https://events.vtools
 .ieee.org/vtools_ui/media/display/62dc79eb-622d-4d67-a274-40dd6395e0e6&quot; wi
 dth=&quot;317&quot; height=&quot;476&quot;&gt;&lt;/p&gt;\n&lt;p class=&quot;MsoNormal&quot;&gt;&amp;nbsp\; &amp;nbsp\; &amp;nbsp\; 
 &amp;nbsp\; &amp;nbsp\; &amp;nbsp\;Dr. &lt;strong&gt;Kevin McComber&lt;/strong&gt;&lt;/p&gt;
END:VEVENT
END:VCALENDAR

