BEGIN:VCALENDAR
VERSION:2.0
PRODID:IEEE vTools.Events//EN
CALSCALE:GREGORIAN
BEGIN:VTIMEZONE
TZID:Europe/Rome
BEGIN:DAYLIGHT
DTSTART:20260329T030000
TZOFFSETFROM:+0100
TZOFFSETTO:+0200
RRULE:FREQ=YEARLY;BYDAY=-1SU;BYMONTH=3
TZNAME:CEST
END:DAYLIGHT
BEGIN:STANDARD
DTSTART:20251026T020000
TZOFFSETFROM:+0200
TZOFFSETTO:+0100
RRULE:FREQ=YEARLY;BYDAY=-1SU;BYMONTH=10
TZNAME:CET
END:STANDARD
END:VTIMEZONE
BEGIN:VEVENT
DTSTAMP:20260302T145123Z
UID:18B1F85B-0767-4259-BD8E-E5A9C7494938
DTSTART;TZID=Europe/Rome:20260224T093100
DTEND;TZID=Europe/Rome:20260224T173300
DESCRIPTION:[]\n\n[]\n\nThe winner of the competion were:\nStartup Award: D
 aidalos\nPre-incubation Award: AtenAI\nSustainable Innovation for Pre-Incu
 bated and Start-up Award: DeepBreath\n\nBldg: b4\, Spazion dama \, via Sta
 lingrado 84/3\, Bologna \, Emilia-Romagna\, Italy\, 40128 
LOCATION:Bldg: b4\, Spazion dama \, via Stalingrado 84/3\, Bologna \, Emili
 a-Romagna\, Italy\, 40128 
ORGANIZER:gruosso@ieee.org
SEQUENCE:17
SUMMARY:𝗕𝗼𝗹𝗼𝗴𝗻𝗮 𝗱𝗶𝘃𝗲𝗻𝘁𝗮 𝗹𝗮 
 𝗰𝗮𝗽𝗶𝘁𝗮𝗹𝗲 𝗶𝘁𝗮𝗹𝗶𝗮𝗻𝗮 𝗱𝗲
 𝗹𝗹’𝗔𝗜 | 𝟮𝟰 𝗳𝗲𝗯𝗯𝗿𝗮𝗶𝗼 𝟮𝟬
 𝟮𝟲 - Spazio Dama - Bologna
URL;VALUE=URI:https://events.vtools.ieee.org/m/539810
X-ALT-DESC:Description: &lt;br /&gt;&lt;p&gt;&lt;img src=&quot;https://events.vtools.ieee.org/v
 tools_ui/media/display/a2081fa9-ddad-4623-8bc2-89d79dde9e5f&quot; alt=&quot;&quot; width=
 &quot;701&quot; height=&quot;391&quot;&gt;&lt;/p&gt;\n&lt;p&gt;&lt;img src=&quot;https://events.vtools.ieee.org/vtool
 s_ui/media/display/591a9fd1-b524-4d6f-a00b-e5b692496f28&quot; alt=&quot;&quot;&gt;&lt;/p&gt;\n&lt;p&gt;&amp;
 nbsp\;&lt;/p&gt;\n&lt;p&gt;The winner of the competion were:&lt;/p&gt;\n&lt;div data-olk-copy-s
 ource=&quot;MessageBody&quot;&gt;Startup Award: &lt;strong&gt;Daidalos&lt;/strong&gt;&lt;/div&gt;\n&lt;div&gt;P
 re-incubation Award: &lt;strong&gt;AtenAI&lt;/strong&gt;&lt;/div&gt;\n&lt;div&gt;Sustainable Innov
 ation for Pre-Incubated and Start-up Award: &lt;strong&gt;DeepBreath&lt;/strong&gt;&lt;/d
 iv&gt;\n&lt;div&gt;&amp;nbsp\;&lt;/div&gt;
END:VEVENT
END:VCALENDAR

