BEGIN:VCALENDAR
VERSION:2.0
PRODID:IEEE vTools.Events//EN
CALSCALE:GREGORIAN
BEGIN:VTIMEZONE
TZID:Europe/Lisbon
BEGIN:DAYLIGHT
DTSTART:20260329T020000
TZOFFSETFROM:+0000
TZOFFSETTO:+0100
RRULE:FREQ=YEARLY;BYDAY=-1SU;BYMONTH=3
TZNAME:WEST
END:DAYLIGHT
BEGIN:STANDARD
DTSTART:20251026T010000
TZOFFSETFROM:+0100
TZOFFSETTO:+0000
RRULE:FREQ=YEARLY;BYDAY=-1SU;BYMONTH=10
TZNAME:WET
END:STANDARD
END:VTIMEZONE
BEGIN:VEVENT
DTSTAMP:20260304T180721Z
UID:32B929E7-1DC6-4488-B634-60643B2F24A0
DTSTART;TZID=Europe/Lisbon:20260304T170000
DTEND;TZID=Europe/Lisbon:20260304T180000
DESCRIPTION:Dear Members\,\n\nWe are pleased to announce the webinar from U
 niversityof Minho. This webinar provides a structured overview of the curr
 ent converter technologies used in EV fast-charging systems. Key design re
 quirements\, topology trends\, and system-level considerations are discuss
 ed to highlight the technical challenges and emerging directions in high-p
 ower DC-DC converter development. The session aims to provide participants
  with a clear understanding of the evolving landscape of EV fast-charging 
 converter design and the engineering priorities shaping next-generation so
 lutions.\n\nThe webinar will be held virtually on the 4th of March 2026\, 
 from 17h to 18h00 (Portuguese time). This event will be held through TEAMS
 . Use the following link to register:\n\nhttps://events.teams.microsoft.co
 m/event/37ad93b9-f4cf-44e7-a96a-9756c2db0f07@d05d4c80-da1e-4cd7-83a6-0d209
 4b20418\n\nSpeaker(s): Saghir Amin\n\nAgenda: \n\n\nVirtual: https://event
 s.vtools.ieee.org/m/539888
LOCATION:Virtual: https://events.vtools.ieee.org/m/539888
ORGANIZER:ch.pes@ieee-pt.org
SEQUENCE:10
SUMMARY:Webinar - DC-DC Converter Technologies for EV Fast Charging: Trends
  and Design Requirements
URL;VALUE=URI:https://events.vtools.ieee.org/m/539888
X-ALT-DESC:Description: &lt;br /&gt;&lt;p&gt;Dear Members\,&lt;/p&gt;\n&lt;p&gt;We are pleased to a
 nnounce the webinar from &lt;strong&gt;Universityof Minho&lt;/strong&gt;. &lt;span lang=&quot;
 EN-GB&quot; style=&quot;font-size: 12.0pt\; line-height: 115%\; font-family: &#39;Aptos&#39;
 \,sans-serif\; mso-ascii-theme-font: minor-latin\; mso-fareast-font-family
 : Aptos\; mso-fareast-theme-font: minor-latin\; mso-hansi-theme-font: mino
 r-latin\; mso-bidi-font-family: &#39;Times New Roman&#39;\; mso-bidi-theme-font: m
 inor-bidi\; mso-ansi-language: EN-GB\; mso-fareast-language: EN-US\; mso-b
 idi-language: AR-SA\;&quot;&gt;This webinar provides a structured overview of the 
 current converter technologies used in EV fast-charging systems. Key desig
 n requirements\, topology trends\, and system-level considerations are dis
 cussed to highlight the technical challenges and emerging directions in hi
 gh-power DC-DC converter development. The session aims to provide particip
 ants with a clear understanding of the evolving landscape of EV fast-charg
 ing converter design and the engineering priorities shaping next-generatio
 n solutions.&lt;/span&gt;&lt;/p&gt;\n&lt;p&gt;The webinar will be held virtually on the &lt;str
 ong&gt;4th of March 2026&lt;/strong&gt;\, from&amp;nbsp\;&lt;strong&gt;17h to 18h00&lt;/strong&gt;&amp;
 nbsp\;(&lt;strong&gt;Portuguese time&lt;/strong&gt;). This event will be held through 
 TEAMS. Use the following link to register:&lt;/p&gt;\n&lt;p&gt;&lt;a href=&quot;https://events
 .teams.microsoft.com/event/37ad93b9-f4cf-44e7-a96a-9756c2db0f07@d05d4c80-d
 a1e-4cd7-83a6-0d2094b20418&quot;&gt;https://events.teams.microsoft.com/event/37ad9
 3b9-f4cf-44e7-a96a-9756c2db0f07@d05d4c80-da1e-4cd7-83a6-0d2094b20418&lt;/a&gt;&lt;/
 p&gt;\n&lt;p&gt;&amp;nbsp\;&lt;/p&gt;\n&lt;p&gt;&amp;nbsp\;&lt;/p&gt;\n&lt;p class=&quot;MsoNormal&quot; style=&quot;mso-margin
 -top-alt: auto\; mso-margin-bottom-alt: auto\; margin-left: 3.0pt\; line-h
 eight: normal\;&quot;&gt;&amp;nbsp\;&lt;/p&gt;&lt;br /&gt;&lt;br /&gt;Agenda: &lt;br /&gt;&lt;p class=&quot;MsoNormal&quot;
  style=&quot;mso-margin-top-alt: auto\; mso-margin-bottom-alt: auto\; line-heig
 ht: normal\;&quot;&gt;&amp;nbsp\;&lt;/p&gt;\n&lt;p class=&quot;MsoListParagraphCxSpLast&quot; style=&quot;text
 -align: justify\; text-indent: -18.0pt\; mso-list: l0 level1 lfo1\;&quot;&gt;&amp;nbsp
 \;&lt;/p&gt;
END:VEVENT
END:VCALENDAR

