BEGIN:VCALENDAR
VERSION:2.0
PRODID:IEEE vTools.Events//EN
CALSCALE:GREGORIAN
BEGIN:VTIMEZONE
TZID:America/Bogota
BEGIN:DAYLIGHT
DTSTART:20380118T221407
TZOFFSETFROM:-0500
TZOFFSETTO:-0500
RRULE:FREQ=YEARLY;BYDAY=3MO;BYMONTH=1
TZNAME:-05
END:DAYLIGHT
BEGIN:STANDARD
DTSTART:19930206T230000
TZOFFSETFROM:-0400
TZOFFSETTO:-0500
RRULE:FREQ=YEARLY;BYDAY=1SA;BYMONTH=2
TZNAME:-05
END:STANDARD
END:VTIMEZONE
BEGIN:VEVENT
DTSTAMP:20260306T205707Z
UID:409EE8D2-CD14-42DE-8737-041B4E4BC6BD
DTSTART;TZID=America/Bogota:20260303T180000
DTEND;TZID=America/Bogota:20260303T180200
DESCRIPTION:Talk presented by Dr Carlos Salazar\, Senior Edge Specialist So
 lutions Architect at Amazon Web Services.\n\nAbstract: As organizations na
 vigate the agentic era\, where autonomous AI agents increasingly interact 
 with web services and APIs on behalf of users\, web perimeter protection f
 aces unprecedented challenges that demand a fundamental rethinking of trad
 itional security paradigms. The proliferation of AI agents—from customer
  service bots to automated data scrapers and intelligent assistants—has 
 blurred the lines between legitimate automated traffic and malicious bot a
 ctivity\, creating a complex landscape where conventional detection method
 s based on static signatures and simple behavioral patterns prove inadequa
 te. This presentation explores how the agentic era transforms web perimete
 r security\, examining the unique challenges posed by sophisticated AI age
 nts that can dynamically adapt their behavior\, leverage residential IP ad
 dresses to evade detection\, and mimic human interaction patterns with rem
 arkable fidelity\, while also presenting emerging patterns and architectur
 al approaches that organizations are adopting to address these evolving th
 reats\, including advanced fingerprinting methods\, behavioral analysis fr
 ameworks\, and risk-based classification models that move beyond binary hu
 man-versus-bot distinctions toward nuanced understanding of agent intent\,
  legitimacy\, and risk profiles in modern web ecosystems.\n\nSpeaker(s): C
 arlos Salazar\, \n\nVirtual: https://events.vtools.ieee.org/m/540185
LOCATION:Virtual: https://events.vtools.ieee.org/m/540185
ORGANIZER:saguti@comsoc.org
SEQUENCE:19
SUMMARY:Talk: Perimeter Protection in the Agentic era
URL;VALUE=URI:https://events.vtools.ieee.org/m/540185
X-ALT-DESC:Description: &lt;br /&gt;&lt;p&gt;Talk presented by Dr Carlos Salazar\, Seni
 or Edge Specialist Solutions Architect at Amazon Web Services.&lt;br&gt;&lt;br&gt;Abst
 ract:&amp;nbsp\;As organizations navigate the agentic era\, where autonomous A
 I agents increasingly interact with web services and APIs on behalf of use
 rs\, web perimeter protection faces unprecedented challenges that demand a
  fundamental rethinking of traditional security paradigms. The proliferati
 on of AI agents&amp;mdash\;from customer service bots to automated data scrape
 rs and intelligent assistants&amp;mdash\;has blurred the lines between legitim
 ate automated traffic and malicious bot activity\, creating a complex land
 scape where conventional detection methods based on static signatures and 
 simple behavioral patterns prove inadequate. This presentation explores ho
 w the agentic era transforms web perimeter security\, examining the unique
  challenges posed by sophisticated AI agents that can dynamically adapt th
 eir behavior\, leverage residential IP addresses to evade detection\, and 
 mimic human interaction patterns with remarkable fidelity\, while also pre
 senting emerging patterns and architectural approaches that organizations 
 are adopting to address these evolving threats\, including advanced finger
 printing methods\, behavioral analysis frameworks\, and risk-based classif
 ication models that move beyond binary human-versus-bot distinctions towar
 d nuanced understanding of agent intent\, legitimacy\, and risk profiles i
 n modern web ecosystems.&lt;/p&gt;
END:VEVENT
END:VCALENDAR

