BEGIN:VCALENDAR
VERSION:2.0
PRODID:IEEE vTools.Events//EN
CALSCALE:GREGORIAN
BEGIN:VTIMEZONE
TZID:America/Los_Angeles
BEGIN:DAYLIGHT
DTSTART:20260308T030000
TZOFFSETFROM:-0800
TZOFFSETTO:-0700
RRULE:FREQ=YEARLY;BYDAY=2SU;BYMONTH=3
TZNAME:PDT
END:DAYLIGHT
BEGIN:STANDARD
DTSTART:20261101T010000
TZOFFSETFROM:-0700
TZOFFSETTO:-0800
RRULE:FREQ=YEARLY;BYDAY=1SU;BYMONTH=11
TZNAME:PST
END:STANDARD
END:VTIMEZONE
BEGIN:VEVENT
DTSTAMP:20260318T053134Z
UID:A244BB51-B31C-4B18-9439-6F580C8AC1E9
DTSTART;TZID=America/Los_Angeles:20260310T170000
DTEND;TZID=America/Los_Angeles:20260310T183000
DESCRIPTION:We are organizing part2 of the IEEE San Diego Electronics Packa
 ging Society (EPS) chapter meeting.\n\nAgenda: The following topics would 
 be discussed as follow up from the first meeting in February 2026.\n\n- Li
 st of IEEE EPS technical and non-technical events\n- Collaboration with IM
 APS\n- Additional officers beyond the 4 assigned\, especially webmaster\n-
  Budget feedback from SD section\, plan for EPS subsidy\n\nAgenda: \nThe f
 ollowing topics would be discussed as follow up from the first meeting in 
 February 2026:\n\n- List of IEEE EPS technical and non-technical events\n-
  Collaboration with IMAPS\n- Additional officers beyond the 4 assigned\, e
 specially webmaster\n- Budget feedback from SD section\, plan for EPS subs
 idy\n\nBldg: Qualcomm Building S\, 5535 Morehouse Dr\, Room S-210\, San Di
 ego\, California\, United States\, 92121\, Virtual: https://events.vtools.
 ieee.org/m/540269
LOCATION:Bldg: Qualcomm Building S\, 5535 Morehouse Dr\, Room S-210\, San D
 iego\, California\, United States\, 92121\, Virtual: https://events.vtools
 .ieee.org/m/540269
ORGANIZER:vaishnav.srinivas@gmail.com
SEQUENCE:18
SUMMARY:San Diego IEEE Electronics Packaging Society (EPS) Meeting - Part 2
URL;VALUE=URI:https://events.vtools.ieee.org/m/540269
X-ALT-DESC:Description: &lt;br /&gt;&lt;p&gt;We are organizing part2 of the IEEE San Di
 ego Electronics Packaging Society (EPS) chapter meeting.&lt;/p&gt;\n&lt;p&gt;Agenda: T
 he following topics would be discussed as follow up from the first meeting
  in February 2026.&lt;/p&gt;\n&lt;ol&gt;\n&lt;li&gt;List of IEEE EPS technical and non-techn
 ical events&lt;/li&gt;\n&lt;li&gt;Collaboration with IMAPS&lt;/li&gt;\n&lt;li&gt;Additional office
 rs beyond the 4 assigned\, especially webmaster&lt;/li&gt;\n&lt;li&gt;Budget feedback 
 from SD section\, plan for EPS subsidy&lt;/li&gt;\n&lt;/ol&gt;\n&lt;p&gt;&amp;nbsp\;&lt;/p&gt;&lt;br /&gt;&lt;b
 r /&gt;Agenda: &lt;br /&gt;&lt;p&gt;The following topics would be discussed as follow up 
 from the first meeting in February 2026:&lt;/p&gt;\n&lt;ol&gt;\n&lt;li&gt;List of IEEE EPS t
 echnical and non-technical events&lt;/li&gt;\n&lt;li&gt;Collaboration with IMAPS&lt;/li&gt;\
 n&lt;li&gt;Additional officers beyond the 4 assigned\, especially webmaster&lt;/li&gt;
 \n&lt;li&gt;Budget feedback from SD section\, plan for EPS subsidy&lt;/li&gt;\n&lt;/ol&gt;\n
 &lt;p&gt;&amp;nbsp\;&lt;/p&gt;
END:VEVENT
END:VCALENDAR

