BEGIN:VCALENDAR
VERSION:2.0
PRODID:IEEE vTools.Events//EN
CALSCALE:GREGORIAN
BEGIN:VTIMEZONE
TZID:America/Chicago
BEGIN:DAYLIGHT
DTSTART:20260308T030000
TZOFFSETFROM:-0600
TZOFFSETTO:-0500
RRULE:FREQ=YEARLY;BYDAY=2SU;BYMONTH=3
TZNAME:CDT
END:DAYLIGHT
BEGIN:STANDARD
DTSTART:20251102T010000
TZOFFSETFROM:-0500
TZOFFSETTO:-0600
RRULE:FREQ=YEARLY;BYDAY=1SU;BYMONTH=11
TZNAME:CST
END:STANDARD
END:VTIMEZONE
BEGIN:VEVENT
DTSTAMP:20260224T020700Z
UID:ADA6D87F-6432-4F91-B4E2-467F55BFBD51
DTSTART;TZID=America/Chicago:20260223T183000
DTEND;TZID=America/Chicago:20260223T200000
DESCRIPTION:MISO is transforming how it plans for and manages the transmiss
 ion grid of the future. Given the complex changes underway\, Long Range Tr
 ansmission Planning (LRTP) helps in this effort by developing regional tra
 nsmission projects to ensure the transmission system is reliable\, economi
 c\, and compliant for the next 20 years and beyond. By proactively plannin
 g for long-term reliability\, MISO remains committed to delivering a robus
 t and adaptable system capable of supporting a sustainable and efficient e
 nergy future.\n\nSpeaker(s): Jarred Miland\, Regional Director\n\nAgenda: 
 \n6:30 - 7:00 Social half hour to grab food and drink\n\n7:00 - 8:00 Techn
 ical talk\n\nRoom: Mann Hall\, Bldg: Medical Sciences Building\, 300 3rd A
 ve SW\, Rochester\, Minnesota\, United States\, 55902\, Virtual: https://e
 vents.vtools.ieee.org/m/540371
LOCATION:Room: Mann Hall\, Bldg: Medical Sciences Building\, 300 3rd Ave SW
 \, Rochester\, Minnesota\, United States\, 55902\, Virtual: https://events
 .vtools.ieee.org/m/540371
ORGANIZER:ckwhite@ieee.org
SEQUENCE:19
SUMMARY:February Talk: Long Range Transmission Planning (HYBRID)
URL;VALUE=URI:https://events.vtools.ieee.org/m/540371
X-ALT-DESC:Description: &lt;br /&gt;&lt;p dir=&quot;ltr&quot; style=&quot;text-align: justify\;&quot;&gt;MI
 SO is transforming how it plans for and manages the transmission grid of t
 he future. Given the complex changes underway\, Long Range Transmission Pl
 anning (LRTP) helps in this effort by developing regional transmission pro
 jects to ensure the transmission system is reliable\, economic\, and compl
 iant for the next 20 years and beyond.&amp;nbsp\; By proactively planning for 
 long-term reliability\, MISO remains committed to delivering a robust and 
 adaptable system capable of supporting a sustainable and efficient energy 
 future.&lt;/p&gt;&lt;br /&gt;&lt;br /&gt;Agenda: &lt;br /&gt;&lt;p&gt;&lt;em&gt;6:30 - 7:00&lt;/em&gt;&amp;nbsp\;Social 
 half hour to grab food and drink&lt;/p&gt;\n&lt;p&gt;&lt;em&gt;7:00 - 8:00&lt;/em&gt;&amp;nbsp\;Techni
 cal talk&lt;/p&gt;\n&lt;p&gt;&amp;nbsp\;&lt;/p&gt;
END:VEVENT
END:VCALENDAR

