BEGIN:VCALENDAR
VERSION:2.0
PRODID:IEEE vTools.Events//EN
CALSCALE:GREGORIAN
BEGIN:VTIMEZONE
TZID:America/Chicago
BEGIN:DAYLIGHT
DTSTART:20260308T030000
TZOFFSETFROM:-0600
TZOFFSETTO:-0500
RRULE:FREQ=YEARLY;BYDAY=2SU;BYMONTH=3
TZNAME:CDT
END:DAYLIGHT
BEGIN:STANDARD
DTSTART:20261101T010000
TZOFFSETFROM:-0500
TZOFFSETTO:-0600
RRULE:FREQ=YEARLY;BYDAY=1SU;BYMONTH=11
TZNAME:CST
END:STANDARD
END:VTIMEZONE
BEGIN:VEVENT
DTSTAMP:20260321T191535Z
UID:0C420C10-66FD-4479-8B02-51DFC25999F3
DTSTART;TZID=America/Chicago:20260312T180000
DTEND;TZID=America/Chicago:20260312T194500
DESCRIPTION:Come join the Madison Executive Committee for the March meeting
 . This is a great opportunity to get more involved with the IEEE at a loca
 l level\, learn new things\, make friends\, and influence our activities.\
 n\nWe will start off with social time and food (provided by the IEEE) from
  5:30pm to 6pm. The meeting will be from 6pm to about 7:45pm. If you are p
 lanning to eat\, please register with in person attendance.\n\nJust like F
 ebruary\, we will be meeting at the downtown library and will order sandwi
 ches from Fromagination. If you have any dietary restrictions or a specifi
 c order\, please indicate when you register. The menu is available here: h
 ttps://fromagination.com/wp-content/uploads/2025/04/from.lunch-menu.single
 -page.printable.03.2025.pdf\n\nIf you have suggestions for agenda items th
 is month please reply or send an email send an email to nowick@ieee.org\n\
 nFinalized agenda to be send before the meeting.\n\nAgenda: \nAgenda\n\n5:
 30 - 6:00 pm - Social time and food\n\n6:00pm - 7:30pm - Meeting\n\nDetail
 ed agenda here:\n\nhttps://docs.google.com/presentation/d/1KxyE7-m4idQEd_C
 43YP_wwTsUxT_hhRk8VWEMKHcMqM/edit?usp=sharing\n\nMinutes from last meeting
  are here:\n\nhttps://drive.google.com/drive/folders/0AIeyOkMiQfG7Uk9PVA\n
 \nRoom: Room 104\, Bldg: Madison Public Library - Central\, 201 W Mifflin 
 St\, Madison\, Wisconsin\, United States\, 53703\, Virtual: https://events
 .vtools.ieee.org/m/540445
LOCATION:Room: Room 104\, Bldg: Madison Public Library - Central\, 201 W Mi
 fflin St\, Madison\, Wisconsin\, United States\, 53703\, Virtual: https://
 events.vtools.ieee.org/m/540445
ORGANIZER:nowick@ieee.org
SEQUENCE:35
SUMMARY:IEEE-MSN March ExCom
URL;VALUE=URI:https://events.vtools.ieee.org/m/540445
X-ALT-DESC:Description: &lt;br /&gt;&lt;p&gt;Come join the Madison Executive Committee 
 for the March meeting.&amp;nbsp\; This is a great opportunity to get more invo
 lved with the IEEE at a local level\, learn new things\, make friends\, an
 d influence our activities.&lt;/p&gt;\n&lt;p&gt;We will start off with social time and
  food (provided by the IEEE) from 5:30pm to 6pm.&amp;nbsp\; The meeting will b
 e from 6pm to about 7:45pm. If you are planning to eat\, please register w
 ith in person attendance.&amp;nbsp\;&lt;/p&gt;\n&lt;p&gt;Just like February\, we will be m
 eeting at the downtown library and will order sandwiches from Fromaginatio
 n.&amp;nbsp\; If you have any dietary restrictions or a specific order\,&amp;nbsp\
 ; please indicate when you register. The menu is available here: https://f
 romagination.com/wp-content/uploads/2025/04/from.lunch-menu.single-page.pr
 intable.03.2025.pdf&lt;/p&gt;\n&lt;p&gt;If you have suggestions for agenda items this 
 month please reply or send an email send an email to &lt;a href=&quot;mailto:nowic
 k@ieee.org&quot;&gt;nowick@ieee.org&lt;/a&gt;&lt;/p&gt;\n&lt;p&gt;Finalized agenda to be send before
  the meeting.&lt;/p&gt;\n&lt;p&gt;&amp;nbsp\;&lt;/p&gt;\n&lt;p&gt;&amp;nbsp\;&lt;/p&gt;&lt;br /&gt;&lt;br /&gt;Agenda: &lt;br /
 &gt;&lt;p&gt;Agenda&lt;/p&gt;\n&lt;p&gt;5:30 - 6:00 pm - Social time and food&lt;/p&gt;\n&lt;p&gt;6:00pm - 
 7:30pm -&amp;nbsp\; Meeting&lt;/p&gt;\n&lt;p&gt;Detailed agenda here:&lt;/p&gt;\n&lt;p&gt;&lt;a href=&quot;htt
 ps://docs.google.com/presentation/d/1KxyE7-m4idQEd_C43YP_wwTsUxT_hhRk8VWEM
 KHcMqM/edit?usp=sharing&quot;&gt;https://docs.google.com/presentation/d/1KxyE7-m4i
 dQEd_C43YP_wwTsUxT_hhRk8VWEMKHcMqM/edit?usp=sharing&lt;/a&gt;&lt;/p&gt;\n&lt;p&gt;Minutes fr
 om last meeting are here:&lt;/p&gt;\n&lt;p&gt;&lt;a href=&quot;https://drive.google.com/drive/
 folders/0AIeyOkMiQfG7Uk9PVA&quot;&gt;https://drive.google.com/drive/folders/0AIeyO
 kMiQfG7Uk9PVA&lt;/a&gt;&lt;/p&gt;\n&lt;p&gt;&amp;nbsp\;&lt;/p&gt;\n&lt;p&gt;&amp;nbsp\;&lt;/p&gt;
END:VEVENT
END:VCALENDAR

