BEGIN:VCALENDAR
VERSION:2.0
PRODID:IEEE vTools.Events//EN
CALSCALE:GREGORIAN
BEGIN:VTIMEZONE
TZID:Asia/Kolkata
BEGIN:STANDARD
DTSTART:19451014T230000
TZOFFSETFROM:+0630
TZOFFSETTO:+0530
TZNAME:IST
END:STANDARD
END:VTIMEZONE
BEGIN:VEVENT
DTSTAMP:20260219T022200Z
UID:424E43F8-1237-491B-A5FA-E8F3504AD5A1
DTSTART;TZID=Asia/Kolkata:20260221T123000
DTEND;TZID=Asia/Kolkata:20260221T160000
DESCRIPTION:We are hosting the IEEE sensor council EXCOM meeting at our Ins
 titute . The event comprises of Executive Committee Meeting \, followed by
  technical Talk and student Interaction meeting\n\nNitte Meenakshi Institu
 te of technology\, NITTE Campus\, 6429\, NITTE Meenakshi College Rd\, BSF 
 Campus\, Yelahanka\, Bengaluru\, Govindapura\, Karnataka 560064\, Bengalur
 u\, Karnataka\, India\, 560064
LOCATION:Nitte Meenakshi Institute of technology\, NITTE Campus\, 6429\, NI
 TTE Meenakshi College Rd\, BSF Campus\, Yelahanka\, Bengaluru\, Govindapur
 a\, Karnataka 560064\, Bengaluru\, Karnataka\, India\, 560064
ORGANIZER:prajna.kb@nmit.ac.in
SEQUENCE:14
SUMMARY:Sensors Powering the Future 
URL;VALUE=URI:https://events.vtools.ieee.org/m/540516
X-ALT-DESC:Description: &lt;br /&gt;&lt;p&gt;We are hosting the IEEE sensor council EXC
 OM meeting at our Institute . The event comprises of Executive Committee M
 eeting \, followed by technical Talk and student Interaction meeting&amp;nbsp\
 ;&lt;/p&gt;
END:VEVENT
END:VCALENDAR

