BEGIN:VCALENDAR
VERSION:2.0
PRODID:IEEE vTools.Events//EN
CALSCALE:GREGORIAN
BEGIN:VTIMEZONE
TZID:Europe/London
BEGIN:DAYLIGHT
DTSTART:20260329T020000
TZOFFSETFROM:+0000
TZOFFSETTO:+0100
RRULE:FREQ=YEARLY;BYDAY=-1SU;BYMONTH=3
TZNAME:BST
END:DAYLIGHT
BEGIN:STANDARD
DTSTART:20251026T010000
TZOFFSETFROM:+0100
TZOFFSETTO:+0000
RRULE:FREQ=YEARLY;BYDAY=-1SU;BYMONTH=10
TZNAME:GMT
END:STANDARD
END:VTIMEZONE
BEGIN:VEVENT
DTSTAMP:20260326T124804Z
UID:3252E9E0-FB2A-4922-B825-07066BDF48F3
DTSTART;TZID=Europe/London:20260316T120000
DTEND;TZID=Europe/London:20260316T143000
DESCRIPTION:This is an event organised by the IEEE Women in Engineering Aff
 inity Group at the University of Greater Manchester in celebration of Inte
 rnational Women&#39;s Month. The event brings together women students and earl
 y-career researchers for an engaging programme centred on artificial intel
 ligence and the opportunities it holds for the next generation of women in
  technology. Attendees will hear from invited speakers on the AI landscape
 \, participate in a hands-on workshop using real machine learning tools\, 
 and leave with concrete pathways for getting involved in the field regardl
 ess of their technical background. All are welcome.\n\nRoom: SLZ\, Chancel
 lor&#39;s Mall\, Bldg: University of Greater Manchester\, A676 Deane Road\, Bo
 lton\, England\, United Kingdom\, BL3 6BA
LOCATION:Room: SLZ\, Chancellor&#39;s Mall\, Bldg: University of Greater Manche
 ster\, A676 Deane Road\, Bolton\, England\, United Kingdom\, BL3 6BA
ORGANIZER:okorogladys52@gmail.com
SEQUENCE:61
SUMMARY:Built by Us: AI and the Future We&#39;re Building
URL;VALUE=URI:https://events.vtools.ieee.org/m/540873
X-ALT-DESC:Description: &lt;br /&gt;&lt;p&gt;This is an event organised by the IEEE Wom
 en in Engineering Affinity Group at the University of Greater Manchester i
 n celebration of International Women&#39;s Month. The event brings together wo
 men students and early-career researchers for an engaging programme centre
 d on artificial intelligence and the opportunities it holds for the next g
 eneration of women in technology. Attendees will hear from invited speaker
 s on the AI landscape\, participate in a hands-on workshop using real mach
 ine learning tools\, and leave with concrete pathways for getting involved
  in the field regardless of their technical background. All are welcome.&lt;/
 p&gt;
END:VEVENT
END:VCALENDAR

