BEGIN:VCALENDAR
VERSION:2.0
PRODID:IEEE vTools.Events//EN
CALSCALE:GREGORIAN
BEGIN:VTIMEZONE
TZID:America/Chicago
BEGIN:DAYLIGHT
DTSTART:20260308T030000
TZOFFSETFROM:-0600
TZOFFSETTO:-0500
RRULE:FREQ=YEARLY;BYDAY=2SU;BYMONTH=3
TZNAME:CDT
END:DAYLIGHT
BEGIN:STANDARD
DTSTART:20251102T010000
TZOFFSETFROM:-0500
TZOFFSETTO:-0600
RRULE:FREQ=YEARLY;BYDAY=1SU;BYMONTH=11
TZNAME:CST
END:STANDARD
END:VTIMEZONE
BEGIN:VEVENT
DTSTAMP:20260227T212541Z
UID:F9C0503C-5F32-417B-86A4-47ACE551188A
DTSTART;TZID=America/Chicago:20260224T160000
DTEND;TZID=America/Chicago:20260224T173000
DESCRIPTION:Hello Twin Cities Section Life Members:\n\nI&#39;m looking forward 
 to meeting with those available to meet virtually on Tuesday\, February 24
 th at 4:00pm. The proposed agenda is as follows:\n\nAGENDA for February 24
  Virtual Meeting\n\n- Review of the election process for affinity group of
 ficers - Jim Riess\n- Election Committee\n- Election Process\n- Election S
 chedule\n- Proposed 2-year term\n- Potential Candidates\n- Secretary &amp; Tre
 asurer OR Secretary/Treasurer\n\n- Status of proposed webinar - Gary Lynch
 \n- Status of proposed tour of Amazon Facility - Barbara Lunde/Jim Riess\n
 - Suggestions for future events - All attendees\n\n_______________________
 ________________________________________________________\n\nLet me know if
  you have additional agenda items.\n\nClick on &quot;Join Webex Meeting&quot; below 
 to connect to the Webex Meeting. Talk to you on the 24th at 4pm.\nJim Ries
 s\, LSMIEEE\n\nTwin Cities Section LMAG Interim Chair\n\nR4\nIEEE-HKN Eta 
 Kapa Nu Member\n\n________________________________________________________
 ________________________________________________________\n\nTwin Cities Li
 fe Members Affinity Group Volunteers Monthly Meeting\nTuesday\, February 2
 4\, 2026\n4:00 PM | (UTC-06:00) Central Time (US &amp; Canada) | 2 hrs\n\n[Joi
 n WebEx meeting](https://ieeemeetings.webex.com/ieeemeetings/j.php?MTID=m7
 194bf9e0d2a30e6cfcb404bd6c9c033)\n\nhttps://ieeemeetings.webex.com/ieeemee
 tings/j.php?MTID=m7194bf9e0d2a30e6cfcb404bd6c9c033\n\nMeeting number:	2533
  339 3969\nMeeting password:	JSwVyfcC294\n\nJoin from a video system or ap
 plication\nDial 25333393969@ieeemeetings.webex.com\nYou can also dial 173.
 243.2.68 and enter your meeting number.\nTo dial from an IEEE Video Confer
 ence System: *1 2533 339 3969\n\nTap to join from a mobile device (attende
 es only)\n[+1-415-655-0002\,\,25333393969##](tel:%2B1-415-655-0002\,\,*01*
 25333393969%23%23*01*) United States Toll\n[1-855-282-6330\,\,25333393969#
 #](tel:1-855-282-6330\,\,*01*25333393969%23%23*01*) United States Toll Fre
 e\n\nVirtual: https://events.vtools.ieee.org/m/541066
LOCATION:Virtual: https://events.vtools.ieee.org/m/541066
ORGANIZER:j.riess@ieee.org
SEQUENCE:203
SUMMARY:Twin Cities Life Members Affinity Group Volunteers Monthly Meeting
URL;VALUE=URI:https://events.vtools.ieee.org/m/541066
X-ALT-DESC:Description: &lt;br /&gt;&lt;p&gt;Hello Twin Cities Section Life Members:&lt;/p
 &gt;\n&lt;p&gt;I&#39;m looking forward to meeting with those available to meet virtuall
 y on Tuesday\, February 24th at 4:00pm. The proposed agenda is as follows:
 &lt;/p&gt;\n&lt;p&gt;&lt;span style=&quot;text-decoration: underline\;&quot;&gt;AGENDA for February 24
  Virtual Meeting&lt;/span&gt;&lt;/p&gt;\n&lt;ul&gt;\n&lt;li&gt;Review of the election process for 
 affinity group officers - Jim Riess\n&lt;ul&gt;\n&lt;li&gt;Election Committee&lt;/li&gt;\n&lt;l
 i&gt;Election Process&lt;/li&gt;\n&lt;li&gt;Election Schedule&lt;/li&gt;\n&lt;li&gt;Proposed 2-year t
 erm&lt;/li&gt;\n&lt;li&gt;Potential Candidates&lt;/li&gt;\n&lt;li&gt;Secretary &amp;amp\; Treasurer OR
  Secretary/Treasurer&lt;/li&gt;\n&lt;/ul&gt;\n&lt;/li&gt;\n&lt;li&gt;Status of proposed webinar - 
 Gary Lynch&lt;/li&gt;\n&lt;li&gt;Status of proposed tour of Amazon Facility - Barbara 
 Lunde/Jim Riess&lt;/li&gt;\n&lt;li&gt;Suggestions for future events - All attendees&lt;/l
 i&gt;\n&lt;/ul&gt;\n&lt;p&gt;____________________________________________________________
 ___________________&lt;/p&gt;\n&lt;p&gt;Let me know if you have additional agenda item
 s.&lt;/p&gt;\n&lt;p&gt;Click on &quot;Join Webex Meeting&quot; below to connect to the Webex Mee
 ting. Talk to you on the 24th at 4pm.&lt;/p&gt;\n&lt;div class=&quot;x_elementToProof&quot; s
 tyle=&quot;line-height: 1\;&quot;&gt;&lt;strong data-olk-copy-source=&quot;MessageBody&quot;&gt;Jim Rie
 ss\, LSMIEEE&lt;/strong&gt;&lt;/div&gt;\n&lt;p class=&quot;x_elementToProof&quot; style=&quot;line-heigh
 t: 1\;&quot;&gt;&lt;strong&gt;Twin Cities Section LMAG Interim Chair&lt;/strong&gt;&lt;/p&gt;\n&lt;p cl
 ass=&quot;x_elementToProof&quot; style=&quot;line-height: 1\;&quot;&gt;&lt;strong&gt;&lt;img id=&quot;x_x_x_x_i
 mage_0&quot; class=&quot;Do8Zj&quot; tabindex=&quot;0&quot; src=&quot;https://events.vtools.ieee.org/vto
 ols_ui/media/display/1d816129-6a28-4741-b0a8-26ac97a320f5&quot; width=&quot;93&quot; heig
 ht=&quot;32&quot; crossorigin=&quot;use-credentials&quot; data-outlook-trace=&quot;F:2|T:2&quot; data-cu
 stom=&quot;AAkALgAAAAAAHYQDEapmEc2byACqAC%2FEWg0Aq7NRI1X%2F7k2MkRh1uwKHFAADG6na
 0wAAARIAEAB7PlpdyqOqToWidpR4GYtM&quot; data-imagetype=&quot;AttachmentByCid&quot;&gt;&amp;nbsp\;
 R4&lt;/strong&gt;&lt;/p&gt;\n&lt;div class=&quot;x_elementToProof&quot; style=&quot;line-height: 1\;&quot;&gt;&lt;s
 trong&gt;IEEE-HKN Eta Kapa Nu Member&lt;/strong&gt;&lt;strong&gt;&amp;nbsp\;&amp;nbsp\;&lt;/strong&gt;&lt;
 /div&gt;\n&lt;p&gt;________________________________________________________________
 ________________________________________________&lt;/p&gt;\n&lt;table width=&quot;100%&quot;&gt;
 \n&lt;tbody&gt;\n&lt;tr&gt;\n&lt;td&gt;&lt;strong data-olk-copy-source=&quot;MessageBody&quot;&gt;Twin Citie
 s Life Members Affinity Group Volunteers Monthly Meeting&lt;/strong&gt;&lt;/td&gt;\n&lt;/
 tr&gt;\n&lt;tr&gt;\n&lt;td&gt;Tuesday\, February 24\, 2026&lt;/td&gt;\n&lt;/tr&gt;\n&lt;tr&gt;\n&lt;td&gt;4:00 PM
 &amp;nbsp\;&amp;nbsp\;|&amp;nbsp\;&amp;nbsp\;(UTC-06:00) Central Time (US &amp;amp\; Canada)&amp;n
 bsp\;&amp;nbsp\;|&amp;nbsp\;&amp;nbsp\;2 hrs&lt;/td&gt;\n&lt;/tr&gt;\n&lt;/tbody&gt;\n&lt;/table&gt;\n&lt;table&gt;\
 n&lt;tbody&gt;\n&lt;tr&gt;\n&lt;td&gt;&amp;nbsp\;&lt;/td&gt;\n&lt;/tr&gt;\n&lt;/tbody&gt;\n&lt;/table&gt;\n&lt;table&gt;\n&lt;tbo
 dy&gt;\n&lt;tr&gt;\n&lt;td&gt;&lt;a title=&quot;https://ieeemeetings.webex.com/ieeemeetings/j.php
 ?MTID=m7194bf9e0d2a30e6cfcb404bd6c9c033&quot; href=&quot;https://ieeemeetings.webex.
 com/ieeemeetings/j.php?MTID=m7194bf9e0d2a30e6cfcb404bd6c9c033&quot; data-auth=&quot;
 NotApplicable&quot; data-linkindex=&quot;2&quot;&gt;&lt;strong&gt;Join WebEx meeting&lt;/strong&gt;&lt;/a&gt;&lt;
 /td&gt;\n&lt;/tr&gt;\n&lt;/tbody&gt;\n&lt;/table&gt;\n&lt;p&gt;&lt;br&gt;&lt;a title=&quot;https://ieeemeetings.web
 ex.com/ieeemeetings/j.php?MTID=m7194bf9e0d2a30e6cfcb404bd6c9c033&quot; href=&quot;ht
 tps://ieeemeetings.webex.com/ieeemeetings/j.php?MTID=m7194bf9e0d2a30e6cfcb
 404bd6c9c033&quot; data-auth=&quot;NotApplicable&quot; data-linkindex=&quot;3&quot;&gt;https://ieeemee
 tings.webex.com/ieeemeetings/j.php?MTID=m7194bf9e0d2a30e6cfcb404bd6c9c033&lt;
 /a&gt;&lt;br&gt;&lt;br&gt;&lt;/p&gt;\n&lt;table&gt;\n&lt;tbody&gt;\n&lt;tr&gt;\n&lt;td&gt;Meeting number:&lt;/td&gt;\n&lt;td&gt;253
 3 339 3969&lt;/td&gt;\n&lt;/tr&gt;\n&lt;tr&gt;\n&lt;td&gt;Meeting password:&lt;/td&gt;\n&lt;td&gt;JSwVyfcC294&lt;
 /td&gt;\n&lt;/tr&gt;\n&lt;/tbody&gt;\n&lt;/table&gt;\n&lt;p&gt;&amp;nbsp\;&lt;/p&gt;\n&lt;table&gt;\n&lt;tbody&gt;\n&lt;tr&gt;\n&lt;
 td&gt;&amp;nbsp\;&lt;/td&gt;\n&lt;/tr&gt;\n&lt;/tbody&gt;\n&lt;/table&gt;\n&lt;table&gt;\n&lt;tbody&gt;\n&lt;tr&gt;\n&lt;td&gt;&lt;s
 trong&gt;Join from a video system or application&lt;/strong&gt;&lt;/td&gt;\n&lt;/tr&gt;\n&lt;tr&gt;\n
 &lt;td&gt;&lt;span dir=&quot;ltr&quot;&gt;Dial&lt;/span&gt;&amp;nbsp\;25333393969@ieeemeetings.webex.com&lt;/
 td&gt;\n&lt;/tr&gt;\n&lt;tr&gt;\n&lt;td&gt;You can also dial 173.243.2.68 and enter your meetin
 g number.&lt;/td&gt;\n&lt;/tr&gt;\n&lt;/tbody&gt;\n&lt;/table&gt;\n&lt;p&gt;To dial from an IEEE Video C
 onference System:&amp;nbsp\;&lt;strong&gt;*1 2533 339 3969&lt;/strong&gt;&lt;br&gt;&lt;br&gt;&lt;/p&gt;\n&lt;ta
 ble&gt;\n&lt;tbody&gt;\n&lt;tr&gt;\n&lt;td&gt;&lt;strong&gt;Tap to join from a mobile device (attende
 es only)&lt;/strong&gt;&lt;/td&gt;\n&lt;/tr&gt;\n&lt;tr&gt;\n&lt;td&gt;&lt;a title=&quot;tel:%2B1-415-655-0002\,
 \,*01*25333393969%23%23*01*&quot; href=&quot;tel:%2B1-415-655-0002\,\,*01*2533339396
 9%23%23*01*&quot; data-auth=&quot;NotApplicable&quot; data-linkindex=&quot;4&quot;&gt;&lt;span dir=&quot;auto&quot;
 &gt;+1-415-655-0002\,\,25333393969##&lt;/span&gt;&lt;/a&gt;&amp;nbsp\;&lt;span dir=&quot;ltr&quot;&gt;United 
 States Toll&lt;/span&gt;&lt;/td&gt;\n&lt;/tr&gt;\n&lt;tr&gt;\n&lt;td&gt;&lt;a title=&quot;tel:1-855-282-6330\,\,
 *01*25333393969%23%23*01*&quot; href=&quot;tel:1-855-282-6330\,\,*01*25333393969%23%
 23*01*&quot; data-auth=&quot;NotApplicable&quot; data-linkindex=&quot;5&quot;&gt;&lt;span dir=&quot;auto&quot;&gt;1-85
 5-282-6330\,\,25333393969##&lt;/span&gt;&lt;/a&gt;&amp;nbsp\;&lt;span dir=&quot;ltr&quot;&gt;United States
  Toll Free&lt;/span&gt;&lt;/td&gt;\n&lt;/tr&gt;\n&lt;/tbody&gt;\n&lt;/table&gt;\n&lt;p&gt;&amp;nbsp\;&lt;/p&gt;\n&lt;p&gt;&amp;nbs
 p\;&lt;/p&gt;\n&lt;p&gt;&amp;nbsp\;&lt;/p&gt;
END:VEVENT
END:VCALENDAR

