BEGIN:VCALENDAR
VERSION:2.0
PRODID:IEEE vTools.Events//EN
CALSCALE:GREGORIAN
BEGIN:VTIMEZONE
TZID:Asia/Kolkata
BEGIN:STANDARD
DTSTART:19451014T230000
TZOFFSETFROM:+0630
TZOFFSETTO:+0530
TZNAME:IST
END:STANDARD
END:VTIMEZONE
BEGIN:VEVENT
DTSTAMP:20260222T050002Z
UID:8FF0166F-D25D-4F90-9E85-7BDE32FA943C
DTSTART;TZID=Asia/Kolkata:20260221T150000
DTEND;TZID=Asia/Kolkata:20260221T160000
DESCRIPTION:Department of EEE in association in IEEE STB and WIE AG organiz
 es a Membership Drive for Enrolling New IEEE Members for the year 2026 on 
 21.02.2026 between 03:00 p.m. and 04:00 p.m.\n\nBldg: Pallava Hall\, Kings
  College of Engineering\, Punalkulam\, Pudukkottai\, Tamil Nadu\, India\, 
 613303
LOCATION:Bldg: Pallava Hall\, Kings College of Engineering\, Punalkulam\, P
 udukkottai\, Tamil Nadu\, India\, 613303
ORGANIZER:kingsieee01@gmail.com
SEQUENCE:9
SUMMARY:Membership Drive 
URL;VALUE=URI:https://events.vtools.ieee.org/m/541127
X-ALT-DESC:Description: &lt;br /&gt;&lt;p&gt;Department of EEE in association in IEEE S
 TB and WIE AG organizes a Membership Drive for Enrolling New IEEE Members 
 for the year 2026 on 21.02.2026 between 03:00 p.m. and 04:00 p.m.&amp;nbsp\;&amp;n
 bsp\;&lt;/p&gt;
END:VEVENT
END:VCALENDAR

