BEGIN:VCALENDAR
VERSION:2.0
PRODID:IEEE vTools.Events//EN
CALSCALE:GREGORIAN
BEGIN:VTIMEZONE
TZID:Europe/Helsinki
BEGIN:DAYLIGHT
DTSTART:20260329T040000
TZOFFSETFROM:+0200
TZOFFSETTO:+0300
RRULE:FREQ=YEARLY;BYDAY=-1SU;BYMONTH=3
TZNAME:EEST
END:DAYLIGHT
BEGIN:STANDARD
DTSTART:20251026T030000
TZOFFSETFROM:+0300
TZOFFSETTO:+0200
RRULE:FREQ=YEARLY;BYDAY=-1SU;BYMONTH=10
TZNAME:EET
END:STANDARD
END:VTIMEZONE
BEGIN:VEVENT
DTSTAMP:20260223T195227Z
UID:334E73EB-1C23-4DF3-8547-72047565A52E
DTSTART;TZID=Europe/Helsinki:20260318T150000
DTEND;TZID=Europe/Helsinki:20260318T160000
DESCRIPTION:[6G Talks – Video series by 6G Flagship](https://eur04.safeli
 nks.protection.outlook.com/?url=https%3A%2F%2Fwww.6gflagship.com%2F6g-talk
 s%2F&amp;data=05%7C02%7Cari.visa%40tuni.fi%7C73c227b076db4207c0f308de69a1403a%
 7Cfa6944afcc7c4cd89154c01132798910%7C0%7C0%7C639064338450661443%7CUnknown%
 7CTWFpbGZsb3d8eyJFbXB0eU1hcGkiOnRydWUsIlYiOiIwLjAuMDAwMCIsIlAiOiJXaW4zMiIs
 IkFOIjoiTWFpbCIsIldUIjoyfQ%3D%3D%7C0%7C%7C%7C&amp;sdata=qloB0Caie4oEIBRlh5w66z
 dwyJ3i5VbxXk02EQ%2FlnA8%3D&amp;reserved=0)\n\nSpeaker(s):   Markku Juntti\n\nE
 rkki Koiso-Kanttilan katu 3\, P.O. Box 4500\, FI-90014 University of Oulu\
 , Finland\, Oulu\, Uleaborgs Lan\, Finland\, FI-90014\, Virtual: https://e
 vents.vtools.ieee.org/m/541741
LOCATION:Erkki Koiso-Kanttilan katu 3\, P.O. Box 4500\, FI-90014 University
  of Oulu\, Finland\, Oulu\, Uleaborgs Lan\, Finland\, FI-90014\, Virtual: 
 https://events.vtools.ieee.org/m/541741
ORGANIZER:ari.visa@tuni.fi
SEQUENCE:69
SUMMARY:6G System Evolution with Integrated Sensing and Communications
URL;VALUE=URI:https://events.vtools.ieee.org/m/541741
X-ALT-DESC:Description: &lt;br /&gt;&lt;p class=&quot;MsoNormal&quot;&gt;&lt;a href=&quot;https://eur04.s
 afelinks.protection.outlook.com/?url=https%3A%2F%2Fwww.6gflagship.com%2F6g
 -talks%2F&amp;amp\;data=05%7C02%7Cari.visa%40tuni.fi%7C73c227b076db4207c0f308d
 e69a1403a%7Cfa6944afcc7c4cd89154c01132798910%7C0%7C0%7C639064338450661443%
 7CUnknown%7CTWFpbGZsb3d8eyJFbXB0eU1hcGkiOnRydWUsIlYiOiIwLjAuMDAwMCIsIlAiOi
 JXaW4zMiIsIkFOIjoiTWFpbCIsIldUIjoyfQ%3D%3D%7C0%7C%7C%7C&amp;amp\;sdata=qloB0Ca
 ie4oEIBRlh5w66zdwyJ3i5VbxXk02EQ%2FlnA8%3D&amp;amp\;reserved=0&quot;&gt;6G Talks &amp;ndash
 \; Video series by 6G Flagship&lt;/a&gt;&lt;/p&gt;
END:VEVENT
END:VCALENDAR

