BEGIN:VCALENDAR
VERSION:2.0
PRODID:IEEE vTools.Events//EN
CALSCALE:GREGORIAN
BEGIN:VTIMEZONE
TZID:America/Indiana/Indianapolis
BEGIN:DAYLIGHT
DTSTART:20260308T030000
TZOFFSETFROM:-0500
TZOFFSETTO:-0400
RRULE:FREQ=YEARLY;BYDAY=2SU;BYMONTH=3
TZNAME:EDT
END:DAYLIGHT
BEGIN:STANDARD
DTSTART:20261101T010000
TZOFFSETFROM:-0400
TZOFFSETTO:-0500
RRULE:FREQ=YEARLY;BYDAY=1SU;BYMONTH=11
TZNAME:EST
END:STANDARD
END:VTIMEZONE
BEGIN:VEVENT
DTSTAMP:20260403T225414Z
UID:4BBE2A7D-B84C-4CDA-89B4-6786D721F448
DTSTART;TZID=America/Indiana/Indianapolis:20260327T170000
DTEND;TZID=America/Indiana/Indianapolis:20260327T180000
DESCRIPTION:In celebration of Women’s History Month\, join us for a dynam
 ic panel featuring women leading real-world AI product development.\n\nThi
 s conversation goes beyond inspiration. We’ll explore how AI actually mo
 ves from prototype to production\, how teams balance speed with responsibi
 lity\, and what it takes to design AI systems that are sustainable\, trust
 worthy\, and built to last.\n\n💡 Practical insights\n💬 Interactive a
 udience Q&amp;A\n🚀 Real lessons from the field\n\nOpen to engineers\, produ
 ct leaders\, designers\, students\, and anyone curious about building with
  AI.\n\n[]\n\nCo-sponsored by: WomenTechMakers (WTM)\n\nVirtual: https://e
 vents.vtools.ieee.org/m/542027
LOCATION:Virtual: https://events.vtools.ieee.org/m/542027
ORGANIZER:obscrivn@iu.edu
SEQUENCE:26
SUMMARY:AI in the Real World: Building Systems That Scale\, Sustain\, and S
 erve.
URL;VALUE=URI:https://events.vtools.ieee.org/m/542027
X-ALT-DESC:Description: &lt;br /&gt;&lt;div draggable=&quot;false&quot; data-pm-slice=&quot;1 1 []&quot;
  data-en-clipboard=&quot;true&quot;&gt;In celebration of Women&amp;rsquo\;s History Month\,
  join us for a dynamic panel featuring women leading real-world AI product
  development.&lt;br&gt;&lt;br&gt;&lt;/div&gt;\n&lt;div draggable=&quot;false&quot;&gt;This conversation goes
  beyond inspiration. We&amp;rsquo\;ll explore how AI actually moves from proto
 type to production\, how teams balance speed with responsibility\, and wha
 t it takes to design AI systems that are sustainable\, trustworthy\, and b
 uilt to last.&lt;br&gt;&lt;br&gt;&lt;/div&gt;\n&lt;div draggable=&quot;false&quot;&gt;💡 Practical insight
 s &lt;br&gt;💬 Interactive audience Q&amp;amp\;A &lt;br&gt;🚀 Real lessons from the fi
 eld&lt;br&gt;&lt;br&gt;&lt;/div&gt;\n&lt;div draggable=&quot;false&quot;&gt;Open to engineers\, product lead
 ers\, designers\, students\, and anyone curious about building with AI.&lt;/d
 iv&gt;\n&lt;div draggable=&quot;false&quot;&gt;&amp;nbsp\;&lt;/div&gt;\n&lt;div draggable=&quot;false&quot;&gt;&lt;img sty
 le=&quot;display: block\; margin-left: auto\; margin-right: auto\;&quot; src=&quot;https:
 //events.vtools.ieee.org/vtools_ui/media/display/240f4d7b-f737-4792-8322-b
 279ae24c4db&quot; alt=&quot;&quot; width=&quot;500&quot; height=&quot;707&quot;&gt;&lt;/div&gt;
END:VEVENT
END:VCALENDAR

