BEGIN:VCALENDAR
VERSION:2.0
PRODID:IEEE vTools.Events//EN
CALSCALE:GREGORIAN
BEGIN:VTIMEZONE
TZID:America/Los_Angeles
BEGIN:DAYLIGHT
DTSTART:20260308T030000
TZOFFSETFROM:-0800
TZOFFSETTO:-0700
RRULE:FREQ=YEARLY;BYDAY=2SU;BYMONTH=3
TZNAME:PDT
END:DAYLIGHT
BEGIN:STANDARD
DTSTART:20251102T010000
TZOFFSETFROM:-0700
TZOFFSETTO:-0800
RRULE:FREQ=YEARLY;BYDAY=1SU;BYMONTH=11
TZNAME:PST
END:STANDARD
END:VTIMEZONE
BEGIN:VEVENT
DTSTAMP:20260307T012936Z
UID:5D9F4EF8-99DF-4BEF-9894-59B9A93BC7A5
DTSTART;TZID=America/Los_Angeles:20260303T180000
DTEND;TZID=America/Los_Angeles:20260303T200000
DESCRIPTION:IEEE Thompson-Okanagan Section ExCom. March 3rd (Tuesday)\, 202
 6 @ 6 pm (online).\n\nVirtual: https://events.vtools.ieee.org/m/542062
LOCATION:Virtual: https://events.vtools.ieee.org/m/542062
ORGANIZER:youry@ieee.org
SEQUENCE:8
SUMMARY:IEEE Thompson-Okanagan Section ExCom @ 6 pm (online).
URL;VALUE=URI:https://events.vtools.ieee.org/m/542062
X-ALT-DESC:Description: &lt;br /&gt;&lt;p&gt;&lt;strong&gt;IEEE Thompson-Okanagan Section ExC
 om. March 3rd (Tuesday)\, 2026 @ 6 pm (online).&lt;/strong&gt;&lt;/p&gt;
END:VEVENT
END:VCALENDAR

