BEGIN:VCALENDAR
VERSION:2.0
PRODID:IEEE vTools.Events//EN
CALSCALE:GREGORIAN
BEGIN:VTIMEZONE
TZID:America/New_York
BEGIN:DAYLIGHT
DTSTART:20260308T030000
TZOFFSETFROM:-0500
TZOFFSETTO:-0400
RRULE:FREQ=YEARLY;BYDAY=2SU;BYMONTH=3
TZNAME:EDT
END:DAYLIGHT
BEGIN:STANDARD
DTSTART:20261101T010000
TZOFFSETFROM:-0400
TZOFFSETTO:-0500
RRULE:FREQ=YEARLY;BYDAY=1SU;BYMONTH=11
TZNAME:EST
END:STANDARD
END:VTIMEZONE
BEGIN:VEVENT
DTSTAMP:20260421T184246Z
UID:014671AB-5C15-4B0C-A019-2CDB4D5C810A
DTSTART;TZID=America/New_York:20260525T090000
DTEND;TZID=America/New_York:20260525T170000
DESCRIPTION:Theme for 2026: at the intersection of modernised Payments and 
 AI\, featuring Stablecoins\, protocols such as x402\, Agentic AI such as O
 penClaw\, on the wake of Bill C-15 and the rise of open source AI. We have
  a packed agenda!\n\n[]\n\nThe IEEE Blockchain Forum is returning for the 
 fourth time as part of [Toronto Tech Week](https://www.torontotechweek.com
 /). The goal of this compact one-day event is to congregate BUIDLers\, res
 earchers\, academics\, and engineers building blockchain protocols\, infra
 structure\, and decentralized software applications.\n\nExpect deep though
 t leadership\, executive talks and panels\, and academic presentations. We
 &#39;re talking long-term engineering trends and innovation. You won&#39;t find ma
 rketing narratives\, token launches\, or promotions.\n\nNote: [The 2025 ed
 ition of the forum](https://events.vtools.ieee.org/m/469545) counted with 
 200 participants and speakers from JP Morgan\, the Bank of Canada\, Master
 card\, the Ethereum Enterprise Alliance\, EY\, Starknet\, among others.\n\
 nCo-sponsored by: Toronto Tech Week and the Government of Ontario\n\nAgend
 a: \nFirst wave of speaker announcement\n\nOn the wake of Bill C-15 and th
 e rapid digitisation of Canada&#39;s financial system\, Canadian innovation le
 aders will give us a glimpse of what&#39;s to come this year and next.\n\nPane
 l #1 - Stablecoins: A New Era of Payments in Canada\n\n- Felipe Priuli\, P
 rogram Director for CAD Digital (CADD)\n- Kesem Frank\, CEO of Canada Stab
 lecorp\n- Kevin Zhang\, Founder and CEO of LOON\n\nPanel #2 - Sovereignty 
 by Design\n\n- Ali Abou Daya\, CEO of Transactix Financial Inc.\n- Thomas 
 You\, Associate Partner at Maverix Private Equity\n\nPanel #3 - The New Fr
 ontier of Trust in Agentic AI &amp; Blockchain\n\n- Michelle Beyo\, CEO of FIN
 AVATOR\n- Carlos Andres Delgado\, Fintech\, AI &amp; Banking Expert\n- Diana O
 reto\, Blockchain &amp; Digital Assets Expert\n\nMore speakers to be announced
  soon. Stay tuned!\n\nMany thanks to our sponsors: the Government of Ontar
 io (sponsoring the location)\, as well as\n\nInvest Hong Kong (Canada)\, M
 oody&#39;s Ratings\, Compass360 Consulting and Tetra Digital Group!\n\nOntario
  Investment and Trade Centre\, 250 Yonge Street\, 35th Floor\, Toronto\, O
 ntario\, Canada\, M5B 2L7
LOCATION:Ontario Investment and Trade Centre\, 250 Yonge Street\, 35th Floo
 r\, Toronto\, Ontario\, Canada\, M5B 2L7
ORGANIZER:marclijour@ieee.org
SEQUENCE:71
SUMMARY:IEEE Canada Blockchain Forum 2026 (4th edition)
URL;VALUE=URI:https://events.vtools.ieee.org/m/542487
X-ALT-DESC:Description: &lt;br /&gt;&lt;p&gt;Theme for 2026: &lt;strong&gt;at the intersectio
 n of modernised Payments and AI&lt;/strong&gt;\, featuring Stablecoins\, protoco
 ls such as x402\, Agentic AI such as OpenClaw\, on the wake of Bill C-15 a
 nd the rise of open source AI. We have a packed agenda!&lt;/p&gt;\n&lt;p&gt;&lt;img src=&quot;
 https://events.vtools.ieee.org/vtools_ui/media/display/62ff4270-b44a-42dd-
 9dcc-e8cb88994345&quot; alt=&quot;&quot; width=&quot;1056&quot; height=&quot;1056&quot;&gt;&lt;/p&gt;\n&lt;p&gt;The IEEE Blo
 ckchain Forum is returning for the fourth time as part of &lt;a href=&quot;https:/
 /www.torontotechweek.com/&quot;&gt;Toronto Tech Week&lt;/a&gt;. The goal of this compact
  one-day event is to congregate BUIDLers\, researchers\, academics\, and e
 ngineers building blockchain protocols\, infrastructure\, and decentralize
 d software applications.&lt;/p&gt;\n&lt;p&gt;Expect deep thought leadership\, executiv
 e talks and panels\, and academic presentations. We&#39;re talking &lt;strong&gt;lon
 g-term engineering trends and innovation&lt;/strong&gt;. You won&#39;t find marketin
 g narratives\, token launches\, or promotions.&lt;/p&gt;\n&lt;p&gt;Note: &lt;a href=&quot;http
 s://events.vtools.ieee.org/m/469545&quot;&gt;The 2025 edition of the forum&lt;/a&gt; cou
 nted with 200 participants and speakers from JP Morgan\, the Bank of Canad
 a\, Mastercard\, the Ethereum Enterprise Alliance\, EY\, Starknet\, among 
 others.&amp;nbsp\;&lt;/p&gt;&lt;br /&gt;&lt;br /&gt;Agenda: &lt;br /&gt;&lt;h2 style=&quot;text-align: center\
 ;&quot;&gt;First wave of speaker announcement&lt;/h2&gt;\n&lt;p dir=&quot;ltr&quot;&gt;On the wake of Bi
 ll C-15 and the rapid digitisation of Canada&#39;s financial system\, Canadian
  innovation leaders will give us a glimpse of what&#39;s to come this year and
  next.&lt;/p&gt;\n&lt;p dir=&quot;ltr&quot;&gt;&lt;strong&gt;Panel #1 - Stablecoins: A New Era of Paym
 ents in Canada&lt;/strong&gt;&lt;/p&gt;\n&lt;ul&gt;\n&lt;li dir=&quot;ltr&quot; role=&quot;presentation&quot;&gt;Felip
 e Priuli\, Program Director for CAD Digital (CADD)&amp;nbsp\;&lt;/li&gt;\n&lt;li dir=&quot;l
 tr&quot; role=&quot;presentation&quot;&gt;Kesem Frank\, CEO of Canada Stablecorp&lt;/li&gt;\n&lt;li d
 ir=&quot;ltr&quot; role=&quot;presentation&quot;&gt;Kevin Zhang\, Founder and CEO of LOON&amp;nbsp\;&lt;
 /li&gt;\n&lt;/ul&gt;\n&lt;p&gt;&lt;strong&gt;Panel #2 - Sovereignty by Design&amp;nbsp\;&lt;/strong&gt;&lt;/
 p&gt;\n&lt;ul&gt;\n&lt;li&gt;Ali Abou Daya\, CEO of Transactix Financial Inc.&lt;/li&gt;\n&lt;li&gt;T
 homas You\, Associate Partner at Maverix Private Equity&lt;/li&gt;\n&lt;/ul&gt;\n&lt;p&gt;&lt;s
 trong id=&quot;docs-internal-guid-8910ce07-7fff-7216-bcbe-83582f7247d5&quot;&gt;Panel #
 3 - The New Frontier of Trust in Agentic AI &amp;amp\; Blockchain&lt;/strong&gt;&lt;/p&gt;
 \n&lt;ul&gt;\n&lt;li&gt;Michelle Beyo\, CEO of FINAVATOR&lt;/li&gt;\n&lt;li&gt;Carlos Andres Delga
 do\, Fintech\, AI &amp;amp\; Banking Expert&lt;/li&gt;\n&lt;li&gt;Diana Oreto\, Blockchain
  &amp;amp\; Digital Assets Expert&lt;/li&gt;\n&lt;/ul&gt;\n&lt;p style=&quot;text-align: center\;&quot;
 &gt;&amp;nbsp\;&lt;/p&gt;\n&lt;p style=&quot;text-align: center\;&quot;&gt;&lt;span style=&quot;color: rgb(35\,
  111\, 161)\;&quot;&gt;More speakers to be announced soon. Stay tuned!&lt;/span&gt;&lt;/p&gt;\
 n&lt;p style=&quot;text-align: center\;&quot;&gt;&lt;span style=&quot;color: rgb(132\, 63\, 161)\;
 &quot;&gt;Many thanks to our sponsors: &lt;strong&gt;the Government of Ontario&lt;/strong&gt; 
 (sponsoring the location)\, as well as&lt;/span&gt;&lt;/p&gt;\n&lt;p style=&quot;text-align: c
 enter\;&quot;&gt;&lt;span style=&quot;color: rgb(132\, 63\, 161)\;&quot;&gt;&amp;nbsp\;&lt;strong&gt;Invest 
 Hong Kong (Canada)&lt;/strong&gt;\, &lt;strong&gt;Moody&#39;s Ratings&lt;/strong&gt;\, &lt;strong&gt;C
 ompass360 Consulting&lt;/strong&gt; and&amp;nbsp\;&lt;strong&gt;Tetra Digital Group!&lt;/stro
 ng&gt;&lt;/span&gt;&lt;/p&gt;
END:VEVENT
END:VCALENDAR

