BEGIN:VCALENDAR
VERSION:2.0
PRODID:IEEE vTools.Events//EN
CALSCALE:GREGORIAN
BEGIN:VTIMEZONE
TZID:America/Mexico_City
BEGIN:STANDARD
DTSTART:20221030T010000
TZOFFSETFROM:-0500
TZOFFSETTO:-0600
TZNAME:CST
END:STANDARD
END:VTIMEZONE
BEGIN:VEVENT
DTSTAMP:20260302T154049Z
UID:1CB1FD80-CE73-4FE7-9C2E-B00A97E589E7
DTSTART;TZID=America/Mexico_City:20260226T150000
DTEND;TZID=America/Mexico_City:20260226T170000
DESCRIPTION:Junta en la que se vieron varios temas entre ellos los talleres
  que se impartirán en visita a Queretaro.\n\nCo-sponsored by: Sociedad de
  Tecnología Avanzada A.C.\n\nAv. Instituto Politecnico Nacional\, San Ped
 ro Zacatenco\, CDMX\, Distrito Federal\, Mexico\, 07360
LOCATION:Av. Instituto Politecnico Nacional\, San Pedro Zacatenco\, CDMX\, 
 Distrito Federal\, Mexico\, 07360
ORGANIZER:lizette.zebadua@cinvestav.mx
SEQUENCE:21
SUMMARY:Junta de planeación de talleres para visita a Queretaro
URL;VALUE=URI:https://events.vtools.ieee.org/m/542590
X-ALT-DESC:Description: &lt;br /&gt;&lt;p&gt;Junta en la que se vieron varios temas ent
 re ellos los talleres que se impartir&amp;aacute\;n en visita a Queretaro.&lt;/p&gt;
END:VEVENT
END:VCALENDAR

