BEGIN:VCALENDAR
VERSION:2.0
PRODID:IEEE vTools.Events//EN
CALSCALE:GREGORIAN
BEGIN:VTIMEZONE
TZID:America/New_York
BEGIN:DAYLIGHT
DTSTART:20260308T030000
TZOFFSETFROM:-0500
TZOFFSETTO:-0400
RRULE:FREQ=YEARLY;BYDAY=2SU;BYMONTH=3
TZNAME:EDT
END:DAYLIGHT
BEGIN:STANDARD
DTSTART:20261101T010000
TZOFFSETFROM:-0400
TZOFFSETTO:-0500
RRULE:FREQ=YEARLY;BYDAY=1SU;BYMONTH=11
TZNAME:EST
END:STANDARD
END:VTIMEZONE
BEGIN:VEVENT
DTSTAMP:20260331T150033Z
UID:5D4F40B8-A766-41E9-8998-4A7DE03EE7FD
DTSTART;TZID=America/New_York:20260314T113000
DTEND;TZID=America/New_York:20260314T130000
DESCRIPTION:Advanced Driver Assistance Systems (ADAS) and autonomous vehicl
 es rely heavily on AI-driven perception\, probabilistic decision-making\, 
 and large-scale data pipelines. Traditional deterministic validation model
 s are insufficient for statistically proving safety in complex\, real-worl
 d environments. This talk examines the technical challenges in simulation\
 , real-world testing\, long-tail edge cases\, regulatory compliance\, and 
 AI validation. It also explores the emerging role of generative and agenti
 c AI in transforming automotive safety testing methodologies.\n\n[Event Fl
 yer in PDF](https://drive.google.com/file/d/1Il3nRL5_AEGbOdy540Mm-SAfpgxgt
 JXC/view?usp=sharing)\n\nSpeaker(s): Gaurav Baban Pokharkar\, \n\nAgenda: 
 \n11:30am - Pizza and water bottles will be served\n\n11:30am - Brief Intr
 oduction to the IEEE Southeastern Michigan Section and IEEE Robotics &amp; Aut
 omation Society\n\n11:35am - Introduction to the speaker\, Gaurav Baban Po
 kharkar\n\n11:37am - Presentation by Gaurav Baban Pokharkar\n\n12:10pm - Q
  &amp; A\n\n12:20pm - Self-introduction of all the in-person as well as Zoom p
 articipants\n\n12:40pm - Introduction of Future R&amp;A events and optional LT
 U CS AI Robotics Lab visit\n\nRoom: J351 (STEM Center 3rd Floor)\, Bldg: B
 ld. No. 8\, 21000 West 10 Mile Rd\, Southfield\, Michigan\, United States\
 , 48075\, Virtual: https://events.vtools.ieee.org/m/542819
LOCATION:Room: J351 (STEM Center 3rd Floor)\, Bldg: Bld. No. 8\, 21000 West
  10 Mile Rd\, Southfield\, Michigan\, United States\, 48075\, Virtual: htt
 ps://events.vtools.ieee.org/m/542819
ORGANIZER:cchung@ltu.edu
SEQUENCE:103
SUMMARY:Testing and Validation Challenges in ADAS and Autonomous Vehicle Sy
 stems
URL;VALUE=URI:https://events.vtools.ieee.org/m/542819
X-ALT-DESC:Description: &lt;br /&gt;&lt;p class=&quot;MsoNormal&quot; style=&quot;background: white
 \;&quot;&gt;&lt;span style=&quot;font-size: 12.0pt\; line-height: 107%\; mso-fareast-font-
 family: &#39;Times New Roman&#39;\; mso-bidi-font-family: Calibri\; mso-bidi-theme
 -font: minor-latin\; color: #222222\;&quot;&gt;Advanced Driver Assistance Systems 
 (ADAS) and autonomous vehicles rely heavily on AI-driven perception\, prob
 abilistic decision-making\, and large-scale data pipelines. Traditional de
 terministic validation models are insufficient for statistically proving s
 afety in complex\, real-world environments. This talk examines the technic
 al challenges in simulation\, real-world testing\, long-tail edge cases\, 
 regulatory compliance\, and AI validation. It also explores the emerging r
 ole of generative and agentic AI in transforming automotive safety testing
  methodologies.&amp;nbsp\;&lt;/span&gt;&lt;/p&gt;\n&lt;p class=&quot;MsoNormal&quot; style=&quot;background:
  white\;&quot;&gt;&lt;span style=&quot;font-size: 12.0pt\; line-height: 107%\; mso-fareast
 -font-family: &#39;Times New Roman&#39;\; mso-bidi-font-family: Calibri\; mso-bidi
 -theme-font: minor-latin\; color: #222222\;&quot;&gt;&lt;img src=&quot;https://events.vtoo
 ls.ieee.org/vtools_ui/media/display/9bc37bb0-2a18-4288-838d-35ef90ad1ac7&quot; 
 width=&quot;620&quot; height=&quot;221&quot;&gt;&lt;/span&gt;&lt;/p&gt;\n&lt;p class=&quot;MsoNormal&quot; style=&quot;backgrou
 nd: white\;&quot;&gt;&lt;strong&gt;&lt;span style=&quot;font-size: 12pt\; line-height: 107%\; co
 lor: rgb(34\, 34\, 34)\;&quot;&gt;&lt;a href=&quot;https://drive.google.com/file/d/1Il3nRL
 5_AEGbOdy540Mm-SAfpgxgtJXC/view?usp=sharing&quot;&gt;Event Flyer in PDF&lt;/a&gt;&amp;nbsp\;
 &lt;/span&gt;&lt;/strong&gt;&lt;/p&gt;&lt;br /&gt;&lt;br /&gt;Agenda: &lt;br /&gt;&lt;p&gt;11:30am - Pizza and water
  bottles will be served&lt;/p&gt;\n&lt;p&gt;11:30am - Brief Introduction to the IEEE S
 outheastern Michigan Section and IEEE Robotics &amp;amp\; Automation Society&lt;/
 p&gt;\n&lt;p&gt;11:35am - Introduction to the speaker\, Gaurav Baban Pokharkar&lt;/p&gt;\
 n&lt;p&gt;11:37am - Presentation by Gaurav Baban Pokharkar&lt;/p&gt;\n&lt;p&gt;12:10pm - Q &amp;
 amp\; A&lt;/p&gt;\n&lt;p&gt;12:20pm - Self-introduction of all the in-person as well a
 s Zoom participants&lt;/p&gt;\n&lt;p&gt;12:40pm - Introduction of Future R&amp;amp\;A even
 ts and optional LTU CS AI Robotics Lab visit&lt;/p&gt;
END:VEVENT
END:VCALENDAR

