BEGIN:VCALENDAR
VERSION:2.0
PRODID:IEEE vTools.Events//EN
CALSCALE:GREGORIAN
BEGIN:VTIMEZONE
TZID:America/Chicago
BEGIN:DAYLIGHT
DTSTART:20260308T030000
TZOFFSETFROM:-0600
TZOFFSETTO:-0500
RRULE:FREQ=YEARLY;BYDAY=2SU;BYMONTH=3
TZNAME:CDT
END:DAYLIGHT
BEGIN:STANDARD
DTSTART:20261101T010000
TZOFFSETFROM:-0500
TZOFFSETTO:-0600
RRULE:FREQ=YEARLY;BYDAY=1SU;BYMONTH=11
TZNAME:CST
END:STANDARD
END:VTIMEZONE
BEGIN:VEVENT
DTSTAMP:20260320T174210Z
UID:AFD106A6-1F39-4664-8614-835E9F5B73AC
DTSTART;TZID=America/Chicago:20260318T160000
DTEND;TZID=America/Chicago:20260318T170000
DESCRIPTION:Carl Tamm\, founder and President of Classic Connectors\, Inc.\
 , [www.classicconnectors.com [classicconnectors.com]](https://urldefense.c
 om/v3/__http:/www.classicconnectors.com__\;!!MLsdJ25-fIk!oHJLSCnHcHM2xlrTF
 ktfQeTX0UsUVSoxYZyzNRmZAOXb0JyleDXVFV7nPwT747QPHHunQtJ5N9GSqdl-jWimDjdADQ$
 ) and the ClampStar product line will offer a presentation on &quot;high temper
 ature&quot; applications of transmission line connectors\, which details the re
 ason that most compression connectors would not pass testing at 250C. This
  presentation lays out the reasons\, and a solution is offered\, allowing 
 utilities to rate exisiting ACSS lines at 250C using their shunts\, or rec
 onductor\, or build new lines using these connectors for use on ACSS\, for
  which there is really no solution today other than this.\n\nAll Southern 
 Company utilities have been using ClampStar for over 15 years\, both on la
 rge projects and also smaller maintenance applications. Georgia Power&#39;s fi
 rst major project covered all the splices on the Loopers Farm - Rome 230kV
 \, which was Condor SD conductor\, in December of 2010. The ClampStar unit
 s in the air today number in the hundreds of thousands. They have never ha
 d a failure.\n\nCarl will detail the hard science and engineering validati
 on behind the limits of legacy connectors\, specifically related to high t
 emperatures operations\, i.e.\, temperatures exceeding 93°C\, which exemp
 lify the reasons that legacy connectors are not capable of performing on c
 onductors which exceed temperatures much beyond 125°C. A solution will be
  presented\, accompanied by test data substantiating performance testing a
 t 335°C and 390°C conductor temperatures.\n\nSpeaker(s): Carl Tamm\, \n\
 nAgenda: \nAttending in person: Southern Company Services 3435 Colonnade P
 kwy\, Birmingham\, AL 35243\nDrive to the guard shack with gate.\n\nTell t
 he guard you are attending the IEEE PES meeting in the auditorium.\n\nPark
  in the lower North parking deck.\n\nEnter the Atrium to sign in.\n\nThen 
 get escorted back to the auditorium 1S.\n\nRoom: Auditorium 1S\, Bldg: Sou
 th Building\, 3435 Colonnade Parkway\, Birmingham\, Alabama\, United State
 s\, 35243\, Virtual: https://events.vtools.ieee.org/m/542848
LOCATION:Room: Auditorium 1S\, Bldg: South Building\, 3435 Colonnade Parkwa
 y\, Birmingham\, Alabama\, United States\, 35243\, Virtual: https://events
 .vtools.ieee.org/m/542848
ORGANIZER:roybrown@southernco.com
SEQUENCE:222
SUMMARY:Kunnekter Fizzix - Increasing Transmission Line Capacity with High-
 Temperature Connectors
URL;VALUE=URI:https://events.vtools.ieee.org/m/542848
X-ALT-DESC:Description: &lt;br /&gt;&lt;p&gt;&lt;span style=&quot;font-family: helvetica\, aria
 l\, sans-serif\;&quot;&gt;Carl Tamm\, founder and President of Classic Connectors\
 , Inc.\, &amp;nbsp\;&lt;a href=&quot;https://urldefense.com/v3/__http:/www.classicconn
 ectors.com__\;!!MLsdJ25-fIk!oHJLSCnHcHM2xlrTFktfQeTX0UsUVSoxYZyzNRmZAOXb0J
 yleDXVFV7nPwT747QPHHunQtJ5N9GSqdl-jWimDjdADQ$&quot; target=&quot;_blank&quot; rel=&quot;noopen
 er&quot;&gt;www.classicconnectors.com [classicconnectors.com]&lt;/a&gt; and the ClampSta
 r product line will offer a presentation on &quot;high temperature&quot; application
 s of transmission line connectors\, which details the reason that most com
 pression connectors would not pass testing at 250C. &amp;nbsp\;This presentati
 on lays out the reasons\, and a solution is offered\, allowing utilities t
 o rate exisiting ACSS lines at 250C using their shunts\, or reconductor\, 
 or build new lines using these connectors for use on ACSS\, for which ther
 e is really no solution today other than this.&lt;/span&gt;&lt;/p&gt;\n&lt;p&gt;&lt;span style=
 &quot;font-family: helvetica\, arial\, sans-serif\;&quot;&gt;All Southern Company utili
 ties have been using ClampStar for over 15 years\, both on large projects 
 and also smaller maintenance applications. Georgia Power&#39;s first major pro
 ject covered all the splices on the Loopers Farm - Rome 230kV\, which was 
 Condor SD conductor\, in December of 2010. &amp;nbsp\;The ClampStar units in t
 he air today number in the hundreds of thousands.&amp;nbsp\; They have never h
 ad a failure.&lt;/span&gt;&lt;/p&gt;\n&lt;div&gt;\n&lt;p style=&quot;margin-bottom: 0.14in\;&quot;&gt;&lt;span 
 style=&quot;font-family: helvetica\, arial\, sans-serif\;&quot;&gt;&lt;span style=&quot;font-si
 ze: medium\;&quot;&gt;Carl will detail the hard science and engineering validation
  behind the limits of legacy connectors\, specifically related to high tem
 peratures operations\, i.e.\, temperatures exceeding 93&amp;deg\;C\, which exe
 mplify the reasons that legacy connectors are not capable of performing on
  conductors which exceed temperatures much beyond 125&amp;deg\;C. A solution w
 ill be presented\, accompanied by test data substantiating performance tes
 ting at 335&amp;deg\;C and 390&amp;deg\;C conductor temperatures.&lt;/span&gt;&lt;/span&gt;&lt;/p
 &gt;\n&lt;p class=&quot;MsoNormal&quot; style=&quot;mso-margin-top-alt: auto\; mso-margin-botto
 m-alt: auto\;&quot;&gt;&amp;nbsp\;&lt;/p&gt;\n&lt;/div&gt;&lt;br /&gt;&lt;br /&gt;Agenda: &lt;br /&gt;&lt;dl&gt;\n&lt;dt titl
 e=&quot;Meeting link:&quot;&gt;Attending in person:&lt;/dt&gt;\n&lt;dt title=&quot;Meeting link:&quot;&gt;Sou
 thern Company Services&lt;/dt&gt;\n&lt;dt title=&quot;Meeting link:&quot;&gt;3435 Colonnade Pkwy
 \, Birmingham\, AL 35243&lt;/dt&gt;\n&lt;/dl&gt;\n&lt;p class=&quot;MsoNormal&quot;&gt;&lt;span style=&quot;fo
 nt-size: 11.0pt\;&quot;&gt;Drive to the guard shack&amp;nbsp\; with gate.&lt;/span&gt;&lt;/p&gt;\n
 &lt;p class=&quot;MsoNormal&quot;&gt;&lt;span style=&quot;font-size: 11.0pt\;&quot;&gt;&lt;img src=&quot;https://e
 vents.vtools.ieee.org/vtools_ui/media/display/9548eaac-5c33-4dfd-8750-247c
 a71b1356&quot; width=&quot;461&quot; height=&quot;285&quot;&gt;&lt;/span&gt;&lt;/p&gt;\n&lt;p class=&quot;MsoNormal&quot;&gt;&lt;span
  style=&quot;font-size: 11.0pt\;&quot;&gt;Tell the guard you are attending the IEEE PES
  meeting in the auditorium.&lt;/span&gt;&lt;/p&gt;\n&lt;p class=&quot;MsoNormal&quot;&gt;&lt;span style=&quot;
 font-size: 11.0pt\;&quot;&gt;Park in the lower North parking deck.&lt;/span&gt;&lt;/p&gt;\n&lt;p 
 class=&quot;MsoNormal&quot;&gt;&lt;span style=&quot;font-size: 11.0pt\;&quot;&gt;Enter the Atrium to si
 gn in.&lt;/span&gt;&lt;/p&gt;\n&lt;p class=&quot;MsoNormal&quot;&gt;&lt;span style=&quot;font-size: 11.0pt\;&quot;&gt;
 Then get escorted back to the auditorium 1S.&lt;/span&gt;&lt;/p&gt;\n&lt;p class=&quot;MsoNorm
 al&quot;&gt;&lt;span style=&quot;font-size: 11.0pt\;&quot;&gt;&lt;img src=&quot;https://events.vtools.ieee
 .org/vtools_ui/media/display/e18ad67d-0831-4c8a-9fe0-dcfad8efaf2a&quot; width=&quot;
 835&quot; height=&quot;813&quot;&gt;&lt;/span&gt;&lt;/p&gt;
END:VEVENT
END:VCALENDAR

