BEGIN:VCALENDAR
VERSION:2.0
PRODID:IEEE vTools.Events//EN
CALSCALE:GREGORIAN
BEGIN:VTIMEZONE
TZID:Asia/Kolkata
BEGIN:STANDARD
DTSTART:19451014T230000
TZOFFSETFROM:+0630
TZOFFSETTO:+0530
TZNAME:IST
END:STANDARD
END:VTIMEZONE
BEGIN:VEVENT
DTSTAMP:20260404T122309Z
UID:9B7F0EBE-7126-4BCF-AA6C-323B9984F4CA
DTSTART;TZID=Asia/Kolkata:20260307T173000
DTEND;TZID=Asia/Kolkata:20260307T223000
DESCRIPTION:The topic &quot;Fear\, Fraud &amp; Forensics: Decoding Digital Arrest in
  the AI-Driven Era&quot; explores the alarming rise and mechanics of sophistica
 ted cyber extortion schemes\, particularly the emerging &quot;digital arrest&quot; s
 cam where fraudsters impersonate law enforcement officers over video calls
  to intimidate and extort victims. Set against the backdrop of rapid techn
 ological advancement\, it highlights how malicious actors are weaponizing 
 Artificial Intelligence such as using deepfakes and voice cloning to make 
 these fraudulent threats highly convincing and induce fear. Concurrently\,
  the topic addresses the critical countermeasure: the role of modern digit
 al forensics and cybersecurity practices in investigating these complex\, 
 AI-assisted crimes\, tracking perpetrators\, and building defenses to prot
 ect individuals in an increasingly vulnerable digital landscape.\n\nThe Or
 bett Hotel\, Apte Road\, Shivaji Nagar\, Pune\, Maharashtra\, India\, 4110
 04
LOCATION:The Orbett Hotel\, Apte Road\, Shivaji Nagar\, Pune\, Maharashtra\
 , India\, 411004
ORGANIZER:deepa.mishra@ieee.org
SEQUENCE:26
SUMMARY:Fear\, Fraud and Forensics: Decoding Digital arrest in the AI-Drive
 n Era
URL;VALUE=URI:https://events.vtools.ieee.org/m/542971
X-ALT-DESC:Description: &lt;br /&gt;&lt;p&gt;The topic &lt;strong data-path-to-node=&quot;0&quot; da
 ta-index-in-node=&quot;10&quot;&gt;&quot;Fear\, Fraud &amp;amp\; Forensics: Decoding Digital Arr
 est in the AI-Driven Era&quot;&lt;/strong&gt; explores the alarming rise and mechanic
 s of sophisticated cyber extortion schemes\, particularly the emerging &quot;di
 gital arrest&quot; scam where fraudsters impersonate law enforcement officers o
 ver video calls to intimidate and extort victims. Set against the backdrop
  of rapid technological advancement\, it highlights how malicious actors a
 re weaponizing Artificial Intelligence such as using deepfakes and voice c
 loning to make these fraudulent threats highly convincing and induce fear.
  Concurrently\, the topic addresses the critical countermeasure: the role 
 of modern digital forensics and cybersecurity practices in investigating t
 hese complex\, AI-assisted crimes\, tracking perpetrators\, and building d
 efenses to protect individuals in an increasingly vulnerable digital lands
 cape.&lt;/p&gt;
END:VEVENT
END:VCALENDAR

