BEGIN:VCALENDAR
VERSION:2.0
PRODID:IEEE vTools.Events//EN
CALSCALE:GREGORIAN
BEGIN:VTIMEZONE
TZID:Asia/Kolkata
BEGIN:STANDARD
DTSTART:19451014T230000
TZOFFSETFROM:+0630
TZOFFSETTO:+0530
TZNAME:IST
END:STANDARD
END:VTIMEZONE
BEGIN:VEVENT
DTSTAMP:20260315T090440Z
UID:BB8E66F8-E4F9-426A-8B98-4578DC22A929
DTSTART;TZID=Asia/Kolkata:20260304T103500
DTEND;TZID=Asia/Kolkata:20260304T163700
DESCRIPTION:aaaa\n\n***CANCELED***\n\n22/1 \, opp Manyata Tech Park\, Nagaw
 ara\, bangalore\, Karnataka\, India\, 560045
LOCATION:22/1 \, opp Manyata Tech Park\, Nagawara\, bangalore\, Karnataka\,
  India\, 560045
ORGANIZER:abdulazeez.ec@hkbk.edu.in
SEQUENCE:12
SUMMARY:ieeee
URL;VALUE=URI:https://events.vtools.ieee.org/m/542973
X-ALT-DESC:Description: &lt;br /&gt;&lt;p&gt;aaaa&lt;/p&gt;
END:VEVENT
END:VCALENDAR

