BEGIN:VCALENDAR
VERSION:2.0
PRODID:IEEE vTools.Events//EN
CALSCALE:GREGORIAN
BEGIN:VTIMEZONE
TZID:America/New_York
BEGIN:DAYLIGHT
DTSTART:20260308T030000
TZOFFSETFROM:-0500
TZOFFSETTO:-0400
RRULE:FREQ=YEARLY;BYDAY=2SU;BYMONTH=3
TZNAME:EDT
END:DAYLIGHT
BEGIN:STANDARD
DTSTART:20261101T010000
TZOFFSETFROM:-0400
TZOFFSETTO:-0500
RRULE:FREQ=YEARLY;BYDAY=1SU;BYMONTH=11
TZNAME:EST
END:STANDARD
END:VTIMEZONE
BEGIN:VEVENT
DTSTAMP:20260227T155608Z
UID:B53BD5BA-AE59-4235-9D71-0CF3824A7016
DTSTART;TZID=America/New_York:20260731T120000
DTEND;TZID=America/New_York:20260731T133000
DESCRIPTION:This seminar provides a comprehensive look at low voltage circu
 it breaker testing requirements outlined in NFPA 70B – Standard for Elec
 trical Equipment Maintenance\, with a focus on how proper testing improves
  reliability\, safety\, and compliance. Attendees will gain a clear unders
 tanding of why circuit breaker testing is essential\, what NFPA 70B mandat
 es\, and how to apply best practices in the field. The session includes a 
 live demonstration comparing primary current injection and secondary curre
 nt injection\, allowing participants to see the strengths\, limitations\, 
 and practical applications of each method.\n\nThis Webinar is best suited 
 for electrical engineers\, maintenance and reliability professionals\, fie
 ld testing technicians\, and facility or plant electrical supervisors resp
 onsible for implementing NFPA 70B-compliant maintenance programs.\n\nKey T
 akeaways\n\nParticipants will leave with:\n\n· A clear understanding of N
 FPA 70B low voltage circuit breaker testing requirements\n\n· Knowledge o
 f how to apply primary and secondary injections correctly\n\n· Practical 
 insights from live demonstrations\n\n· Tools to improve electrical reliab
 ility and reduce unplanned outages\n\n· Confidence in building or improvi
 ng a compliant maintenance program\n\nSpeaker(s): Steve Antman\, AJ Khazam
 i\n\nVirtual: https://events.vtools.ieee.org/m/543133
LOCATION:Virtual: https://events.vtools.ieee.org/m/543133
ORGANIZER:kallemang@ieee.org
SEQUENCE:3
SUMMARY:Applying NFPA 70B: Low Voltage Circuit Breaker Testing with a live 
 demostration comparing primary and secondary current injections
URL;VALUE=URI:https://events.vtools.ieee.org/m/543133
X-ALT-DESC:Description: &lt;br /&gt;&lt;p class=&quot;MsoNormal&quot; style=&quot;margin-left: 0in\
 ; mso-para-margin-left: 0gd\; text-align: justify\; text-indent: -.1pt\; m
 so-char-indent-count: 0\; line-height: normal\; mso-outline-level: body-te
 xt\; mso-hyphenate: auto\; background: white\; mso-vertical-align-alt: aut
 o\;&quot;&gt;&lt;span style=&quot;font-size: 12pt\; font-family: Arial\, sans-serif\; colo
 r: rgb(34\, 34\, 34)\; position: relative\; top: 0pt\;&quot;&gt;This seminar provi
 des a comprehensive look at low voltage circuit breaker testing requiremen
 ts outlined in NFPA 70B &amp;ndash\; Standard for Electrical Equipment Mainten
 ance\, with a focus on how proper testing improves reliability\, safety\, 
 and compliance. Attendees will gain a clear understanding of why circuit b
 reaker testing is essential\, what NFPA 70B mandates\, and how to apply be
 st practices in the field. The session includes a live demonstration compa
 ring primary current injection and secondary current injection\, allowing 
 participants to see the strengths\, limitations\, and practical applicatio
 ns of each method.&lt;/span&gt;&lt;/p&gt;\n&lt;p class=&quot;MsoNormal&quot; style=&quot;margin-left: 0i
 n\; mso-para-margin-left: 0gd\; text-align: justify\; text-indent: -.1pt\;
  mso-char-indent-count: 0\; line-height: normal\; mso-outline-level: body-
 text\; mso-hyphenate: auto\; background: white\; mso-vertical-align-alt: a
 uto\;&quot;&gt;&lt;span style=&quot;font-size: 12pt\; font-family: Arial\, sans-serif\; co
 lor: rgb(34\, 34\, 34)\; position: relative\; top: 0pt\;&quot;&gt;This Webinar is 
 best suited for electrical engineers\, maintenance and reliability profess
 ionals\, field testing technicians\, and facility or plant electrical supe
 rvisors responsible for implementing NFPA 70B-compliant maintenance progra
 ms.&amp;nbsp\;&lt;/span&gt;&lt;/p&gt;\n&lt;p class=&quot;MsoNormal&quot; style=&quot;margin-left: 0in\; text
 -indent: -.1pt\; line-height: 115%\;&quot;&gt;&lt;span style=&quot;font-size: 12pt\;&quot;&gt;&lt;str
 ong&gt;&lt;span style=&quot;line-height: 115%\; font-family: Arial\, sans-serif\;&quot;&gt;Ke
 y Takeaways&lt;/span&gt;&lt;/strong&gt;&lt;/span&gt;&lt;/p&gt;\n&lt;p class=&quot;MsoNormal&quot; style=&quot;margin
 -left: 0in\; text-indent: -.1pt\; line-height: 115%\;&quot;&gt;&lt;span style=&quot;font-s
 ize: 12pt\; line-height: 115%\; font-family: Arial\, sans-serif\;&quot;&gt;Partici
 pants will leave with:&lt;/span&gt;&lt;/p&gt;\n&lt;p class=&quot;MsoNormal&quot; style=&quot;margin-left
 : 0in\; mso-para-margin-left: 0gd\; text-indent: -.1pt\; mso-char-indent-c
 ount: 0\; line-height: 115%\; mso-outline-level: body-text\; mso-list: l0 
 level1 lfo1\; mso-hyphenate: auto\; tab-stops: list .5in\; mso-vertical-al
 ign-alt: auto\;&quot;&gt;&lt;span style=&quot;font-size: 12pt\;&quot;&gt;&lt;!-- [if !supportLists]--
 &gt;&lt;span style=&quot;mso-bidi-font-size: 9.0pt\; line-height: 115%\; font-family:
  Symbol\; mso-fareast-font-family: Symbol\; mso-bidi-font-family: Symbol\;
 &quot;&gt;&lt;span style=&quot;mso-list: Ignore\;&quot;&gt;&amp;middot\;&lt;span style=&quot;font-style: norma
 l\; font-variant: normal\; font-size-adjust: none\; font-language-override
 : normal\; font-kerning: auto\; font-optical-sizing: auto\; font-feature-s
 ettings: normal\; font-variation-settings: normal\; font-weight: normal\; 
 font-stretch: normal\; line-height: normal\; font-family: &#39;Times New Roman
 &#39;\;&quot;&gt;&amp;nbsp\;&amp;nbsp\;&amp;nbsp\;&amp;nbsp\;&amp;nbsp\;&amp;nbsp\;&amp;nbsp\;&amp;nbsp\;&amp;nbsp\;&amp;nbsp\
 ;&amp;nbsp\;&amp;nbsp\;&amp;nbsp\;&amp;nbsp\;&amp;nbsp\;&amp;nbsp\;&amp;nbsp\;&amp;nbsp\;&amp;nbsp\;&amp;nbsp\; &lt;/
 span&gt;&lt;/span&gt;&lt;/span&gt;&lt;!--[endif]--&gt;&lt;span style=&quot;line-height: 115%\; font-fam
 ily: Arial\, sans-serif\;&quot;&gt;A clear understanding of NFPA 70B low voltage c
 ircuit breaker testing requirements&lt;/span&gt;&lt;/span&gt;&lt;/p&gt;\n&lt;p class=&quot;MsoNormal
 &quot; style=&quot;margin-left: 0in\; mso-para-margin-left: 0gd\; text-indent: -.1pt
 \; mso-char-indent-count: 0\; line-height: 115%\; mso-outline-level: body-
 text\; mso-list: l0 level1 lfo1\; mso-hyphenate: auto\; tab-stops: list .5
 in\; mso-vertical-align-alt: auto\;&quot;&gt;&lt;span style=&quot;font-size: 12pt\;&quot;&gt;&lt;!-- 
 [if !supportLists]--&gt;&lt;span style=&quot;mso-bidi-font-size: 9.0pt\; line-height:
  115%\; font-family: Symbol\; mso-fareast-font-family: Symbol\; mso-bidi-f
 ont-family: Symbol\;&quot;&gt;&lt;span style=&quot;mso-list: Ignore\;&quot;&gt;&amp;middot\;&lt;span styl
 e=&quot;font-style: normal\; font-variant: normal\; font-size-adjust: none\; fo
 nt-language-override: normal\; font-kerning: auto\; font-optical-sizing: a
 uto\; font-feature-settings: normal\; font-variation-settings: normal\; fo
 nt-weight: normal\; font-stretch: normal\; line-height: normal\; font-fami
 ly: &#39;Times New Roman&#39;\;&quot;&gt;&amp;nbsp\;&amp;nbsp\;&amp;nbsp\;&amp;nbsp\;&amp;nbsp\;&amp;nbsp\;&amp;nbsp\;
 &amp;nbsp\;&amp;nbsp\;&amp;nbsp\;&amp;nbsp\;&amp;nbsp\;&amp;nbsp\;&amp;nbsp\;&amp;nbsp\;&amp;nbsp\;&amp;nbsp\;&amp;nbs
 p\;&amp;nbsp\;&amp;nbsp\; &lt;/span&gt;&lt;/span&gt;&lt;/span&gt;&lt;!--[endif]--&gt;&lt;span style=&quot;line-hei
 ght: 115%\; font-family: Arial\, sans-serif\;&quot;&gt;Knowledge of how to apply p
 rimary and secondary injections correctly&lt;/span&gt;&lt;/span&gt;&lt;/p&gt;\n&lt;p class=&quot;Mso
 Normal&quot; style=&quot;margin-left: 0in\; mso-para-margin-left: 0gd\; text-indent:
  -.1pt\; mso-char-indent-count: 0\; line-height: 115%\; mso-outline-level:
  body-text\; mso-list: l0 level1 lfo1\; mso-hyphenate: auto\; tab-stops: l
 ist .5in\; mso-vertical-align-alt: auto\;&quot;&gt;&lt;span style=&quot;font-size: 12pt\;&quot;
 &gt;&lt;!-- [if !supportLists]--&gt;&lt;span style=&quot;mso-bidi-font-size: 9.0pt\; line-h
 eight: 115%\; font-family: Symbol\; mso-fareast-font-family: Symbol\; mso-
 bidi-font-family: Symbol\;&quot;&gt;&lt;span style=&quot;mso-list: Ignore\;&quot;&gt;&amp;middot\;&lt;spa
 n style=&quot;font-style: normal\; font-variant: normal\; font-size-adjust: non
 e\; font-language-override: normal\; font-kerning: auto\; font-optical-siz
 ing: auto\; font-feature-settings: normal\; font-variation-settings: norma
 l\; font-weight: normal\; font-stretch: normal\; line-height: normal\; fon
 t-family: &#39;Times New Roman&#39;\;&quot;&gt;&amp;nbsp\;&amp;nbsp\;&amp;nbsp\;&amp;nbsp\;&amp;nbsp\;&amp;nbsp\;&amp;
 nbsp\;&amp;nbsp\;&amp;nbsp\;&amp;nbsp\;&amp;nbsp\;&amp;nbsp\;&amp;nbsp\;&amp;nbsp\;&amp;nbsp\;&amp;nbsp\;&amp;nbsp
 \;&amp;nbsp\;&amp;nbsp\;&amp;nbsp\; &lt;/span&gt;&lt;/span&gt;&lt;/span&gt;&lt;!--[endif]--&gt;&lt;span style=&quot;li
 ne-height: 115%\; font-family: Arial\, sans-serif\;&quot;&gt;Practical insights fr
 om live demonstrations&lt;/span&gt;&lt;/span&gt;&lt;/p&gt;\n&lt;p class=&quot;MsoNormal&quot; style=&quot;marg
 in-left: 0in\; mso-para-margin-left: 0gd\; text-indent: -.1pt\; mso-char-i
 ndent-count: 0\; line-height: 115%\; mso-outline-level: body-text\; mso-li
 st: l0 level1 lfo1\; mso-hyphenate: auto\; tab-stops: list .5in\; mso-vert
 ical-align-alt: auto\;&quot;&gt;&lt;span style=&quot;font-size: 12pt\;&quot;&gt;&lt;!-- [if !supportL
 ists]--&gt;&lt;span style=&quot;mso-bidi-font-size: 9.0pt\; line-height: 115%\; font-
 family: Symbol\; mso-fareast-font-family: Symbol\; mso-bidi-font-family: S
 ymbol\;&quot;&gt;&lt;span style=&quot;mso-list: Ignore\;&quot;&gt;&amp;middot\;&lt;span style=&quot;font-style
 : normal\; font-variant: normal\; font-size-adjust: none\; font-language-o
 verride: normal\; font-kerning: auto\; font-optical-sizing: auto\; font-fe
 ature-settings: normal\; font-variation-settings: normal\; font-weight: no
 rmal\; font-stretch: normal\; line-height: normal\; font-family: &#39;Times Ne
 w Roman&#39;\;&quot;&gt;&amp;nbsp\;&amp;nbsp\;&amp;nbsp\;&amp;nbsp\;&amp;nbsp\;&amp;nbsp\;&amp;nbsp\;&amp;nbsp\;&amp;nbsp\
 ;&amp;nbsp\;&amp;nbsp\;&amp;nbsp\;&amp;nbsp\;&amp;nbsp\;&amp;nbsp\;&amp;nbsp\;&amp;nbsp\;&amp;nbsp\;&amp;nbsp\;&amp;nb
 sp\; &lt;/span&gt;&lt;/span&gt;&lt;/span&gt;&lt;!--[endif]--&gt;&lt;span style=&quot;line-height: 115%\; f
 ont-family: Arial\, sans-serif\;&quot;&gt;Tools to improve electrical reliability 
 and reduce unplanned outages&lt;/span&gt;&lt;/span&gt;&lt;/p&gt;\n&lt;p class=&quot;MsoNormal&quot; style
 =&quot;margin-left: 0in\; mso-para-margin-left: 0gd\; text-indent: -.1pt\; mso-
 char-indent-count: 0\; line-height: 115%\; mso-outline-level: body-text\; 
 mso-list: l0 level1 lfo1\; mso-hyphenate: auto\; tab-stops: list .5in\; ms
 o-vertical-align-alt: auto\;&quot;&gt;&lt;span style=&quot;font-size: 12pt\;&quot;&gt;&lt;!-- [if !su
 pportLists]--&gt;&lt;span style=&quot;mso-bidi-font-size: 9.0pt\; line-height: 115%\;
  font-family: Symbol\; mso-fareast-font-family: Symbol\; mso-bidi-font-fam
 ily: Symbol\;&quot;&gt;&lt;span style=&quot;mso-list: Ignore\;&quot;&gt;&amp;middot\;&lt;span style=&quot;font
 -style: normal\; font-variant: normal\; font-size-adjust: none\; font-lang
 uage-override: normal\; font-kerning: auto\; font-optical-sizing: auto\; f
 ont-feature-settings: normal\; font-variation-settings: normal\; font-weig
 ht: normal\; font-stretch: normal\; line-height: normal\; font-family: &#39;Ti
 mes New Roman&#39;\;&quot;&gt;&amp;nbsp\;&amp;nbsp\;&amp;nbsp\;&amp;nbsp\;&amp;nbsp\;&amp;nbsp\;&amp;nbsp\;&amp;nbsp\;
 &amp;nbsp\;&amp;nbsp\;&amp;nbsp\;&amp;nbsp\;&amp;nbsp\;&amp;nbsp\;&amp;nbsp\;&amp;nbsp\;&amp;nbsp\;&amp;nbsp\;&amp;nbs
 p\;&amp;nbsp\; &lt;/span&gt;&lt;/span&gt;&lt;/span&gt;&lt;!--[endif]--&gt;&lt;span style=&quot;line-height: 11
 5%\; font-family: Arial\, sans-serif\;&quot;&gt;Confidence in building or improvin
 g a compliant maintenance program&lt;/span&gt;&lt;/span&gt;&lt;/p&gt;
END:VEVENT
END:VCALENDAR

