BEGIN:VCALENDAR
VERSION:2.0
PRODID:IEEE vTools.Events//EN
CALSCALE:GREGORIAN
BEGIN:VTIMEZONE
TZID:Europe/Istanbul
BEGIN:DAYLIGHT
DTSTART:20380119T061407
TZOFFSETFROM:+0300
TZOFFSETTO:+0300
RRULE:FREQ=YEARLY;BYDAY=3TU;BYMONTH=1
TZNAME:+03
END:DAYLIGHT
BEGIN:STANDARD
DTSTART:20160907T000000
TZOFFSETFROM:+0300
TZOFFSETTO:+0300
RRULE:FREQ=YEARLY;BYDAY=1WE;BYMONTH=9
TZNAME:+03
END:STANDARD
END:VTIMEZONE
BEGIN:VEVENT
DTSTAMP:20260317T095735Z
UID:7CF82CA7-9705-4355-A90C-D03B7F1D54D1
DTSTART;TZID=Europe/Istanbul:20260306T160000
DTEND;TZID=Europe/Istanbul:20260306T180000
DESCRIPTION:In the seminar of IEEE Türkiye Professional Development and Ed
 ucational Activities Group\, Dr. Kaneko will share various practical examp
 les of use and non-use of generative AI tools in college classrooms that a
 re centered around enhancing human skills\, instead of outsourcing for bot
 h learners and educators.\n\nSpeaker(s): Yuki Kaneko\n\nVirtual: https://e
 vents.vtools.ieee.org/m/543460
LOCATION:Virtual: https://events.vtools.ieee.org/m/543460
ORGANIZER:kursat.cagiltay@tedu.edu.tr
SEQUENCE:26
SUMMARY:IEEE Türkiye Section Education Seminar Series - 1 &#39;Human Centered 
 AI Use: Ideas foe Effective Teaching&#39;
URL;VALUE=URI:https://events.vtools.ieee.org/m/543460
X-ALT-DESC:Description: &lt;br /&gt;&lt;p&gt;In the seminar of IEEE T&amp;uuml\;rkiye Profe
 ssional Development and Educational Activities Group\, Dr. Kaneko will sha
 re various practical examples of use and non-use of generative AI tools in
  college classrooms that are centered around enhancing human skills\, inst
 ead of outsourcing for both learners and educators.&amp;nbsp\;&amp;nbsp\;&lt;/p&gt;
END:VEVENT
END:VCALENDAR

