BEGIN:VCALENDAR
VERSION:2.0
PRODID:IEEE vTools.Events//EN
CALSCALE:GREGORIAN
BEGIN:VTIMEZONE
TZID:America/Sao_Paulo
BEGIN:DAYLIGHT
DTSTART:20380119T001407
TZOFFSETFROM:-0300
TZOFFSETTO:-0300
RRULE:FREQ=YEARLY;BYDAY=3TU;BYMONTH=1
TZNAME:-03
END:DAYLIGHT
BEGIN:STANDARD
DTSTART:20190216T230000
TZOFFSETFROM:-0200
TZOFFSETTO:-0300
RRULE:FREQ=YEARLY;BYDAY=3SA;BYMONTH=2
TZNAME:-03
END:STANDARD
END:VTIMEZONE
BEGIN:VEVENT
DTSTAMP:20260302T232158Z
UID:284BF0DE-0BE4-4D75-A055-9AB59716DF25
DTSTART;TZID=America/Sao_Paulo:20251110T140000
DTEND;TZID=America/Sao_Paulo:20251110T170000
DESCRIPTION:Realização de visita técnica às usinas fotovoltaicas instal
 adas na UFF\, em parceria com o Laboratório NITEE\, proporcionando aos pa
 rticipantes uma vivência prática sobre a geração de energia solar no a
 mbiente universitário\, além da compreensão dos aspectos técnicos\, op
 eracionais e de monitoramento dos sistemas.\n\nBldg: NAB\, Rua Passo da P
 átria 137\, Niterói\, Rio de Janeiro\, Brazil\, 24210-240
LOCATION:Bldg: NAB\, Rua Passo da Pátria 137\, Niterói\, Rio de Janeiro\,
  Brazil\, 24210-240
ORGANIZER:uffpes@gmail.com
SEQUENCE:22
SUMMARY:Visita as Usinas Solares UFF
URL;VALUE=URI:https://events.vtools.ieee.org/m/544141
X-ALT-DESC:Description: &lt;br /&gt;&lt;div class=&quot;flex flex-col text-sm pb-25&quot;&gt;\n&lt;a
 rticle class=&quot;text-token-text-primary w-full focus:outline-none [--shadow-
 height:45px] has-data-writing-block:pointer-events-none has-data-writing-b
 lock:-mt-(--shadow-height) has-data-writing-block:pt-(--shadow-height) [&amp;a
 mp\;:has([data-writing-block])&amp;gt\;*]:pointer-events-auto scroll-mt-[calc(
 var(--header-height)+min(200px\,max(70px\,20svh)))]&quot; dir=&quot;auto&quot; tabindex=&quot;
 -1&quot; data-turn-id=&quot;request-69a3105e-1488-8330-9adc-8ccf88c881f9-5&quot; data-tes
 tid=&quot;conversation-turn-22&quot; data-scroll-anchor=&quot;true&quot; data-turn=&quot;assistant&quot;
 &gt;\n&lt;div class=&quot;text-base my-auto mx-auto pb-10 [--thread-content-margin:--
 spacing(4)] @w-sm/main:[--thread-content-margin:--spacing(6)] @w-lg/main:[
 --thread-content-margin:--spacing(16)] px-(--thread-content-margin)&quot;&gt;\n&lt;di
 v class=&quot;[--thread-content-max-width:40rem] @w-lg/main:[--thread-content-m
 ax-width:48rem] mx-auto max-w-(--thread-content-max-width) flex-1 group/tu
 rn-messages focus-visible:outline-hidden relative flex w-full min-w-0 flex
 -col agent-turn&quot; tabindex=&quot;-1&quot;&gt;\n&lt;div class=&quot;flex max-w-full flex-col grow
 &quot;&gt;\n&lt;div class=&quot;min-h-8 text-message relative flex w-full flex-col items-e
 nd gap-2 text-start break-words whitespace-normal [.text-message+&amp;amp\;]:m
 t-1&quot; dir=&quot;auto&quot; data-message-author-role=&quot;assistant&quot; data-message-id=&quot;0b5a
 a4d3-b9eb-4991-ba7c-e734485b8c70&quot; data-message-model-slug=&quot;gpt-5-2&quot;&gt;\n&lt;div
  class=&quot;flex w-full flex-col gap-1 empty:hidden first:pt-[1px]&quot;&gt;\n&lt;div cla
 ss=&quot;markdown prose dark:prose-invert w-full wrap-break-word light markdown
 -new-styling&quot;&gt;\n&lt;p data-start=&quot;0&quot; data-end=&quot;311&quot; data-is-last-node=&quot;&quot; data
 -is-only-node=&quot;&quot;&gt;Realiza&amp;ccedil\;&amp;atilde\;o de visita t&amp;eacute\;cnica &amp;agr
 ave\;s usinas fotovoltaicas instaladas na UFF\, em parceria com o Laborat&amp;
 oacute\;rio NITEE\, proporcionando aos participantes uma viv&amp;ecirc\;ncia p
 r&amp;aacute\;tica sobre a gera&amp;ccedil\;&amp;atilde\;o de energia solar no ambient
 e universit&amp;aacute\;rio\, al&amp;eacute\;m da compreens&amp;atilde\;o dos aspectos
  t&amp;eacute\;cnicos\, operacionais e de monitoramento dos sistemas.&lt;/p&gt;\n&lt;/d
 iv&gt;\n&lt;/div&gt;\n&lt;/div&gt;\n&lt;/div&gt;\n&lt;div class=&quot;mt-3 w-full empty:hidden&quot;&gt;&amp;nbsp\;
 &lt;/div&gt;\n&lt;/div&gt;\n&lt;/div&gt;\n&lt;/article&gt;\n&lt;/div&gt;
END:VEVENT
END:VCALENDAR

