BEGIN:VCALENDAR
VERSION:2.0
PRODID:IEEE vTools.Events//EN
CALSCALE:GREGORIAN
BEGIN:VTIMEZONE
TZID:America/Los_Angeles
BEGIN:DAYLIGHT
DTSTART:20260308T030000
TZOFFSETFROM:-0800
TZOFFSETTO:-0700
RRULE:FREQ=YEARLY;BYDAY=2SU;BYMONTH=3
TZNAME:PDT
END:DAYLIGHT
BEGIN:STANDARD
DTSTART:20261101T010000
TZOFFSETFROM:-0700
TZOFFSETTO:-0800
RRULE:FREQ=YEARLY;BYDAY=1SU;BYMONTH=11
TZNAME:PST
END:STANDARD
END:VTIMEZONE
BEGIN:VEVENT
DTSTAMP:20260320T224736Z
UID:B632585D-6930-481A-9C23-CF324C44446C
DTSTART;TZID=America/Los_Angeles:20260313T133000
DTEND;TZID=America/Los_Angeles:20260313T143000
DESCRIPTION:The unavoidable globalization of our society is currently also 
 echoed in research. In this talk\, I will provide my perspective of workin
 g in four countries (three continents) while performing research in both a
 cademia and national laboratories and collaborating with industries. I wil
 l present suggestions on how to (i) quickly adjust to different working cu
 ltures\, (ii) navigate language barriers to effectively communicate\, and 
 (iii) foster knowledge when exchanging ideas while pondering the ascending
  interdependence of countries. Junior investigators in photonics are livin
 g in exciting times to advance innovation and can excel upon adjusting the
 mselves to the current\, global landscape in research.\n\nSpeaker(s): Mari
 na\, \n\nRoom: 2512\, Bldg: Jacobs School of Engineering \, 9500 Gilman Dr
 \, La Jolla\, California\, United States\, 92093
LOCATION:Room: 2512\, Bldg: Jacobs School of Engineering \, 9500 Gilman Dr\
 , La Jolla\, California\, United States\, 92093
ORGANIZER:nkoripally@ucsd.edu
SEQUENCE:8
SUMMARY:Photonics research across borders: opportunities and challenges of 
 globalization
URL;VALUE=URI:https://events.vtools.ieee.org/m/544150
X-ALT-DESC:Description: &lt;br /&gt;&lt;p class=&quot;MsoNormal&quot; style=&quot;text-align: justi
 fy\; text-justify: inter-ideograph\;&quot;&gt;&lt;span style=&quot;font-family: &#39;Times New
  Roman&#39;\,serif\;&quot;&gt;The unavoidable globalization of our society is currentl
 y also echoed in research. In this talk\, I will provide my perspective of
  working in four countries (three continents) while performing research in
  both academia and national laboratories and collaborating with industries
 . I will present suggestions on how to (i) quickly adjust to different wor
 king cultures\, (ii) navigate language barriers to effectively communicate
 \, and (iii) foster knowledge when exchanging ideas while pondering the as
 cending interdependence of countries. Junior investigators in photonics ar
 e living in exciting times to advance innovation and can excel upon adjust
 ing themselves to the current\, global landscape in research.&lt;/span&gt;&lt;/p&gt;
END:VEVENT
END:VCALENDAR

