BEGIN:VCALENDAR
VERSION:2.0
PRODID:IEEE vTools.Events//EN
CALSCALE:GREGORIAN
BEGIN:VTIMEZONE
TZID:Asia/Kolkata
BEGIN:STANDARD
DTSTART:19451014T230000
TZOFFSETFROM:+0630
TZOFFSETTO:+0530
TZNAME:IST
END:STANDARD
END:VTIMEZONE
BEGIN:VEVENT
DTSTAMP:20260303T143608Z
UID:F55DDD5A-7EF0-4CB0-A735-ECAC1E6646BF
DTSTART;TZID=Asia/Kolkata:20260314T080000
DTEND;TZID=Asia/Kolkata:20260315T120000
DESCRIPTION:About the Event:\n\nChipVerse’26 is a 24-hour hardware-focuse
 d hackathon designed to challenge undergraduate students to innovate in th
 e domains of Analog VLSI\, Digital VLSI\, and Embedded Systems.\n\nThe hac
 kathon emphasizes real-world problem-solving at the circuit\, architecture
 \, and system levels\, encouraging participants to ideate\, design\, simul
 ate\, and prototype solutions aligned with current semiconductor and embed
 ded industry challenges.\n\nParticipants will work in teams to develop tec
 hnically sound and innovative solutions under expert mentorship and indust
 ry evaluation.\n\nDomains &amp; Themes:\n\n-\nAnalog VLSI\n\n-\nLow Power and 
 Portable Analog Systems\n\n-\nPower Supply and Energy Conversion Circuits\
 n\n-\nCommunication and RF Applications\n\n-\nSensor Interface and Signal 
 Processing Circuits\n\n-\nIndustrial and Control Electronics\n\n-\nDigital
  VLSI\n\n-\nAccelerating AI Computing\n\n-\nAdvanced Processor Architectur
 es &amp; Components\n\n-\nDigital Game Logic and AI-on-Chip Implementation\n\n
 -\nMulti-Protocol Communication Systems\n\n-\nHardware Security and Truste
 d Computing\n\n-\nEmbedded Systems\n\n-\nSmart Energy and Power Management
  Systems\n\n-\nCyber-Physical and Real-Time Control Systems\n\n-\nEmbedded
  Instrumentation and Data Acquisition Systems\n\n-\nEmbedded Communication
  and Networked Systems\n\n-\nWildlife Monitoring and Environmental Embedde
 d Systems\n\nNote: Teams are free to choose any project title aligned with
  a selected theme.\n\nDayananda Sagar College of Engineering\, Shavige Mal
 leshwara Hills\, 91st Main Rd\, 1st Stage\, Kumaraswamy Layout\, Bengaluru
 \, Karnataka\, India\, 560111
LOCATION:Dayananda Sagar College of Engineering\, Shavige Malleshwara Hills
 \, 91st Main Rd\, 1st Stage\, Kumaraswamy Layout\, Bengaluru\, Karnataka\,
  India\, 560111
ORGANIZER:avamsikrishna@ieee.org
SEQUENCE:11
SUMMARY:ChipVerse’26 – 24 Hour VLSI &amp; Embedded Systems Hackathon
URL;VALUE=URI:https://events.vtools.ieee.org/m/544282
X-ALT-DESC:Description: &lt;br /&gt;&lt;p&gt;&lt;strong&gt;About the Event:&lt;/strong&gt;&lt;/p&gt;\n&lt;p 
 data-start=&quot;580&quot; data-end=&quot;764&quot;&gt;&lt;strong data-start=&quot;580&quot; data-end=&quot;596&quot;&gt;Ch
 ipVerse&amp;rsquo\;26&lt;/strong&gt; is a 24-hour hardware-focused hackathon designe
 d to challenge undergraduate students to innovate in the domains of &lt;stron
 g data-start=&quot;712&quot; data-end=&quot;763&quot;&gt;Analog VLSI\, Digital VLSI\, and Embedde
 d Systems&lt;/strong&gt;.&lt;/p&gt;\n&lt;p data-start=&quot;766&quot; data-end=&quot;1017&quot;&gt;The hackathon
  emphasizes real-world problem-solving at the &lt;strong data-start=&quot;825&quot; dat
 a-end=&quot;869&quot;&gt;circuit\, architecture\, and system levels&lt;/strong&gt;\, encourag
 ing participants to ideate\, design\, simulate\, and prototype solutions a
 ligned with current semiconductor and embedded industry challenges.&lt;/p&gt;\n&lt;
 p data-start=&quot;1019&quot; data-end=&quot;1153&quot;&gt;Participants will work in teams to dev
 elop technically sound and innovative solutions under expert mentorship an
 d industry evaluation.&lt;/p&gt;\n&lt;p data-start=&quot;1019&quot; data-end=&quot;1153&quot;&gt;&lt;strong&gt;D
 omains &amp;amp\; Themes:&lt;/strong&gt;&lt;/p&gt;\n&lt;ul&gt;\n&lt;li data-start=&quot;1019&quot; data-end=&quot;
 1153&quot;&gt;\n&lt;p&gt;Analog VLSI&lt;/p&gt;\n&lt;ul&gt;\n&lt;li data-start=&quot;1019&quot; data-end=&quot;1153&quot;&gt;\n
 &lt;p&gt;Low Power and Portable Analog Systems&lt;/p&gt;\n&lt;/li&gt;\n&lt;li data-start=&quot;1019&quot;
  data-end=&quot;1153&quot;&gt;\n&lt;p&gt;Power Supply and Energy Conversion Circuits&lt;/p&gt;\n&lt;/l
 i&gt;\n&lt;li data-start=&quot;1019&quot; data-end=&quot;1153&quot;&gt;\n&lt;p&gt;Communication and RF Applic
 ations&lt;/p&gt;\n&lt;/li&gt;\n&lt;li data-start=&quot;1019&quot; data-end=&quot;1153&quot;&gt;\n&lt;p&gt;Sensor Inter
 face and Signal Processing Circuits&lt;/p&gt;\n&lt;/li&gt;\n&lt;li data-start=&quot;1019&quot; data
 -end=&quot;1153&quot;&gt;\n&lt;p&gt;Industrial and Control Electronics&lt;/p&gt;\n&lt;/li&gt;\n&lt;/ul&gt;\n&lt;/l
 i&gt;\n&lt;li data-start=&quot;1019&quot; data-end=&quot;1153&quot;&gt;\n&lt;p&gt;Digital VLSI&lt;/p&gt;\n&lt;ul&gt;\n&lt;li
  data-start=&quot;1019&quot; data-end=&quot;1153&quot;&gt;\n&lt;p&gt;Accelerating AI Computing&lt;/p&gt;\n&lt;/l
 i&gt;\n&lt;li data-start=&quot;1019&quot; data-end=&quot;1153&quot;&gt;\n&lt;p&gt;Advanced Processor Architec
 tures &amp;amp\; Components&lt;/p&gt;\n&lt;/li&gt;\n&lt;li data-start=&quot;1019&quot; data-end=&quot;1153&quot;&gt;
 \n&lt;p&gt;Digital Game Logic and AI-on-Chip Implementation&lt;/p&gt;\n&lt;/li&gt;\n&lt;li data
 -start=&quot;1019&quot; data-end=&quot;1153&quot;&gt;\n&lt;p&gt;Multi-Protocol Communication Systems&lt;/p
 &gt;\n&lt;/li&gt;\n&lt;li data-start=&quot;1019&quot; data-end=&quot;1153&quot;&gt;\n&lt;p&gt;Hardware Security and
  Trusted Computing&lt;/p&gt;\n&lt;/li&gt;\n&lt;/ul&gt;\n&lt;/li&gt;\n&lt;li data-start=&quot;1019&quot; data-en
 d=&quot;1153&quot;&gt;\n&lt;p&gt;Embedded Systems&lt;/p&gt;\n&lt;ul&gt;\n&lt;li data-start=&quot;1019&quot; data-end=&quot;
 1153&quot;&gt;\n&lt;p&gt;Smart Energy and Power Management Systems&lt;/p&gt;\n&lt;/li&gt;\n&lt;li data-
 start=&quot;1019&quot; data-end=&quot;1153&quot;&gt;\n&lt;p&gt;Cyber-Physical and Real-Time Control Sys
 tems&lt;/p&gt;\n&lt;/li&gt;\n&lt;li data-start=&quot;1019&quot; data-end=&quot;1153&quot;&gt;\n&lt;p&gt;Embedded Instr
 umentation and Data Acquisition Systems&lt;/p&gt;\n&lt;/li&gt;\n&lt;li data-start=&quot;1019&quot; 
 data-end=&quot;1153&quot;&gt;\n&lt;p&gt;Embedded Communication and Networked Systems&lt;/p&gt;\n&lt;/l
 i&gt;\n&lt;li data-start=&quot;1019&quot; data-end=&quot;1153&quot;&gt;\n&lt;p&gt;Wildlife Monitoring and Env
 ironmental Embedded Systems&lt;/p&gt;\n&lt;/li&gt;\n&lt;/ul&gt;\n&lt;/li&gt;\n&lt;/ul&gt;\n&lt;p&gt;&lt;em&gt;Note: 
 Teams are free to choose any project title aligned with a selected theme.&lt;
 /em&gt;&lt;/p&gt;
END:VEVENT
END:VCALENDAR

