BEGIN:VCALENDAR
VERSION:2.0
PRODID:IEEE vTools.Events//EN
CALSCALE:GREGORIAN
BEGIN:VTIMEZONE
TZID:America/New_York
BEGIN:DAYLIGHT
DTSTART:20260308T030000
TZOFFSETFROM:-0500
TZOFFSETTO:-0400
RRULE:FREQ=YEARLY;BYDAY=2SU;BYMONTH=3
TZNAME:EDT
END:DAYLIGHT
BEGIN:STANDARD
DTSTART:20261101T010000
TZOFFSETFROM:-0400
TZOFFSETTO:-0500
RRULE:FREQ=YEARLY;BYDAY=1SU;BYMONTH=11
TZNAME:EST
END:STANDARD
END:VTIMEZONE
BEGIN:VEVENT
DTSTAMP:20260407T143013Z
UID:96A686B8-0069-4687-BA92-3068B8580E91
DTSTART;TZID=America/New_York:20260425T090000
DTEND;TZID=America/New_York:20260425T140000
DESCRIPTION:### CALL FOR CAREER PRESENTERS ###\n\nSee Her\, Be Her is Girl 
 Scout Heart of New Jersey&#39;s annual career fair for Girl Scouts in grades K
 -12. Guests\, most of whom are women\, from all walks - and careers - of l
 ife are invited to share what they do\, provide hands-on activities or art
 ifacts related to their work\, and be available for questions. The event i
 s run open house style\, allowing the Girl Scouts to move organically thro
 ugh the space and explore what catches their attention.\n\nWe are looking 
 for local volunteers to present their career at a booth to the scouts that
  will be in attendance. Please register through vTools if you would like t
 o volunteer for this event\n\nNot an IEEE member or an engineer? NO PROBLE
 M\nThis career fair covers all job types\, STEM and non-STEM. We have engi
 neers as well as yoga instructors\, cooks\, business people\, fire fighter
 s ... you name it and you can present!\n\nDate: Saturday\, April 25th\nTim
 e: 9:00am-2:00pm (setup from 9-10am | event 10am-1pm | lunch 1-2pm)\nLocat
 ion: Stevens Institute of Technology\, Hoboken\, NJ\, USA\n*Note: Lunch an
 d parking are free\n\nHow to prepare:\nCreate an interactive table display
  featuring information about your career. Flyers\, props\, visuals\, and s
 hort videos are encouraged. Giveaways are welcome and always a hit with th
 e girls.\n\nProvide a brief hands-on activity (3-5 minutes) that allows gi
 rls to experience your profession in action.\n\nThere will be over 30 tabl
 es at this event\, and the STEM professions are always a hit with the girl
 s\, but the professions do not have to be just STEM fields. When you regis
 ter to volunteer\, please add a note on what is your profession is.\n\nPar
 king will be in the Stevens Babbio parking lot\, but if you have materials
  to drop off\, you can drive directly to the Howe Center\n\nHave a Girl Sc
 out that wants to attend? More details and the Scout registration is at:\n
 https://www.gshnj.org/en/sf-events-repository/2026/see-her--be-her---a-car
 eer-exploration-fair-for-girls.html\n\nThank for your support!\n\nMore inf
 ormation about:\n[Girl Scouts Heart of New Jersey](https://www.gshnj.org/)
 \n[IEEE Future Networks](https://futurenetworks.ieee.org/)\n[Stevens Insti
 tute of Technology](https://stevens.edu/)\n\nAgenda: \nTestimonial from an
  IEEE volunteer: It was truly inspiring to be part of this exciting event\
 , where the energy and curiosity of tomorrow’s leaders and innovators fi
 lled the room. Engaging with the Girl Scouts and sharing insights into STE
 M careers was a powerful reminder of the importance of mentorship and repr
 esentation in technology. A heartfelt thank you to the Girl Scouts organiz
 ation\, Stevens Institute of Technology\, and the dedicated IEEE volunteer
 s who participated as career exhibitors—your presence and passion helped
  spark imaginations and plant the seeds for future breakthroughs.\n\n[]\n\
 n[]\n\n[]\n\nRoom: 4th Floor\, Bldg: Howe Center\, Stevens Institute of Te
 chnology\, Hoboken\, New Jersey\, United States
LOCATION:Room: 4th Floor\, Bldg: Howe Center\, Stevens Institute of Technol
 ogy\, Hoboken\, New Jersey\, United States
ORGANIZER:c.polk@comsoc.org
SEQUENCE:38
SUMMARY:See Her\, Be Her is Girl Scout Heart of New Jersey&#39;s annual career 
 fair 2026
URL;VALUE=URI:https://events.vtools.ieee.org/m/544292
X-ALT-DESC:Description: &lt;br /&gt;&lt;div&gt;&lt;strong&gt;&lt;span class=&quot;il&quot;&gt;### CALL FOR CA
 REER PRESENTERS ###&lt;/span&gt;&lt;/strong&gt;&lt;/div&gt;\n&lt;div&gt;&amp;nbsp\;&lt;/div&gt;\n&lt;div&gt;&lt;stron
 g&gt;&lt;span class=&quot;il&quot;&gt;See&lt;/span&gt;&amp;nbsp\;&lt;span class=&quot;il&quot;&gt;Her&lt;/span&gt;\, Be&amp;nbsp\
 ;&lt;span class=&quot;il&quot;&gt;Her&lt;/span&gt;&lt;/strong&gt;&amp;nbsp\;is Girl Scout Heart of New Jer
 sey&#39;s annual career fair for Girl Scouts in grades K-12. Guests\, most of 
 whom are women\, from all walks - and careers - of life are invited to sha
 re what they do\, provide hands-on activities or artifacts related to thei
 r work\, and be available for questions. The event is run open house style
 \, allowing the Girl Scouts to move organically through the space and expl
 ore what catches their attention.&amp;nbsp\;&lt;/div&gt;\n&lt;div&gt;&amp;nbsp\;&lt;/div&gt;\n&lt;div&gt;W
 e are looking for local volunteers to present their career at a booth to t
 he scouts that will be in attendance. Please register through vTools if yo
 u would like to volunteer for this event&lt;/div&gt;\n&lt;div&gt;&amp;nbsp\;&lt;/div&gt;\n&lt;div&gt;&lt;
 strong&gt;Not an IEEE member or an engineer? NO PROBLEM&lt;/strong&gt;&lt;/div&gt;\n&lt;div&gt;
 This career fair covers all job types\, STEM and non-STEM. We have enginee
 rs as well as yoga instructors\, cooks\, business people\, fire fighters .
 .. you name it and you can present!&lt;/div&gt;\n&lt;div&gt;&amp;nbsp\;&lt;/div&gt;\n&lt;div&gt;&lt;stron
 g&gt;Date&lt;/strong&gt;: Saturday\, April 25th&lt;/div&gt;\n&lt;div&gt;&lt;strong&gt;Time&lt;/strong&gt;: 
 9:00am-2:00pm (setup from 9-10am | event 10am-1pm | lunch 1-2pm)&lt;/div&gt;\n&lt;d
 iv&gt;&lt;strong&gt;Location:&lt;/strong&gt; Stevens Institute of Technology\, Hoboken\, 
 NJ\, USA&lt;/div&gt;\n&lt;div&gt;&lt;em&gt;*Note: Lunch and parking are free&lt;/em&gt;&lt;/div&gt;\n&lt;di
 v&gt;&amp;nbsp\;&lt;/div&gt;\n&lt;div&gt;&lt;strong&gt;How to prepare:&lt;/strong&gt;&lt;/div&gt;\n&lt;div&gt;Create 
 an interactive table display featuring information about your career. Flye
 rs\, props\, visuals\, and short videos are encouraged. Giveaways are welc
 ome and always a hit with the girls.&lt;/div&gt;\n&lt;div&gt;&amp;nbsp\;&lt;/div&gt;\n&lt;div&gt;Provi
 de a brief hands-on activity (3-5 minutes) that allows girls to experience
  your profession in action.&amp;nbsp\;&lt;/div&gt;\n&lt;div&gt;&amp;nbsp\;&lt;/div&gt;\n&lt;div&gt;There w
 ill be over 30 tables at this event\, and the STEM professions are always 
 a hit with the girls\, but the professions do not have to be just STEM fie
 lds. When you register to volunteer\, please add a note on what is your pr
 ofession is.&lt;/div&gt;\n&lt;div&gt;&amp;nbsp\;&lt;/div&gt;\n&lt;div&gt;Parking will be in the Steven
 s Babbio parking lot\, but if you have materials to drop off\, you can dri
 ve directly to the Howe Center&lt;/div&gt;\n&lt;div&gt;&amp;nbsp\;&lt;/div&gt;\n&lt;div&gt;Have a Girl
  Scout that wants to attend? More details and the Scout registration is at
 :&lt;/div&gt;\n&lt;div&gt;&lt;a href=&quot;https://www.gshnj.org/en/sf-events-repository/2026/
 see-her--be-her---a-career-exploration-fair-for-girls.html&quot; target=&quot;_blank
 &quot; rel=&quot;noopener&quot;&gt;https://www.gshnj.org/en/sf-events-repository/2026/see-he
 r--be-her---a-career-exploration-fair-for-girls.html&lt;/a&gt;&lt;/div&gt;\n&lt;div&gt;&amp;nbsp
 \;&lt;/div&gt;\n&lt;div&gt;Thank for your support!&lt;/div&gt;\n&lt;div&gt;&amp;nbsp\;&lt;/div&gt;\n&lt;div&gt;Mor
 e information about:&lt;/div&gt;\n&lt;div&gt;&lt;strong&gt;&lt;a href=&quot;https://www.gshnj.org/&quot; 
 target=&quot;_blank&quot; rel=&quot;noopener&quot; data-saferedirecturl=&quot;https://www.google.co
 m/url?q=https://www.gshnj.org/&amp;amp\;source=gmail&amp;amp\;ust=1711630300761000
 &amp;amp\;usg=AOvVaw3rYx_Eg-cKmW-v61gQIW-S&quot;&gt;Girl Scouts Heart of New Jersey&lt;/a
 &gt;&lt;/strong&gt;&lt;/div&gt;\n&lt;div&gt;&lt;a href=&quot;https://futurenetworks.ieee.org/&quot;&gt;&lt;strong&gt;
 IEEE Future Networks&lt;/strong&gt;&lt;/a&gt;&lt;/div&gt;\n&lt;div&gt;&lt;a href=&quot;https://stevens.edu
 /&quot;&gt;&lt;strong&gt;Stevens Institute of Technology&lt;/strong&gt;&lt;/a&gt;&lt;/div&gt;\n&lt;div&gt;&amp;nbsp\
 ;&lt;/div&gt;\n&lt;div&gt;&amp;nbsp\;&lt;/div&gt;\n&lt;div&gt;&amp;nbsp\;&lt;/div&gt;\n&lt;div&gt;&lt;img src=&quot;https://ev
 ents.vtools.ieee.org/vtools_ui/media/display/443e875a-294a-40aa-90f2-15a00
 bd4a4b1&quot; width=&quot;245&quot; height=&quot;109&quot;&gt;&lt;img src=&quot;https://events.vtools.ieee.org
 /vtools_ui/media/display/862ba0de-534f-4aaa-bd83-3106d773f7e1&quot; width=&quot;283&quot;
  height=&quot;247&quot;&gt;&lt;img src=&quot;https://events.vtools.ieee.org/vtools_ui/media/dis
 play/e3d8c46e-aea2-46cc-9aff-44852c7cb115&quot; width=&quot;250&quot; height=&quot;287&quot;&gt;&lt;/div&gt;
 &lt;br /&gt;&lt;br /&gt;Agenda: &lt;br /&gt;&lt;p&gt;&lt;strong&gt;Testimonial from an IEEE volunteer&lt;/s
 trong&gt;: It was truly inspiring to be part of this exciting event\, where t
 he energy and curiosity of tomorrow&amp;rsquo\;s leaders and innovators filled
  the room. Engaging with the Girl Scouts and sharing insights into STEM ca
 reers was a powerful reminder of the importance of mentorship and represen
 tation in technology. A heartfelt thank you to the Girl Scouts organizatio
 n\, Stevens Institute of Technology\, and the dedicated IEEE volunteers wh
 o participated as career exhibitors&amp;mdash\;your presence and passion helpe
 d spark imaginations and plant the seeds for future breakthroughs.&lt;/p&gt;\n&lt;p
 &gt;&lt;img src=&quot;https://events.vtools.ieee.org/vtools_ui/media/display/9a86768c
 -81a0-4918-9a22-50160e4d2a78&quot; alt=&quot;&quot; width=&quot;455&quot; height=&quot;250&quot;&gt;&lt;/p&gt;\n&lt;p&gt;&lt;im
 g src=&quot;https://events.vtools.ieee.org/vtools_ui/media/display/5cc72350-3ed
 8-44fc-88d7-d2ef1f54c706&quot; alt=&quot;&quot; width=&quot;333&quot; height=&quot;250&quot;&gt;&lt;/p&gt;\n&lt;p&gt;&lt;img sr
 c=&quot;https://events.vtools.ieee.org/vtools_ui/media/display/6f9eb238-d292-4d
 73-881e-48ecf06c07ea&quot; alt=&quot;&quot; width=&quot;386&quot; height=&quot;250&quot;&gt;&lt;/p&gt;\n&lt;p&gt;&amp;nbsp\;&lt;/p&gt;
 \n&lt;p&gt;&amp;nbsp\;&lt;/p&gt;\n&lt;p&gt;&amp;nbsp\;&lt;/p&gt;\n&lt;p&gt;&amp;nbsp\;&lt;/p&gt;
END:VEVENT
END:VCALENDAR

