BEGIN:VCALENDAR
VERSION:2.0
PRODID:IEEE vTools.Events//EN
CALSCALE:GREGORIAN
BEGIN:VTIMEZONE
TZID:America/New_York
BEGIN:DAYLIGHT
DTSTART:20260308T030000
TZOFFSETFROM:-0500
TZOFFSETTO:-0400
RRULE:FREQ=YEARLY;BYDAY=2SU;BYMONTH=3
TZNAME:EDT
END:DAYLIGHT
BEGIN:STANDARD
DTSTART:20251102T010000
TZOFFSETFROM:-0400
TZOFFSETTO:-0500
RRULE:FREQ=YEARLY;BYDAY=1SU;BYMONTH=11
TZNAME:EST
END:STANDARD
END:VTIMEZONE
BEGIN:VEVENT
DTSTAMP:20260306T123132Z
UID:A413B6D1-5E1A-4DB4-B75E-3BFA2E83C068
DTSTART;TZID=America/New_York:20260304T180000
DTEND;TZID=America/New_York:20260304T193000
DESCRIPTION:Come hang out and play your favorite games! We will have pizza 
 and drinks!\n\nRoom: B11\, Riggs Hall\, Tau Court\, Clemson\, South Caroli
 na\, United States\, 29631
LOCATION:Room: B11\, Riggs Hall\, Tau Court\, Clemson\, South Carolina\, Un
 ited States\, 29631
ORGANIZER:ieeesb@g.clemson.edu
SEQUENCE:4
SUMMARY:Member Game Night
URL;VALUE=URI:https://events.vtools.ieee.org/m/544306
X-ALT-DESC:Description: &lt;br /&gt;&lt;p&gt;Come hang out and play your favorite games
 ! We will have pizza and drinks!&lt;/p&gt;\n&lt;p&gt;&amp;nbsp\;&lt;/p&gt;
END:VEVENT
END:VCALENDAR

