BEGIN:VCALENDAR
VERSION:2.0
PRODID:IEEE vTools.Events//EN
CALSCALE:GREGORIAN
BEGIN:VTIMEZONE
TZID:Europe/Paris
BEGIN:DAYLIGHT
DTSTART:20260329T030000
TZOFFSETFROM:+0100
TZOFFSETTO:+0200
RRULE:FREQ=YEARLY;BYDAY=-1SU;BYMONTH=3
TZNAME:CEST
END:DAYLIGHT
BEGIN:STANDARD
DTSTART:20261025T020000
TZOFFSETFROM:+0200
TZOFFSETTO:+0100
RRULE:FREQ=YEARLY;BYDAY=-1SU;BYMONTH=10
TZNAME:CET
END:STANDARD
END:VTIMEZONE
BEGIN:VEVENT
DTSTAMP:20260403T111603Z
UID:9178999E-5E44-4B05-8F58-A26C4CBD2DF8
DTSTART;TZID=Europe/Paris:20260331T150000
DTEND;TZID=Europe/Paris:20260331T160000
DESCRIPTION:Measurement of Acoustic Pressure with Hydrophones\, Keith Wear\
 , PhD\, Professor Research Physicist\, US FDA\n\nAccurate acoustic pressur
 e measurements with hydrophones are critical to demonstrate safety and eff
 ectiveness of ultrasound devices as well as ensuring reproducibility of ul
 trasound experiments and treatments. Many ultrasound researchers perform h
 ydrophone measurements\, but few are aware of the distortions that hydroph
 ones produce and the recently developed algorithms to correct for them.\n\
 nThis tutorial will cover:\n1. Physics of hydrophone designs (e.g.\, membr
 ane\, needle\, capsule\, reflection-type fiber optic\, Fabry-Perot interfe
 rometric fiber optic)\,\n2. Hydrophone specifications (e.g.\, sensitivity\
 , directivity\, effective sensitive element size)\,\n3. Pros and cons of t
 he various hydrophone designs for different applications\,\n4. Practical a
 dvice for water-tank measurements\,\n5. Deconvolution methods to remove pr
 essure measurement distortions due to frequencydependent sensitivity and s
 patial averaging artifacts.\n\nDr. Wear’s algorithms have been applied i
 n elastography\, ophthalmology\, cavitation monitoring\, high intensity th
 erapeutic ultrasound\, and transcranial neuromodulation. They have been in
 cluded in International Electrotechnical Commission standards and have bee
 n cited in official position statements by the American Institute of Ultra
 sound in Medicine and the International Transcranial Ultrasonic Stimulatio
 n Safety and Standards Consortium.\n\nBldg: Laboratoire d&#39;Imagerie Bioméd
 icale\, 15 rue de l&#39;école de médecine\, Paris\, Ile-de-France\, France
LOCATION:Bldg: Laboratoire d&#39;Imagerie Biomédicale\, 15 rue de l&#39;école de 
 médecine\, Paris\, Ile-de-France\, France
ORGANIZER:lori.bridal@sorbonne-universite.fr
SEQUENCE:14
SUMMARY:IEEE UFFC 2026 Distinguished Lecture\, Keith Wear\, PhD\, Professor
  Research Physicist\, US FDA
URL;VALUE=URI:https://events.vtools.ieee.org/m/544482
X-ALT-DESC:Description: &lt;br /&gt;&lt;p&gt;Measurement of Acoustic Pressure with Hydr
 ophones\, Keith Wear\, PhD\, Professor&amp;nbsp\;Research Physicist\, US FDA&lt;/
 p&gt;\n&lt;p&gt;Accurate acoustic pressure measurements with hydrophones are critic
 al to demonstrate safety and effectiveness of ultrasound devices as well a
 s ensuring reproducibility of ultrasound experiments and treatments. Many 
 ultrasound researchers perform hydrophone measurements\, but few are aware
  of the distortions that hydrophones produce and the recently developed al
 gorithms to correct for them.&lt;/p&gt;\n&lt;p&gt;This tutorial will cover:&lt;br&gt;1. Phys
 ics of hydrophone designs (e.g.\, membrane\, needle\, capsule\, reflection
 -type fiber optic\, Fabry-Perot interferometric fiber optic)\,&lt;br&gt;2. Hydro
 phone specifications (e.g.\, sensitivity\, directivity\, effective sensiti
 ve element size)\,&lt;br&gt;3. Pros and cons of the various hydrophone designs f
 or different applications\,&lt;br&gt;4. Practical advice for water-tank measurem
 ents\,&lt;br&gt;5. Deconvolution methods to remove pressure measurement distorti
 ons due to frequencydependent sensitivity and spatial averaging artifacts.
 &lt;/p&gt;\n&lt;p&gt;Dr. Wear&amp;rsquo\;s algorithms have been applied in elastography\, 
 ophthalmology\, cavitation monitoring\, high intensity therapeutic ultraso
 und\, and transcranial neuromodulation. They have been included in Interna
 tional Electrotechnical Commission standards and have been cited in offici
 al position statements by the American Institute of Ultrasound in Medicine
  and the International Transcranial Ultrasonic Stimulation Safety and Stan
 dards Consortium.&lt;/p&gt;\n&lt;p&gt;&amp;nbsp\;&lt;/p&gt;
END:VEVENT
END:VCALENDAR

