BEGIN:VCALENDAR
VERSION:2.0
PRODID:IEEE vTools.Events//EN
CALSCALE:GREGORIAN
BEGIN:VTIMEZONE
TZID:Europe/Prague
BEGIN:DAYLIGHT
DTSTART:20260329T030000
TZOFFSETFROM:+0100
TZOFFSETTO:+0200
RRULE:FREQ=YEARLY;BYDAY=-1SU;BYMONTH=3
TZNAME:CEST
END:DAYLIGHT
BEGIN:STANDARD
DTSTART:20261025T020000
TZOFFSETFROM:+0200
TZOFFSETTO:+0100
RRULE:FREQ=YEARLY;BYDAY=-1SU;BYMONTH=10
TZNAME:CET
END:STANDARD
END:VTIMEZONE
BEGIN:VEVENT
DTSTAMP:20260305T083328Z
UID:08944C76-3D90-4FF7-8A08-BB8485059025
DTSTART;TZID=Europe/Prague:20260611T090000
DTEND;TZID=Europe/Prague:20260611T113000
DESCRIPTION:The workshops provide an opportunity to explore selected assess
 ment and therapeutic methods applied in clinical practice and scientific r
 esearch in the Czech Republic. The program was prepared by Prof. PhDr. Kam
 ila Řasová\, Ph.D.\, Third Faculty of Medicine\, Charles University.\n\n
 Digital Biomarkers: Inertial Sensor Technology for Upper Limb Tremor and A
 utomated Speech Analysis\n\nIng. Jan Havlík\, Ph.D.\, Ing. Michal Novotn
 ý\, Ph.D.\nThis workshop presents current approaches to the use of digita
 l biomarkers in multiple sclerosis\, with a\nfocus on inertial sensor tech
 nologies for the assessment of upper limb tremor and automated speech\nana
 lysis. The session includes a demonstration of objective and automated ass
 essment tools\, such as\nTremLog\, and discusses their potential for clini
 cal monitoring and research applications.\n\nŠrobárova 50\, Prague\, Cze
 ch Republic\, Czech Republic\, 10034
LOCATION:Šrobárova 50\, Prague\, Czech Republic\, Czech Republic\, 10034
ORGANIZER:novotny.michal9@gmail.com
SEQUENCE:20
SUMMARY:Workshop in Neurorehabilitation - Digital Biomarkers: Inertial Sens
 or Technology for Upper Limb Tremor and Automated Speech Analysis
URL;VALUE=URI:https://events.vtools.ieee.org/m/544738
X-ALT-DESC:Description: &lt;br /&gt;&lt;p&gt;The workshops provide an opportunity to ex
 plore selected assessment and therapeutic methods applied in clinical prac
 tice and scientific research in the Czech Republic. The program was prepar
 ed by Prof. PhDr. Kamila Řasov&amp;aacute\;\, Ph.D.\, Third Faculty of Medici
 ne\, Charles University.&lt;/p&gt;\n&lt;p&gt;&amp;nbsp\;&lt;/p&gt;\n&lt;p&gt;Digital Biomarkers: Inert
 ial Sensor Technology for Upper Limb Tremor and Automated Speech Analysis&lt;
 /p&gt;\n&lt;p&gt;Ing. Jan Havl&amp;iacute\;k\, Ph.D.\, Ing. Michal Novotn&amp;yacute\;\, Ph
 .D.&lt;br&gt;This workshop presents current approaches to the use of digital bio
 markers in multiple sclerosis\, with a&lt;br&gt;focus on inertial sensor technol
 ogies for the assessment of upper limb tremor and automated speech&lt;br&gt;anal
 ysis. The session includes a demonstration of objective and automated asse
 ssment tools\, such as&lt;br&gt;TremLog\, and discusses their potential for clin
 ical monitoring and research applications.&lt;/p&gt;
END:VEVENT
END:VCALENDAR

