BEGIN:VCALENDAR
VERSION:2.0
PRODID:IEEE vTools.Events//EN
CALSCALE:GREGORIAN
BEGIN:VTIMEZONE
TZID:Europe/Budapest
BEGIN:DAYLIGHT
DTSTART:20260329T030000
TZOFFSETFROM:+0100
TZOFFSETTO:+0200
RRULE:FREQ=YEARLY;BYDAY=-1SU;BYMONTH=3
TZNAME:CEST
END:DAYLIGHT
BEGIN:STANDARD
DTSTART:20261025T020000
TZOFFSETFROM:+0200
TZOFFSETTO:+0100
RRULE:FREQ=YEARLY;BYDAY=-1SU;BYMONTH=10
TZNAME:CET
END:STANDARD
END:VTIMEZONE
BEGIN:VEVENT
DTSTAMP:20260305T133157Z
UID:3C9777A1-5F47-4452-B194-87E3E13045BE
DTSTART;TZID=Europe/Budapest:20260702T210000
DTEND;TZID=Europe/Budapest:20260704T230000
DESCRIPTION:We are pleased to announce the Special Session on Women in Engi
 neering and Intelligent Systems\, which will be held during the IEEE INES 
 2026 conference.\n\nThe aim of this session is to highlight the work of wo
 men researchers\, engineers\, and students in the fields of engineering\, 
 informatics\, and technical sciences. We welcome submissions from women pr
 esenters and particularly encourage junior researchers to participate. In 
 addition to showcasing technical contributions\, the session also aims to 
 foster networking and mentorship among women in engineering.\n\nConference
  dates: July 2–4\, 2026\nLocation: Budapest\, Hungary\nSubmission deadli
 ne: March 10\, 2026\n\nFurther information is available at the conference 
 [website](https://enotice.mmsend.com/link.cfm?r=SPQOsZTsI3V3gpmYcQdKdg~~&amp;p
 e=wpWymy8FNWW3pQFJfQO14KUJJB8V9EVU3bEcBlgOuKfqRhUID-3y3pSHLv7qQLSJCPx6yccB
 eFUsSfnpzHT-Wg~~&amp;t=aT6evRReerSv5TlP5aVaKw~~).\n\nThis Special Session is o
 rganized by the IEEE Hungary Section Women in Engineering Affinity Group.\
 n\nContact:\nMelánia Pamuki-Puskás: puskas.melania@uni-obuda.hu\nPanna Z
 soldos: [zsoldos.panna@uni-obuda.hu](mailto:tick.andrea@uni-obuda.hu)\n\n[
 ]\n\nBldg: Aquaworld Resort Budapest****\, Íves str 16\, Budapest\, Pest 
 Megye\, Hungary\, 1044
LOCATION:Bldg: Aquaworld Resort Budapest****\, Íves str 16\, Budapest\, Pe
 st Megye\, Hungary\, 1044
ORGANIZER:puskas.melania@uni-obuda.hu
SEQUENCE:13
SUMMARY:WIE Special Session at the INES 2026 conference
URL;VALUE=URI:https://events.vtools.ieee.org/m/544790
X-ALT-DESC:Description: &lt;br /&gt;&lt;p&gt;&lt;span data-ogsc=&quot;rgb(0\, 0\, 0)&quot; data-olk-
 copy-source=&quot;MessageBody&quot;&gt;We are pleased to announce the&lt;strong data-ogsc=
 &quot;&quot; data-start=&quot;140&quot; data-end=&quot;211&quot;&gt;&amp;nbsp\;&lt;span class=&quot;x_marknu0jlxez9&quot; da
 ta-ogsb=&quot;&quot; data-ogsc=&quot;&quot; data-ogab=&quot;&quot; data-ogac=&quot;&quot; data-markjs=&quot;true&quot;&gt;Speci
 al&lt;/span&gt;&amp;nbsp\;&lt;span class=&quot;x_marky2u5dsq69&quot; data-ogsb=&quot;&quot; data-ogsc=&quot;&quot; da
 ta-ogab=&quot;&quot; data-ogac=&quot;&quot; data-markjs=&quot;true&quot;&gt;&lt;span class=&quot;markwo09q20xu&quot; dat
 a-markjs=&quot;true&quot; data-ogac=&quot;&quot; data-ogab=&quot;&quot; data-ogsc=&quot;&quot; data-ogsb=&quot;&quot;&gt;Sessio
 n&lt;/span&gt;&lt;/span&gt;&amp;nbsp\;on Women in Engineering&amp;nbsp\;and Intelligent System
 s&lt;/strong&gt;\, which will be held during the&amp;nbsp\;&lt;strong data-ogsc=&quot;&quot;&gt;IEEE
  INES 2026&lt;/strong&gt;&amp;nbsp\;conference.&lt;/span&gt;&lt;/p&gt;\n&lt;p class=&quot;&quot; data-start=&quot;
 259&quot; data-end=&quot;686&quot;&gt;&lt;span data-ogsc=&quot;rgb(0\, 0\, 0)&quot;&gt;The aim of this&amp;nbsp\
 ;&lt;span class=&quot;x_marky2u5dsq69&quot; data-ogsb=&quot;&quot; data-ogsc=&quot;&quot; data-ogab=&quot;&quot; data
 -ogac=&quot;&quot; data-markjs=&quot;true&quot;&gt;&lt;span class=&quot;markwo09q20xu&quot; data-markjs=&quot;true&quot;
  data-ogac=&quot;&quot; data-ogab=&quot;&quot; data-ogsc=&quot;&quot; data-ogsb=&quot;&quot;&gt;session&lt;/span&gt;&lt;/span&gt;
 &amp;nbsp\;is to highlight the work of&amp;nbsp\;&lt;strong data-ogsc=&quot;&quot; data-start=&quot;
 311&quot; data-end=&quot;357&quot;&gt;women researchers\, engineers\, and students&lt;/strong&gt;&amp;
 nbsp\;in the fields of&amp;nbsp\;&lt;strong data-ogsc=&quot;&quot; data-start=&quot;375&quot; data-en
 d=&quot;427&quot;&gt;engineering\, informatics\, and technical sciences&lt;/strong&gt;. We we
 lcome submissions from women presenters and&amp;nbsp\;&lt;strong data-ogsc=&quot;&quot; dat
 a-start=&quot;478&quot; data-end=&quot;529&quot;&gt;particularly encourage junior researchers&lt;/st
 rong&gt;&amp;nbsp\;to participate. In addition to showcasing technical contributi
 ons\, the&amp;nbsp\;&lt;span class=&quot;x_marky2u5dsq69&quot; data-ogsb=&quot;&quot; data-ogsc=&quot;&quot; da
 ta-ogab=&quot;&quot; data-ogac=&quot;&quot; data-markjs=&quot;true&quot;&gt;&lt;span class=&quot;markwo09q20xu&quot; dat
 a-markjs=&quot;true&quot; data-ogac=&quot;&quot; data-ogab=&quot;&quot; data-ogsc=&quot;&quot; data-ogsb=&quot;&quot;&gt;sessio
 n&lt;/span&gt;&lt;/span&gt;&amp;nbsp\;also aims to foster&amp;nbsp\;&lt;strong data-ogsc=&quot;&quot; data-
 start=&quot;629&quot; data-end=&quot;658&quot;&gt;networking and mentorship&lt;/strong&gt;&amp;nbsp\;among 
 women in engineering.&lt;/span&gt;&lt;/p&gt;\n&lt;p class=&quot;&quot; data-start=&quot;688&quot; data-end=&quot;8
 13&quot;&gt;&lt;span data-ogsc=&quot;rgb(0\, 0\, 0)&quot;&gt;&lt;strong data-ogsc=&quot;&quot; data-start=&quot;691&quot;
  data-end=&quot;712&quot;&gt;Conference dates:&lt;/strong&gt;&amp;nbsp\;July 2&amp;ndash\;4\, 2026&lt;/s
 pan&gt;&lt;br data-start=&quot;734&quot; data-end=&quot;737&quot;&gt;&lt;span data-ogsc=&quot;rgb(0\, 0\, 0)&quot;&gt;&lt;
 strong data-ogsc=&quot;&quot; data-start=&quot;740&quot; data-end=&quot;753&quot;&gt;Location:&lt;/strong&gt;&amp;nbs
 p\;Budapest\, Hungary&lt;/span&gt;&lt;br data-start=&quot;770&quot; data-end=&quot;773&quot;&gt;&lt;span data
 -ogsc=&quot;rgb(0\, 0\, 0)&quot;&gt;&lt;strong data-ogsc=&quot;&quot; data-start=&quot;776&quot; data-end=&quot;800
 &quot;&gt;Submission deadline:&lt;/strong&gt; March 10\, 2026&lt;/span&gt;&lt;/p&gt;\n&lt;p&gt;Further inf
 ormation is available at the conference&amp;nbsp\;&lt;a title=&quot;https://enotice.mm
 send.com/link.cfm?r=SPQOsZTsI3V3gpmYcQdKdg~~&amp;amp\;pe=wpWymy8FNWW3pQFJfQO14
 KUJJB8V9EVU3bEcBlgOuKfqRhUID-3y3pSHLv7qQLSJCPx6yccBeFUsSfnpzHT-Wg~~&amp;amp\;t
 =aT6evRReerSv5TlP5aVaKw~~&quot; href=&quot;https://enotice.mmsend.com/link.cfm?r=SPQ
 OsZTsI3V3gpmYcQdKdg~~&amp;amp\;pe=wpWymy8FNWW3pQFJfQO14KUJJB8V9EVU3bEcBlgOuKfq
 RhUID-3y3pSHLv7qQLSJCPx6yccBeFUsSfnpzHT-Wg~~&amp;amp\;t=aT6evRReerSv5TlP5aVaKw
 ~~&quot; target=&quot;_blank&quot; rel=&quot;noopener noreferrer&quot; data-auth=&quot;NotApplicable&quot; da
 ta-linkindex=&quot;4&quot; data-ogsc=&quot;&quot;&gt;website&lt;/a&gt;.&lt;/p&gt;\n&lt;p class=&quot;&quot; data-start=&quot;10
 50&quot; data-end=&quot;1152&quot;&gt;&lt;span data-ogsc=&quot;rgb(0\, 0\, 0)&quot;&gt;This&amp;nbsp\;&lt;span clas
 s=&quot;x_marknu0jlxez9&quot; data-ogsb=&quot;&quot; data-ogsc=&quot;&quot; data-ogab=&quot;&quot; data-ogac=&quot;&quot; da
 ta-markjs=&quot;true&quot;&gt;Special&lt;/span&gt;&amp;nbsp\;&lt;span class=&quot;x_marky2u5dsq69&quot; data-o
 gsb=&quot;&quot; data-ogsc=&quot;&quot; data-ogab=&quot;&quot; data-ogac=&quot;&quot; data-markjs=&quot;true&quot;&gt;&lt;span cla
 ss=&quot;markwo09q20xu&quot; data-markjs=&quot;true&quot; data-ogac=&quot;&quot; data-ogab=&quot;&quot; data-ogsc=
 &quot;&quot; data-ogsb=&quot;&quot;&gt;Session&lt;/span&gt;&lt;/span&gt;&amp;nbsp\;is organized by the&amp;nbsp\;&lt;str
 ong data-ogsc=&quot;&quot; data-start=&quot;1091&quot; data-end=&quot;1151&quot;&gt;IEEE Hungary Section Wo
 men in Engineering Affinity Group&lt;/strong&gt;.&lt;/span&gt;&lt;/p&gt;\n&lt;p class=&quot;&quot; data-s
 tart=&quot;1050&quot; data-end=&quot;1152&quot;&gt;&lt;span data-ogsc=&quot;rgb(0\, 0\, 0)&quot;&gt;&lt;strong data-
 ogsc=&quot;&quot; data-start=&quot;1154&quot; data-end=&quot;1166&quot;&gt;Contact:&lt;/strong&gt;&lt;/span&gt;&lt;br data
 -start=&quot;1166&quot; data-end=&quot;1169&quot;&gt;&lt;span data-ogsc=&quot;rgb(0\, 0\, 0)&quot;&gt;Mel&amp;aacute\
 ;nia Pamuki-Pusk&amp;aacute\;s:&amp;nbsp\;&lt;/span&gt;&lt;a title=&quot;mailto:puskas.melania@u
 ni-obuda.hu&quot; href=&quot;mailto:puskas.melania@uni-obuda.hu&quot; data-ogsc=&quot;&quot; data-l
 inkindex=&quot;5&quot;&gt;puskas.melania@uni-obuda.hu&lt;/a&gt;&lt;br data-start=&quot;1213&quot; data-end
 =&quot;1216&quot;&gt;&lt;span data-ogsc=&quot;rgb(0\, 0\, 0)&quot;&gt;Panna Zsoldos:&lt;/span&gt;&amp;nbsp\;&lt;a ti
 tle=&quot;mailto:tick.andrea@uni-obuda.hu&quot; href=&quot;mailto:tick.andrea@uni-obuda.h
 u&quot; data-ogsc=&quot;&quot; data-linkindex=&quot;6&quot;&gt;zsoldos.panna@uni-obuda.hu&lt;/a&gt;&lt;br&gt;&lt;br&gt;&lt;
 br&gt;&lt;img style=&quot;display: block\; margin-left: auto\; margin-right: auto\;&quot; 
 src=&quot;https://events.vtools.ieee.org/vtools_ui/media/display/b2693d5f-fb97-
 44ec-abc4-1e4ecc680f72&quot; alt=&quot;&quot; width=&quot;532&quot; height=&quot;752&quot;&gt;&lt;/p&gt;
END:VEVENT
END:VCALENDAR

