BEGIN:VCALENDAR
VERSION:2.0
PRODID:IEEE vTools.Events//EN
CALSCALE:GREGORIAN
BEGIN:VEVENT
DTSTAMP:20260310T182315Z
UID:AC750C47-1A41-4C41-A13A-BFB75574749C
DTSTART;TZID=Etc/UTC:20260304T200000
DTEND;TZID=Etc/UTC:20260307T211500
DESCRIPTION:Engineering Tomorrow: Connecting the Dots for a Sustainable Fut
 ure 🌍⚙️\n\nThis World Engineering Day\, we celebrate the innovators
 🛠️ and problem-solvers👷🏾 building a sustainable tomorrow. Engin
 eering goes beyond structures and systems⚙️ it’s about connecting id
 eas\, people\, and purpose to shape a better world🌍.\n\nJoin us as we r
 eflect😇\, learn📖\, and celebrate💃🕺 the impact🤌 of engineeri
 ng in our lives and communities☎️. Let’s come together and engineer 
 the future sustainably\, creatively🧠\, and boldly.\n\nTheme: Engineerin
 g Tomorrow: Connecting the Dots for a Sustainable Future\n\nDate: Wednesda
 y\, 4 March\n\nTime: 8:00 PM – 9:00 PM (GMT)\n\nLocation: [Google Meet (
 hre-rnsg-btg)](https://meet.google.com/hre-rnsg-btg)\n\n#ieeeknustchapter 
 #IEEE Ghana Joint COM19/C16 #Ghana YP\n\n#worldengineeringday\n\n[]\n\n#wo
 rldengineeringday\n\nSpeaker(s): Ing Isaac Kweku Boakye SPE-GhIE\, SMIEEE\
 , \n\nAgenda: \nIEEE Communications Society KNUST Student Chapter with sup
 port from IEEE Ghana Joint ComSoc &amp; Computer Society\n\nTheme: Engineering
  Tomorrow: Connecting the Dots for a Sustainable Future\n\nDate: Wednesday
 \, 4 March\n\nTime: 8:00 PM – 9:00 PM (GMT)\n\nLocation: [Google Meet (h
 re-rnsg-btg)](https://meet.google.com/hre-rnsg-btg)\n\nCollaboration: IEEE
  Ghana Joint ComSoc &amp; Computer Society\, IEEE KNUST STUDENTS BRANCH\n\nVir
 tual: https://events.vtools.ieee.org/m/545288
LOCATION:Virtual: https://events.vtools.ieee.org/m/545288
ORGANIZER:isaacboakye@ieee.org
SEQUENCE:3
SUMMARY:WORLD ENGINEERING DAY\, 2026 
URL;VALUE=URI:https://events.vtools.ieee.org/m/545288
X-ALT-DESC:Description: &lt;br /&gt;&lt;p&gt;Engineering Tomorrow: Connecting the Dots 
 for a Sustainable Future 🌍⚙️&amp;nbsp\;&lt;/p&gt;\n&lt;p&gt;This World Engineering 
 Day\, we celebrate the innovators🛠️ and problem-solvers👷🏾 build
 ing a sustainable tomorrow. Engineering goes beyond structures and systems
 ⚙️ it&amp;rsquo\;s about connecting ideas\, people\, and purpose to shape 
 a better world🌍.&lt;/p&gt;\n&lt;p&gt;Join us as we reflect😇\, learn📖\, and ce
 lebrate💃🕺 the impact🤌 of engineering in our lives and communities
 ☎️. Let&amp;rsquo\;s come together and engineer the future sustainably\, c
 reatively🧠\, and boldly.&lt;/p&gt;\n&lt;p class=&quot;MsoNormal&quot; style=&quot;margin-bottom
 : 12.0pt\;&quot;&gt;&lt;strong&gt;&lt;span lang=&quot;EN-GB&quot;&gt;Theme:&lt;/span&gt;&lt;/strong&gt;&lt;span lang=&quot;E
 N-GB&quot;&gt; Engineering Tomorrow: Connecting the Dots for a Sustainable Future&lt;
 /span&gt;&lt;/p&gt;\n&lt;p class=&quot;MsoNormal&quot; style=&quot;margin-bottom: 12.0pt\;&quot;&gt;&lt;strong&gt;&lt;
 span lang=&quot;EN-GB&quot;&gt;Date:&lt;/span&gt;&lt;/strong&gt;&lt;span lang=&quot;EN-GB&quot;&gt; Wednesday\, 4 M
 arch&lt;/span&gt;&lt;/p&gt;\n&lt;p class=&quot;MsoNormal&quot; style=&quot;margin-bottom: 12.0pt\;&quot;&gt;&lt;str
 ong&gt;&lt;span lang=&quot;EN-GB&quot;&gt;Time:&lt;/span&gt;&lt;/strong&gt;&lt;span lang=&quot;EN-GB&quot;&gt; 8:00 PM &amp;n
 dash\; 9:00 PM (GMT)&lt;/span&gt;&lt;/p&gt;\n&lt;p class=&quot;MsoNormal&quot; style=&quot;margin-bottom
 : 12.0pt\;&quot;&gt;&lt;strong&gt;&lt;span lang=&quot;EN-GB&quot;&gt;Location:&lt;/span&gt;&lt;/strong&gt;&lt;span lang
 =&quot;EN-GB&quot;&gt; &lt;a href=&quot;https://meet.google.com/hre-rnsg-btg&quot;&gt;&lt;span style=&quot;colo
 r: #1155cc\;&quot;&gt;Google Meet (hre-rnsg-btg)&lt;/span&gt;&lt;/a&gt;&lt;/span&gt;&lt;/p&gt;\n&lt;p&gt;#ieeekn
 ustchapter &amp;nbsp\;#IEEE Ghana Joint COM19/C16 #Ghana YP&lt;/p&gt;\n&lt;p&gt;#worldengi
 neeringday&lt;/p&gt;\n&lt;h1&gt;&amp;nbsp\;&lt;/h1&gt;\n&lt;p&gt;&amp;nbsp\;&lt;/p&gt;\n&lt;h1&gt;&lt;img src=&quot;https://ev
 ents.vtools.ieee.org/vtools_ui/media/display/b6d7e04e-9ed9-4dfe-bc9b-1309c
 b696f31&quot; alt=&quot;&quot; width=&quot;1024&quot; height=&quot;1280&quot;&gt;&lt;/h1&gt;\n&lt;p&gt;#worldengineeringday&lt;
 /p&gt;&lt;br /&gt;&lt;br /&gt;Agenda: &lt;br /&gt;&lt;h1 style=&quot;mso-pagination: widow-orphan\; pag
 e-break-after: auto\; margin: 24.0pt 0cm 6.0pt 0cm\;&quot;&gt;&lt;strong&gt;&lt;span lang=&quot;
 EN-GB&quot; style=&quot;font-size: 23.0pt\; line-height: 115%\; color: black\;&quot;&gt;IEEE
  Communications Society KNUST Student Chapter with support from IEEE Ghana
  Joint ComSoc &amp;amp\; Computer Society&lt;/span&gt;&lt;/strong&gt;&lt;/h1&gt;\n&lt;p class=&quot;MsoN
 ormal&quot; style=&quot;margin-bottom: 12.0pt\;&quot;&gt;&lt;strong&gt;&lt;span lang=&quot;EN-GB&quot;&gt;Theme:&lt;/
 span&gt;&lt;/strong&gt;&lt;span lang=&quot;EN-GB&quot;&gt; Engineering Tomorrow: Connecting the Dot
 s for a Sustainable Future&lt;/span&gt;&lt;/p&gt;\n&lt;p class=&quot;MsoNormal&quot; style=&quot;margin-
 bottom: 12.0pt\;&quot;&gt;&lt;strong&gt;&lt;span lang=&quot;EN-GB&quot;&gt;Date:&lt;/span&gt;&lt;/strong&gt;&lt;span la
 ng=&quot;EN-GB&quot;&gt; Wednesday\, 4 March&lt;/span&gt;&lt;/p&gt;\n&lt;p class=&quot;MsoNormal&quot; style=&quot;ma
 rgin-bottom: 12.0pt\;&quot;&gt;&lt;strong&gt;&lt;span lang=&quot;EN-GB&quot;&gt;Time:&lt;/span&gt;&lt;/strong&gt;&lt;sp
 an lang=&quot;EN-GB&quot;&gt; 8:00 PM &amp;ndash\; 9:00 PM (GMT)&lt;/span&gt;&lt;/p&gt;\n&lt;p class=&quot;MsoN
 ormal&quot; style=&quot;margin-bottom: 12.0pt\;&quot;&gt;&lt;strong&gt;&lt;span lang=&quot;EN-GB&quot;&gt;Location
 :&lt;/span&gt;&lt;/strong&gt;&lt;span lang=&quot;EN-GB&quot;&gt; &lt;a href=&quot;https://meet.google.com/hre-
 rnsg-btg&quot;&gt;&lt;span style=&quot;color: #1155cc\;&quot;&gt;Google Meet (hre-rnsg-btg)&lt;/span&gt;
 &lt;/a&gt;&lt;/span&gt;&lt;/p&gt;\n&lt;p class=&quot;MsoNormal&quot; style=&quot;margin-bottom: 12.0pt\;&quot;&gt;&lt;str
 ong&gt;&lt;span lang=&quot;EN-GB&quot;&gt;Collaboration:&lt;/span&gt;&lt;/strong&gt;&lt;span lang=&quot;EN-GB&quot;&gt; I
 EEE Ghana Joint ComSoc &amp;amp\; Computer Society\, IEEE KNUST STUDENTS BRANC
 H&amp;nbsp\;&lt;/span&gt;&lt;/p&gt;\n&lt;h2 style=&quot;text-align: left\; mso-pagination: widow-o
 rphan\; page-break-after: auto\;&quot; align=&quot;left&quot;&gt;&amp;nbsp\;&lt;/h2&gt;\n&lt;h2 style=&quot;te
 xt-align: left\; mso-pagination: widow-orphan\; page-break-after: auto\;&quot; 
 align=&quot;left&quot;&gt;&amp;nbsp\;&lt;/h2&gt;
END:VEVENT
END:VCALENDAR

