BEGIN:VCALENDAR
VERSION:2.0
PRODID:IEEE vTools.Events//EN
CALSCALE:GREGORIAN
BEGIN:VTIMEZONE
TZID:America/New_York
BEGIN:DAYLIGHT
DTSTART:20260308T030000
TZOFFSETFROM:-0500
TZOFFSETTO:-0400
RRULE:FREQ=YEARLY;BYDAY=2SU;BYMONTH=3
TZNAME:EDT
END:DAYLIGHT
BEGIN:STANDARD
DTSTART:20261101T010000
TZOFFSETFROM:-0400
TZOFFSETTO:-0500
RRULE:FREQ=YEARLY;BYDAY=1SU;BYMONTH=11
TZNAME:EST
END:STANDARD
END:VTIMEZONE
BEGIN:VEVENT
DTSTAMP:20260313T170804Z
UID:527C8EAF-AF33-46FC-913D-986C0578C0E1
DTSTART;TZID=America/New_York:20260313T110000
DTEND;TZID=America/New_York:20260313T120000
DESCRIPTION:Meeting Agenda\n\n1. Review of Progress &amp; Objectives (5 mins)\n
 \n-\nQuick recap of action items from the last meeting.\n\n-\nGoal Check: 
 Confirm status of vTools officer updates and bank account information gath
 ering.\n\n-\nConfirm today&#39;s goal: Lock in the 2026 activity plan and fina
 lize the narrative for the funding request.\n\n2. vTools &amp; Compliance Stat
 us Update (5 mins)\n\n-\nConfirm that all officer details (including term 
 start/end dates) are now accurate in vTools.\n\n-\nDiscuss any clarificati
 ons needed regarding the &quot;treasurer exception&quot; (if applicable).\n\n3. Fina
 lizing the 2026 Activity Lineup (20 mins)\n\n-\nThis section focuses on th
 e &quot;What&quot; and &quot;Why&quot; for the funding request.\n\n-\nReview Brainstormed Idea
 s: Present the list of proposed activities from the last meeting.\n\n-\nPr
 ioritization &amp; Feasibility:\n\n-\nWhich activities are &quot;must-do&quot; for 2026?
 \n\n-\nWhich are &quot;nice-to-have&quot;?\n\n-\nIdentify potential speakers\, venue
 s\, or collaboration opportunities for each.\n\n-\nConfirm Activity Detail
 s: For each priority activity\, briefly outline:\n\n-\nProposed Title\n\n-
 \nTarget Month/Quarter\n\n-\nEstimated Audience Size\n\n4. Drafting the Fu
 nding Request Narrative (15 mins)\n\n-\nThis section focuses on the &quot;How M
 uch&quot; and translating activities into the formal request.\n\n-\nBudget Mapp
 ing: Map the finalized activities to the budget.\n\n-\nNarrative Review: R
 eview the draft narrative (if prepared beforehand) or collectively write t
 he key bullet points.\n\n-\nTip: Focus on member value and technical impac
 t\, using &quot;activity&quot; terminology as required by IEEE.\n\n-\nConsolidation:
  Ensure the budget numbers align perfectly with the proposed activities.\n
 \n5. Final Action Items &amp; Timeline (10 mins)\n\n-\nAssign the final writin
 g/editing of the funding request document.\n\n-\nConfirm who will submit t
 he form by the 16 March deadline.\n\n-\nSet an internal review deadline (e
 .g.\, &quot;Draft ready for review by 13 March&quot;).\n\n-\nPlan next steps for eve
 nt logistics (e.g.\, &quot;Secretary to contact venue X regarding April date&quot;).
 \n\n6. Final Q&amp;A &amp; Open Discussion (5 mins)\n\n-\nLast chance for the VTS 
 Chapter Chair to clarify any remaining questions.\n\n7. Adjournment\n\nVir
 tual: https://events.vtools.ieee.org/m/545410
LOCATION:Virtual: https://events.vtools.ieee.org/m/545410
ORGANIZER:ajmery.sultana@algomau.ca
SEQUENCE:21
SUMMARY:VTS Chapter (Toronto Section): Finalizing 2026 Funding Request &amp; Ev
 ent Planning
URL;VALUE=URI:https://events.vtools.ieee.org/m/545410
X-ALT-DESC:Description: &lt;br /&gt;&lt;h3&gt;Meeting Agenda&lt;/h3&gt;\n&lt;p class=&quot;ds-markdow
 n-paragraph&quot;&gt;&lt;strong&gt;1. Review of Progress &amp;amp\; Objectives (5 mins)&lt;/str
 ong&gt;&lt;/p&gt;\n&lt;ul&gt;\n&lt;li&gt;\n&lt;p class=&quot;ds-markdown-paragraph&quot;&gt;Quick recap of acti
 on items from the last meeting.&lt;/p&gt;\n&lt;/li&gt;\n&lt;li&gt;\n&lt;p class=&quot;ds-markdown-pa
 ragraph&quot;&gt;&lt;strong&gt;Goal Check:&lt;/strong&gt; Confirm status of vTools officer upd
 ates and bank account information gathering.&lt;/p&gt;\n&lt;/li&gt;\n&lt;li&gt;\n&lt;p class=&quot;d
 s-markdown-paragraph&quot;&gt;Confirm today&#39;s goal: Lock in the 2026 activity plan
  and finalize the narrative for the funding request.&lt;/p&gt;\n&lt;/li&gt;\n&lt;/ul&gt;\n&lt;p
  class=&quot;ds-markdown-paragraph&quot;&gt;&lt;strong&gt;2. vTools &amp;amp\; Compliance Status 
 Update (5 mins)&lt;/strong&gt;&lt;/p&gt;\n&lt;ul&gt;\n&lt;li&gt;\n&lt;p class=&quot;ds-markdown-paragraph&quot;
 &gt;Confirm that all officer details (including term start/end dates) are now
  accurate in vTools.&lt;/p&gt;\n&lt;/li&gt;\n&lt;li&gt;\n&lt;p class=&quot;ds-markdown-paragraph&quot;&gt;Di
 scuss any clarifications needed regarding the &quot;treasurer exception&quot; (if ap
 plicable).&lt;/p&gt;\n&lt;/li&gt;\n&lt;/ul&gt;\n&lt;p class=&quot;ds-markdown-paragraph&quot;&gt;&lt;strong&gt;3. 
 Finalizing the 2026 Activity Lineup (20 mins)&lt;/strong&gt;&lt;/p&gt;\n&lt;ul&gt;\n&lt;li&gt;\n&lt;p
  class=&quot;ds-markdown-paragraph&quot;&gt;&lt;em&gt;This section focuses on the &quot;What&quot; and 
 &quot;Why&quot; for the funding request.&lt;/em&gt;&lt;/p&gt;\n&lt;/li&gt;\n&lt;li&gt;\n&lt;p class=&quot;ds-markdow
 n-paragraph&quot;&gt;&lt;strong&gt;Review Brainstormed Ideas:&lt;/strong&gt; Present the list 
 of proposed activities from the last meeting.&lt;/p&gt;\n&lt;/li&gt;\n&lt;li&gt;\n&lt;p class=&quot;
 ds-markdown-paragraph&quot;&gt;&lt;strong&gt;Prioritization &amp;amp\; Feasibility:&lt;/strong&gt;
 &lt;/p&gt;\n&lt;ul&gt;\n&lt;li&gt;\n&lt;p class=&quot;ds-markdown-paragraph&quot;&gt;Which activities are &quot;m
 ust-do&quot; for 2026?&lt;/p&gt;\n&lt;/li&gt;\n&lt;li&gt;\n&lt;p class=&quot;ds-markdown-paragraph&quot;&gt;Which
  are &quot;nice-to-have&quot;?&lt;/p&gt;\n&lt;/li&gt;\n&lt;li&gt;\n&lt;p class=&quot;ds-markdown-paragraph&quot;&gt;Id
 entify potential speakers\, venues\, or collaboration opportunities for ea
 ch.&lt;/p&gt;\n&lt;/li&gt;\n&lt;/ul&gt;\n&lt;/li&gt;\n&lt;li&gt;\n&lt;p class=&quot;ds-markdown-paragraph&quot;&gt;&lt;stro
 ng&gt;Confirm Activity Details:&lt;/strong&gt; For each priority activity\, briefly
  outline:&lt;/p&gt;\n&lt;ul&gt;\n&lt;li&gt;\n&lt;p class=&quot;ds-markdown-paragraph&quot;&gt;Proposed Title
 &lt;/p&gt;\n&lt;/li&gt;\n&lt;li&gt;\n&lt;p class=&quot;ds-markdown-paragraph&quot;&gt;Target Month/Quarter&lt;/
 p&gt;\n&lt;/li&gt;\n&lt;li&gt;\n&lt;p class=&quot;ds-markdown-paragraph&quot;&gt;Estimated Audience Size&lt;
 /p&gt;\n&lt;/li&gt;\n&lt;/ul&gt;\n&lt;/li&gt;\n&lt;/ul&gt;\n&lt;p class=&quot;ds-markdown-paragraph&quot;&gt;&lt;strong&gt;
 4. Drafting the Funding Request Narrative (15 mins)&lt;/strong&gt;&lt;/p&gt;\n&lt;ul&gt;\n&lt;l
 i&gt;\n&lt;p class=&quot;ds-markdown-paragraph&quot;&gt;&lt;em&gt;This section focuses on the &quot;How 
 Much&quot; and translating activities into the formal request.&lt;/em&gt;&lt;/p&gt;\n&lt;/li&gt;\
 n&lt;li&gt;\n&lt;p class=&quot;ds-markdown-paragraph&quot;&gt;&lt;strong&gt;Budget Mapping:&lt;/strong&gt; M
 ap the finalized activities to the budget.&amp;nbsp\;&lt;/p&gt;\n&lt;/li&gt;\n&lt;li&gt;\n&lt;p cla
 ss=&quot;ds-markdown-paragraph&quot;&gt;&lt;strong&gt;Narrative Review:&lt;/strong&gt; Review the d
 raft narrative (if prepared beforehand) or collectively write the key bull
 et points.&lt;/p&gt;\n&lt;ul&gt;\n&lt;li&gt;\n&lt;p class=&quot;ds-markdown-paragraph&quot;&gt;&lt;em&gt;Tip:&lt;/em&gt;
  Focus on member value and technical impact\, using &quot;activity&quot; terminology
  as required by IEEE.&lt;/p&gt;\n&lt;/li&gt;\n&lt;/ul&gt;\n&lt;/li&gt;\n&lt;li&gt;\n&lt;p class=&quot;ds-markdow
 n-paragraph&quot;&gt;&lt;strong&gt;Consolidation:&lt;/strong&gt; Ensure the budget numbers ali
 gn perfectly with the proposed activities.&lt;/p&gt;\n&lt;/li&gt;\n&lt;/ul&gt;\n&lt;p class=&quot;ds
 -markdown-paragraph&quot;&gt;&lt;strong&gt;5. Final Action Items &amp;amp\; Timeline (10 min
 s)&lt;/strong&gt;&lt;/p&gt;\n&lt;ul&gt;\n&lt;li&gt;\n&lt;p class=&quot;ds-markdown-paragraph&quot;&gt;Assign the f
 inal writing/editing of the funding request document.&lt;/p&gt;\n&lt;/li&gt;\n&lt;li&gt;\n&lt;p
  class=&quot;ds-markdown-paragraph&quot;&gt;Confirm who will submit the form by the&amp;nbs
 p\;&lt;strong&gt;16 March&lt;/strong&gt; deadline.&lt;/p&gt;\n&lt;/li&gt;\n&lt;li&gt;\n&lt;p class=&quot;ds-mark
 down-paragraph&quot;&gt;Set an internal review deadline (e.g.\, &quot;Draft ready for r
 eview by 13 March&quot;).&lt;/p&gt;\n&lt;/li&gt;\n&lt;li&gt;\n&lt;p class=&quot;ds-markdown-paragraph&quot;&gt;Pl
 an next steps for event logistics (e.g.\, &quot;Secretary to contact venue X re
 garding April date&quot;).&lt;/p&gt;\n&lt;/li&gt;\n&lt;/ul&gt;\n&lt;p class=&quot;ds-markdown-paragraph&quot;&gt;
 &lt;strong&gt;6. Final Q&amp;amp\;A &amp;amp\; Open Discussion (5 mins)&lt;/strong&gt;&lt;/p&gt;\n&lt;u
 l&gt;\n&lt;li&gt;\n&lt;p class=&quot;ds-markdown-paragraph&quot;&gt;Last chance for the VTS Chapter
  Chair to clarify any remaining questions.&lt;/p&gt;\n&lt;/li&gt;\n&lt;/ul&gt;\n&lt;p class=&quot;ds
 -markdown-paragraph&quot;&gt;&lt;strong&gt;7. Adjournment&lt;/strong&gt;&lt;/p&gt;
END:VEVENT
END:VCALENDAR

