BEGIN:VCALENDAR
VERSION:2.0
PRODID:IEEE vTools.Events//EN
CALSCALE:GREGORIAN
BEGIN:VTIMEZONE
TZID:America/Monterrey
BEGIN:STANDARD
DTSTART:20221030T010000
TZOFFSETFROM:-0500
TZOFFSETTO:-0600
TZNAME:CST
END:STANDARD
END:VTIMEZONE
BEGIN:VEVENT
DTSTAMP:20260309T012156Z
UID:2552DBDD-E975-4E91-9601-F2D52F476484
DTSTART;TZID=America/Monterrey:20260326T070000
DTEND;TZID=America/Monterrey:20260326T130000
DESCRIPTION:Este jueves 26 de marzo se llevará a cabo una visita industria
 l a Daimler Mercedes-Benz\, donde tendremos la oportunidad de conocer más
  sobre sus procesos dentro de la industria automotriz.\n\nGarcia N.L.\, Nu
 evo Leon\, Mexico\, 66000
LOCATION:Garcia N.L.\, Nuevo Leon\, Mexico\, 66000
ORGANIZER:faustino.mancinasg@uanl.edu.mx
SEQUENCE:15
SUMMARY:Visita Industrial a Daimler / Mercedes-Benz
URL;VALUE=URI:https://events.vtools.ieee.org/m/545679
X-ALT-DESC:Description: &lt;br /&gt;&lt;p&gt;Este jueves 26 de marzo se llevar&amp;aacute\;
  a cabo una visita industrial a Daimler Mercedes-Benz\, donde tendremos la
  oportunidad de conocer m&amp;aacute\;s sobre sus procesos dentro de la indust
 ria automotriz.&lt;/p&gt;
END:VEVENT
END:VCALENDAR

