BEGIN:VCALENDAR
VERSION:2.0
PRODID:IEEE vTools.Events//EN
CALSCALE:GREGORIAN
BEGIN:VTIMEZONE
TZID:Asia/Kolkata
BEGIN:STANDARD
DTSTART:19451014T230000
TZOFFSETFROM:+0630
TZOFFSETTO:+0530
TZNAME:IST
END:STANDARD
END:VTIMEZONE
BEGIN:VEVENT
DTSTAMP:20260309T154422Z
UID:E65019A6-2151-4F4C-8FCA-0D362F514F1F
DTSTART;TZID=Asia/Kolkata:20260227T100000
DTEND;TZID=Asia/Kolkata:20260228T150000
DESCRIPTION:TKR HACK CONQUEST 2.0\, the second edition of the National Leve
 l Hackathon organized by the IEEE Student Branch of TKR College of Enginee
 ring and Technology (TKRCET)\, Hyderabad\, in association with WE00149 –
  Hyderabad Section Affinity Group\, WIE\, was conducted from 27–28 Febru
 ary 2026 as a 24-hour innovation challenge designed to encourage problem-s
 olving\, creativity\, and collaborative learning among students. The event
  witnessed participation from 55 teams comprising 197 students\, including
  7 IEEE members and 190 non-IEEE students from various institutions. The h
 ackathon consisted of five rounds of evaluation\, where the first four rou
 nds were conducted by professors and subject experts from different discip
 lines\, assessing teams on parameters such as innovation\, technical feasi
 bility\, development progress\, and implementation. Based on these evaluat
 ions\, the top 23 teams advanced to the final round. The final jury evalua
 tion was conducted by Dr. M. Aruna Bharathi\, Vice Chair\, WIE Affinity Gr
 oup\, IEEE Hyderabad Section\, who assessed the projects on innovation\, c
 larity of presentation\, and real-world applicability. At the conclusion o
 f the competition\, nine teams were recognized for their outstanding perfo
 rmance: three teams were awarded the titles of Winner\, First Runner-Up\, 
 and Second Runner-Up\, three teams received consolation prizes\, and three
  teams were offered internship opportunities by Hackbot for their promisin
 g solutions. The event successfully carried forward the spirit of TKR HACK
  CONQUEST 1.0\, reinforcing TKRCET’s commitment to fostering innovation\
 , technical excellence\, and interdisciplinary collaboration among aspirin
 g engineers.\n\nAgenda: \nActivity	Date	Time	Duration\nInaugural Ceremony	
 27 Feb 2026	10:00 AM – 10:20 AM	20 min\nRound 1 – Ideation &amp; Proposal 
 Development	27 Feb 2026	10:20 AM – 12:00 PM	1 hr 40 min\nRound 1 Evaluat
 ion	27 Feb 2026	12:00 PM onwards	1 hr 30 min\nLunch Break	27 Feb 2026	1:30
  PM – 2:30 PM	1 hr\nRound 2 – Design Phase	27 Feb 2026	2:30 PM – 4:0
 0 PM	1 hr 30 min\nRound 2 Evaluation	27 Feb 2026	4:00 PM onwards	—\nRoun
 d 3 – Prototype Development	27 Feb 2026	5:00 PM – 6:30 PM	1 hr 30 min\
 nBreak	27 Feb 2026	6:30 PM – 7:30 PM	1 hr\nRound 3 – Continuation	27 F
 eb 2026	7:30 PM – 8:30 PM	1 hr\nDinner Break	27 Feb 2026	8:30 PM – 9:3
 0 PM	1 hr\nRound 3 Evaluation	27 Feb 2026	10:00 PM onwards	—\nParticipan
 t Discussion Session / Rest Time	27 Feb 2026	11:00 PM – 11:45 PM	45 min\
 nFun Activities	27 Feb 2026	11:45 PM – 1:00 AM	1 hr 15 min\nRound 4 – 
 Final Development Phase	28 Feb 2026	1:00 AM – 6:00 AM	5 hrs\nRound 4 Eva
 luation	28 Feb 2026	6:00 AM onwards	—\nBreakfast Break	28 Feb 2026	7:00 
 AM – 8:00 AM	1 hr\nFinal Changes &amp; Project Upload (Google Drive)	28 Feb 
 2026	8:00 AM – 10:00 AM	2 hrs\nFinal Round Evaluation &amp; Presentations	28
  Feb 2026	10:00 AM – 11:30 AM	1 hr 30 min\nValedictory Session	28 Feb 20
 26	11:30 AM onwards	—\n\nBldg: R&amp;D block\, tkr college of engineering an
 d technology\, meerpet\, hyderabad\, Telengana\, India\, 500097
LOCATION:Bldg: R&amp;D block\, tkr college of engineering and technology\, meer
 pet\, hyderabad\, Telengana\, India\, 500097
ORGANIZER:nagamahal@gmail.com
SEQUENCE:105
SUMMARY:TKR HACK CONQUEST 2.0 – National Level 24-Hour Hackathon Organize
 d by IEEE Student Branch TKRCET in Association with WIE Hyderabad Section
URL;VALUE=URI:https://events.vtools.ieee.org/m/545846
X-ALT-DESC:Description: &lt;br /&gt;&lt;p&gt;TKR HACK CONQUEST 2.0\, the second edition
  of the National Level Hackathon organized by the IEEE Student Branch of T
 KR College of Engineering and Technology (TKRCET)\, Hyderabad\, in associa
 tion with &lt;strong data-start=&quot;197&quot; data-end=&quot;248&quot;&gt;WE00149 &amp;ndash\; Hyderab
 ad Section Affinity Group\, WIE&lt;/strong&gt;\, was conducted from &lt;strong data
 -start=&quot;269&quot; data-end=&quot;292&quot;&gt;27&amp;ndash\;28 February 2026&lt;/strong&gt; as a 24-ho
 ur innovation challenge designed to encourage problem-solving\, creativity
 \, and collaborative learning among students. The event witnessed particip
 ation from &lt;strong data-start=&quot;460&quot; data-end=&quot;496&quot;&gt;55 teams comprising 197
  students&lt;/strong&gt;\, including &lt;strong data-start=&quot;508&quot; data-end=&quot;552&quot;&gt;7 I
 EEE members and 190 non-IEEE students&lt;/strong&gt; from various institutions. 
 The hackathon consisted of &lt;strong data-start=&quot;607&quot; data-end=&quot;636&quot;&gt;five ro
 unds of evaluation&lt;/strong&gt;\, where the first &lt;strong data-start=&quot;654&quot; dat
 a-end=&quot;745&quot;&gt;four rounds were conducted by professors and subject experts f
 rom different disciplines&lt;/strong&gt;\, assessing teams on parameters such as
  innovation\, technical feasibility\, development progress\, and implement
 ation. Based on these evaluations\, the &lt;strong data-start=&quot;894&quot; data-end=
 &quot;938&quot;&gt;top 23 teams advanced to the final round&lt;/strong&gt;. The &lt;strong data-
 start=&quot;944&quot; data-end=&quot;1064&quot;&gt;final jury evaluation was conducted by Dr. M. 
 Aruna Bharathi\, Vice Chair\, WIE Affinity Group\, IEEE Hyderabad Section&lt;
 /strong&gt;\, who assessed the projects on innovation\, clarity of presentati
 on\, and real-world applicability. At the conclusion of the competition\, 
 &lt;strong data-start=&quot;1200&quot; data-end=&quot;1264&quot;&gt;nine teams were recognized for t
 heir outstanding performance&lt;/strong&gt;: &lt;strong data-start=&quot;1266&quot; data-end=
 &quot;1354&quot;&gt;three teams were awarded the titles of Winner\, First Runner-Up\, a
 nd Second Runner-Up&lt;/strong&gt;\, &lt;strong data-start=&quot;1356&quot; data-end=&quot;1399&quot;&gt;t
 hree teams received consolation prizes&lt;/strong&gt;\, and &lt;strong data-start=&quot;
 1405&quot; data-end=&quot;1469&quot;&gt;three teams were offered internship opportunities by
  Hackbot&lt;/strong&gt; for their promising solutions. The event successfully ca
 rried forward the spirit of &lt;strong data-start=&quot;1554&quot; data-end=&quot;1579&quot;&gt;TKR 
 HACK CONQUEST 1.0&lt;/strong&gt;\, reinforcing TKRCET&amp;rsquo\;s commitment to fos
 tering innovation\, technical excellence\, and interdisciplinary collabora
 tion among aspiring engineers.&lt;img src=&quot;https://events.vtools.ieee.org/vto
 ols_ui/media/display/28578c1d-5663-4cb1-ad08-c5689c93e870&quot;&gt;&lt;/p&gt;&lt;br /&gt;&lt;br /
 &gt;Agenda: &lt;br /&gt;&lt;table&gt;\n&lt;thead&gt;\n&lt;tr&gt;\n&lt;th&gt;Activity&lt;/th&gt;\n&lt;th&gt;Date&lt;/th&gt;\n&lt;
 th&gt;Time&lt;/th&gt;\n&lt;th&gt;Duration&lt;/th&gt;\n&lt;/tr&gt;\n&lt;/thead&gt;\n&lt;tbody&gt;\n&lt;tr&gt;\n&lt;td&gt;Inaug
 ural Ceremony&lt;/td&gt;\n&lt;td&gt;27 Feb 2026&lt;/td&gt;\n&lt;td&gt;10:00 AM &amp;ndash\; 10:20 AM&lt;/
 td&gt;\n&lt;td&gt;20 min&lt;/td&gt;\n&lt;/tr&gt;\n&lt;tr&gt;\n&lt;td&gt;Round 1 &amp;ndash\; Ideation &amp;amp\; Pr
 oposal Development&lt;/td&gt;\n&lt;td&gt;27 Feb 2026&lt;/td&gt;\n&lt;td&gt;10:20 AM &amp;ndash\; 12:00
  PM&lt;/td&gt;\n&lt;td&gt;1 hr 40 min&lt;/td&gt;\n&lt;/tr&gt;\n&lt;tr&gt;\n&lt;td&gt;Round 1 Evaluation&lt;/td&gt;\n
 &lt;td&gt;27 Feb 2026&lt;/td&gt;\n&lt;td&gt;12:00 PM onwards&lt;/td&gt;\n&lt;td&gt;1 hr 30 min&lt;/td&gt;\n&lt;/t
 r&gt;\n&lt;tr&gt;\n&lt;td&gt;Lunch Break&lt;/td&gt;\n&lt;td&gt;27 Feb 2026&lt;/td&gt;\n&lt;td&gt;1:30 PM &amp;ndash\;
  2:30 PM&lt;/td&gt;\n&lt;td&gt;1 hr&lt;/td&gt;\n&lt;/tr&gt;\n&lt;tr&gt;\n&lt;td&gt;Round 2 &amp;ndash\; Design Pha
 se&lt;/td&gt;\n&lt;td&gt;27 Feb 2026&lt;/td&gt;\n&lt;td&gt;2:30 PM &amp;ndash\; 4:00 PM&lt;/td&gt;\n&lt;td&gt;1 hr
  30 min&lt;/td&gt;\n&lt;/tr&gt;\n&lt;tr&gt;\n&lt;td&gt;Round 2 Evaluation&lt;/td&gt;\n&lt;td&gt;27 Feb 2026&lt;/t
 d&gt;\n&lt;td&gt;4:00 PM onwards&lt;/td&gt;\n&lt;td&gt;&amp;mdash\;&lt;/td&gt;\n&lt;/tr&gt;\n&lt;tr&gt;\n&lt;td&gt;Round 3 
 &amp;ndash\; Prototype Development&lt;/td&gt;\n&lt;td&gt;27 Feb 2026&lt;/td&gt;\n&lt;td&gt;5:00 PM &amp;nd
 ash\; 6:30 PM&lt;/td&gt;\n&lt;td&gt;1 hr 30 min&lt;/td&gt;\n&lt;/tr&gt;\n&lt;tr&gt;\n&lt;td&gt;Break&lt;/td&gt;\n&lt;td
 &gt;27 Feb 2026&lt;/td&gt;\n&lt;td&gt;6:30 PM &amp;ndash\; 7:30 PM&lt;/td&gt;\n&lt;td&gt;1 hr&lt;/td&gt;\n&lt;/tr&gt;
 \n&lt;tr&gt;\n&lt;td&gt;Round 3 &amp;ndash\; Continuation&lt;/td&gt;\n&lt;td&gt;27 Feb 2026&lt;/td&gt;\n&lt;td&gt;
 7:30 PM &amp;ndash\; 8:30 PM&lt;/td&gt;\n&lt;td&gt;1 hr&lt;/td&gt;\n&lt;/tr&gt;\n&lt;tr&gt;\n&lt;td&gt;Dinner Brea
 k&lt;/td&gt;\n&lt;td&gt;27 Feb 2026&lt;/td&gt;\n&lt;td&gt;8:30 PM &amp;ndash\; 9:30 PM&lt;/td&gt;\n&lt;td&gt;1 hr&lt;
 /td&gt;\n&lt;/tr&gt;\n&lt;tr&gt;\n&lt;td&gt;Round 3 Evaluation&lt;/td&gt;\n&lt;td&gt;27 Feb 2026&lt;/td&gt;\n&lt;td&gt;
 10:00 PM onwards&lt;/td&gt;\n&lt;td&gt;&amp;mdash\;&lt;/td&gt;\n&lt;/tr&gt;\n&lt;tr&gt;\n&lt;td&gt;Participant Dis
 cussion Session / Rest Time&lt;/td&gt;\n&lt;td&gt;27 Feb 2026&lt;/td&gt;\n&lt;td&gt;11:00 PM &amp;ndas
 h\; 11:45 PM&lt;/td&gt;\n&lt;td&gt;45 min&lt;/td&gt;\n&lt;/tr&gt;\n&lt;tr&gt;\n&lt;td&gt;Fun Activities&lt;/td&gt;\n
 &lt;td&gt;27 Feb 2026&lt;/td&gt;\n&lt;td&gt;11:45 PM &amp;ndash\; 1:00 AM&lt;/td&gt;\n&lt;td&gt;1 hr 15 min&lt;
 /td&gt;\n&lt;/tr&gt;\n&lt;tr&gt;\n&lt;td&gt;Round 4 &amp;ndash\; Final Development Phase&lt;/td&gt;\n&lt;td&gt;
 28 Feb 2026&lt;/td&gt;\n&lt;td&gt;1:00 AM &amp;ndash\; 6:00 AM&lt;/td&gt;\n&lt;td&gt;5 hrs&lt;/td&gt;\n&lt;/tr&gt;
 \n&lt;tr&gt;\n&lt;td&gt;Round 4 Evaluation&lt;/td&gt;\n&lt;td&gt;28 Feb 2026&lt;/td&gt;\n&lt;td&gt;6:00 AM onw
 ards&lt;/td&gt;\n&lt;td&gt;&amp;mdash\;&lt;/td&gt;\n&lt;/tr&gt;\n&lt;tr&gt;\n&lt;td&gt;Breakfast Break&lt;/td&gt;\n&lt;td&gt;2
 8 Feb 2026&lt;/td&gt;\n&lt;td&gt;7:00 AM &amp;ndash\; 8:00 AM&lt;/td&gt;\n&lt;td&gt;1 hr&lt;/td&gt;\n&lt;/tr&gt;\n
 &lt;tr&gt;\n&lt;td&gt;Final Changes &amp;amp\; Project Upload (Google Drive)&lt;/td&gt;\n&lt;td&gt;28 
 Feb 2026&lt;/td&gt;\n&lt;td&gt;8:00 AM &amp;ndash\; 10:00 AM&lt;/td&gt;\n&lt;td&gt;2 hrs&lt;/td&gt;\n&lt;/tr&gt;\n
 &lt;tr&gt;\n&lt;td&gt;Final Round Evaluation &amp;amp\; Presentations&lt;/td&gt;\n&lt;td&gt;28 Feb 202
 6&lt;/td&gt;\n&lt;td&gt;10:00 AM &amp;ndash\; 11:30 AM&lt;/td&gt;\n&lt;td&gt;1 hr 30 min&lt;/td&gt;\n&lt;/tr&gt;\n
 &lt;tr&gt;\n&lt;td&gt;Valedictory Session&lt;/td&gt;\n&lt;td&gt;28 Feb 2026&lt;/td&gt;\n&lt;td&gt;11:30 AM onw
 ards&lt;/td&gt;\n&lt;td&gt;&amp;mdash\;&lt;/td&gt;\n&lt;/tr&gt;\n&lt;/tbody&gt;\n&lt;/table&gt;
END:VEVENT
END:VCALENDAR

