BEGIN:VCALENDAR
VERSION:2.0
PRODID:IEEE vTools.Events//EN
CALSCALE:GREGORIAN
BEGIN:VTIMEZONE
TZID:America/Phoenix
BEGIN:STANDARD
DTSTART:19671029T010000
TZOFFSETFROM:-0600
TZOFFSETTO:-0700
TZNAME:MST
END:STANDARD
END:VTIMEZONE
BEGIN:VEVENT
DTSTAMP:20260324T181723Z
UID:783AA3AC-A4C2-4CC5-9931-6FE81515051B
DTSTART;TZID=America/Phoenix:20260320T110000
DTEND;TZID=America/Phoenix:20260320T120000
DESCRIPTION:The IEEE ASU ComSoc Student Branch Chapter is dedicated to fost
 ering an active community of students and researchers passionate about com
 munications\, networking\, and emerging wireless technologies. Our mission
  is to create a dynamic environment for professional development\, mentors
 hip\, and technical exchange. As a core part of this mission\, we host a K
 eynote Speech Series featuring distinguished leaders whose work informs an
 d inspires our members. These sessions are designed to bridge the gap betw
 een cutting-edge research and industry practice\, providing our student co
 mmunity with direct access to the visionaries shaping the future of connec
 tivity.\n\nSpeaker(s): Gunes Karabulut-Kurt\n\nVirtual: https://events.vto
 ols.ieee.org/m/545925
LOCATION:Virtual: https://events.vtools.ieee.org/m/545925
ORGANIZER:asabyrb1@asu.edu
SEQUENCE:120
SUMMARY:IEEE ASU ComSoc Keynote Speech Series
URL;VALUE=URI:https://events.vtools.ieee.org/m/545925
X-ALT-DESC:Description: &lt;br /&gt;&lt;p&gt;The &lt;strong data-path-to-node=&quot;3&quot; data-ind
 ex-in-node=&quot;4&quot;&gt;IEEE ASU ComSoc Student Branch Chapter&lt;/strong&gt; is dedicate
 d to fostering an active community of students and researchers passionate 
 about &lt;em&gt;communications\, networking\, and emerging wireless technologies
 . &lt;/em&gt;Our mission is to create a dynamic environment for professional dev
 elopment\, mentorship\, and technical exchange. As a core part of this mis
 sion\, we host a &lt;strong data-path-to-node=&quot;3&quot; data-index-in-node=&quot;353&quot;&gt;Ke
 ynote Speech Series&lt;/strong&gt; featuring distinguished leaders whose work in
 forms and inspires our members. These sessions are designed to bridge the 
 gap between cutting-edge research and industry practice\, providing our st
 udent community with direct access to the visionaries shaping the future o
 f connectivity.&lt;/p&gt;
END:VEVENT
END:VCALENDAR

