BEGIN:VCALENDAR
VERSION:2.0
PRODID:IEEE vTools.Events//EN
CALSCALE:GREGORIAN
BEGIN:VTIMEZONE
TZID:Europe/Athens
BEGIN:DAYLIGHT
DTSTART:20260329T040000
TZOFFSETFROM:+0200
TZOFFSETTO:+0300
RRULE:FREQ=YEARLY;BYDAY=-1SU;BYMONTH=3
TZNAME:EEST
END:DAYLIGHT
BEGIN:STANDARD
DTSTART:20251026T030000
TZOFFSETFROM:+0300
TZOFFSETTO:+0200
RRULE:FREQ=YEARLY;BYDAY=-1SU;BYMONTH=10
TZNAME:EET
END:STANDARD
END:VTIMEZONE
BEGIN:VEVENT
DTSTAMP:20260331T070200Z
UID:EEA58F9F-FC81-4177-ADBC-A859DD827F00
DTSTART;TZID=Europe/Athens:20260328T091300
DTEND;TZID=Europe/Athens:20260328T150000
DESCRIPTION:The Epirus XR Center and the IEEE Student Branch University of 
 Ioannina – Arta will participate dynamically in the 1st AI &amp; Robotics Ha
 ckathon “Innovating for our city”\, organized by the 1st Model Gymnasi
 um of Preveza with L.T. as part of European Programming Week (EU Code Week
 ).\n\nThe event will take place on Saturday\, March 28\, 2026\, and aims t
 o bring students into contact with modern technologies such as Artificial 
 Intelligence (AI)\, Educational Robotics\, 3D design and printing\, Mixed 
 Reality (XR)\, and green and blue energy applications\, encouraging creati
 ve thinking and the development of innovative solutions for the city of Pr
 eveza.\n\nAs part of the event\, researchers and members of the Epirus XR 
 Center\, in collaboration with IEEE SB UOI Arta\, will actively contribute
  to the action by supporting the educational process and participating in 
 the evaluation of student teams. Their presence strengthens the link betwe
 en education\, research\, and technological innovation\, offering students
  the opportunity to learn about modern scientific applications and profess
 ional prospects in the field of digital technology.\n\nIt is a particular 
 honor for HCILab | Epirus XR Center to participate in the event’s judgin
 g panel\, contributing its scientific expertise to the evaluation of stude
 nts’ projects and encouraging innovation in the school community.\n\nThi
 s initiative highlights the importance of collaboration between schools\, 
 universities\, and research institutions\, promoting digital literacy\, in
 novation\, and creativity among the younger generation.\n\nThe Epirus XR C
 enter and IEEE SB UOI Arta continue to support actions that enhance the di
 ssemination of new technologies and inspire students to become the creator
 s of tomorrow’s digital society.\n\nRoom:  2\, Bldg: 1st Model Junior Hi
 gh School of Preveza\, Arkadiou 2\, Preveza\, Epirus\, Greece\, 48100
LOCATION:Room:  2\, Bldg: 1st Model Junior High School of Preveza\, Arkadio
 u 2\, Preveza\, Epirus\, Greece\, 48100
ORGANIZER:ieee_sb_arta@uoi.gr
SEQUENCE:16
SUMMARY:The Epirus XR Center and the IEEE Student Branch University of Ioan
 nina – Arta at the 1st AI &amp; Robotics Hackathon in Preveza
URL;VALUE=URI:https://events.vtools.ieee.org/m/546105
X-ALT-DESC:Description: &lt;br /&gt;&lt;p&gt;The Epirus XR Center and the IEEE Student 
 Branch University of Ioannina &amp;ndash\; Arta will participate dynamically i
 n the 1st AI &amp;amp\; Robotics Hackathon &amp;ldquo\;Innovating for our city&amp;rdq
 uo\;\, organized by the 1st Model Gymnasium of Preveza with L.T. as part o
 f European Programming Week (EU Code Week).&lt;/p&gt;\n&lt;p&gt;The event will take pl
 ace on Saturday\, March 28\, 2026\, and aims to bring students into contac
 t with modern technologies such as Artificial Intelligence (AI)\, Educatio
 nal Robotics\, 3D design and printing\, Mixed Reality (XR)\, and green and
  blue energy applications\, encouraging creative thinking and the developm
 ent of innovative solutions for the city of Preveza.&lt;/p&gt;\n&lt;p&gt;As part of th
 e event\, researchers and members of the Epirus XR Center\, in collaborati
 on with IEEE SB UOI Arta\, will actively contribute to the action by suppo
 rting the educational process and participating in the evaluation of stude
 nt teams. Their presence strengthens the link between education\, research
 \, and technological innovation\, offering students the opportunity to lea
 rn about modern scientific applications and professional prospects in the 
 field of digital technology.&lt;/p&gt;\n&lt;p&gt;It is a particular honor for HCILab |
  Epirus XR Center to participate in the event&amp;rsquo\;s judging panel\, con
 tributing its scientific expertise to the evaluation of students&amp;rsquo\; p
 rojects and encouraging innovation in the school community.&lt;/p&gt;\n&lt;p&gt;This i
 nitiative highlights the importance of collaboration between schools\, uni
 versities\, and research institutions\, promoting digital literacy\, innov
 ation\, and creativity among the younger generation.&lt;/p&gt;\n&lt;p&gt;The Epirus XR
  Center and IEEE SB UOI Arta continue to support actions that enhance the 
 dissemination of new technologies and inspire students to become the creat
 ors of tomorrow&amp;rsquo\;s digital society.&lt;/p&gt;\n&lt;p&gt;&lt;img style=&quot;display: blo
 ck\; margin-left: auto\; margin-right: auto\;&quot; src=&quot;https://events.vtools.
 ieee.org/vtools_ui/media/display/9db52cbc-47d5-42a4-94c0-1a8ec59f5bd4&quot; wid
 th=&quot;402&quot; height=&quot;568&quot;&gt;&lt;/p&gt;
END:VEVENT
END:VCALENDAR

