BEGIN:VCALENDAR
VERSION:2.0
PRODID:IEEE vTools.Events//EN
CALSCALE:GREGORIAN
BEGIN:VTIMEZONE
TZID:Asia/Kolkata
BEGIN:STANDARD
DTSTART:19451014T230000
TZOFFSETFROM:+0630
TZOFFSETTO:+0530
TZNAME:IST
END:STANDARD
END:VTIMEZONE
BEGIN:VEVENT
DTSTAMP:20260311T080124Z
UID:FE024B54-4083-4B9D-9EBF-24F666C3AF1B
DTSTART;TZID=Asia/Kolkata:20261106T100000
DTEND;TZID=Asia/Kolkata:20261106T170000
DESCRIPTION:Clean Water\, Clean Future is an awareness and community engage
 ment initiative aimed at promoting the importance of safe\, sustainable\, 
 and responsible water usage. The program focuses on educating students and
  community members about the significance of clean water for health\, envi
 ronmental sustainability\, and future generations.\n\nThrough interactive 
 sessions\, demonstrations\, and awareness campaigns\, participants learn a
 bout water conservation techniques\, pollution prevention\, and simple wat
 er purification methods. The activity also highlights global and local cha
 llenges related to water scarcity and emphasizes the role of individuals a
 nd technology in ensuring access to clean and safe drinking water.\n\nThe 
 initiative encourages students to become responsible citizens and change-m
 akers\, inspiring them to adopt sustainable water practices such as rainwa
 ter harvesting\, reducing water wastage\, and protecting natural water res
 ources. By combining education\, community outreach\, and practical demons
 trations\, Clean Water\, Clean Future contributes to building a healthier 
 and more sustainable society.\n\nCo-sponsored by: STB60225931 - Sagar Inst
  of Science Tech and Eng\n\nAgenda: \n-\nOpening and Introduction (10 minu
 tes)\nWelcome address and overview of the importance of clean water and wa
 ter sustainability.\n\n-\nAwareness Session (20 minutes)\nDiscussion on wa
 ter pollution\, water scarcity\, and global challenges related to safe dri
 nking water.\n\n-\nDemonstration of Water Purification Methods (20 minutes
 )\nSimple demonstrations of filtration\, boiling\, and low-cost purificati
 on techniques.\n\n-\nWater Conservation Techniques (15 minutes)\nPresentat
 ion on practical ways to conserve water at home\, school\, and in the comm
 unity.\n\n-\nCommunity Engagement Activity (20 minutes)\nParticipants crea
 te posters\, pledges\, or awareness messages promoting water conservation.
 \n\n-\nInteractive Discussion and Q&amp;A (10 minutes)\nParticipants share ide
 as and ask questions about sustainable water practices.\n\n-\nConclusion a
 nd Pledge for Water Conservation (5 minutes)\nParticipants take a pledge t
 o support clean water initiatives and promote responsible water use.\n\nSa
 gar Institute of science Technology &amp; engineering\, Bhopal\, Madhya Prades
 h\, India\, 462044
LOCATION:Sagar Institute of science Technology &amp; engineering\, Bhopal\, Mad
 hya Pradesh\, India\, 462044
ORGANIZER:ashishee@gmail.com
SEQUENCE:8
SUMMARY:Clean water Clean future
URL;VALUE=URI:https://events.vtools.ieee.org/m/546463
X-ALT-DESC:Description: &lt;br /&gt;&lt;p data-start=&quot;35&quot; data-end=&quot;390&quot;&gt;&lt;em data-st
 art=&quot;54&quot; data-end=&quot;81&quot;&gt;Clean Water\, Clean Future&lt;/em&gt; is an awareness and
  community engagement initiative aimed at promoting the importance of &lt;str
 ong data-start=&quot;171&quot; data-end=&quot;221&quot;&gt;safe\, sustainable\, and responsible w
 ater usage&lt;/strong&gt;. The program focuses on educating students and communi
 ty members about the significance of clean water for health\, environmenta
 l sustainability\, and future generations.&lt;/p&gt;\n&lt;p data-start=&quot;392&quot; data-e
 nd=&quot;773&quot;&gt;Through interactive sessions\, demonstrations\, and awareness cam
 paigns\, participants learn about &lt;strong data-start=&quot;488&quot; data-end=&quot;582&quot;&gt;
 water conservation techniques\, pollution prevention\, and simple water pu
 rification methods&lt;/strong&gt;. The activity also highlights global and local
  challenges related to water scarcity and emphasizes the role of individua
 ls and technology in ensuring access to clean and safe drinking water.&lt;/p&gt;
 \n&lt;p data-start=&quot;775&quot; data-end=&quot;1177&quot;&gt;The initiative encourages students t
 o become &lt;strong data-start=&quot;820&quot; data-end=&quot;862&quot;&gt;responsible citizens and 
 change-makers&lt;/strong&gt;\, inspiring them to adopt sustainable water practic
 es such as rainwater harvesting\, reducing water wastage\, and protecting 
 natural water resources. By combining education\, community outreach\, and
  practical demonstrations\, &lt;em data-start=&quot;1084&quot; data-end=&quot;1111&quot;&gt;Clean Wa
 ter\, Clean Future&lt;/em&gt; contributes to building a healthier and more susta
 inable society.&lt;/p&gt;&lt;br /&gt;&lt;br /&gt;Agenda: &lt;br /&gt;&lt;div class=&quot;flex flex-col tex
 t-sm pb-25&quot;&gt;\n&lt;article class=&quot;text-token-text-primary w-full focus:outline
 -none [--shadow-height:45px] has-data-writing-block:pointer-events-none ha
 s-data-writing-block:-mt-(--shadow-height) has-data-writing-block:pt-(--sh
 adow-height) [&amp;amp\;:has([data-writing-block])&amp;gt\;*]:pointer-events-auto 
 scroll-mt-[calc(var(--header-height)+min(200px\,max(70px\,20svh)))]&quot; dir=&quot;
 auto&quot; tabindex=&quot;-1&quot; data-turn-id=&quot;request-WEB:5e12036b-89bb-4920-925d-0c10
 c06253a0-1&quot; data-testid=&quot;conversation-turn-4&quot; data-scroll-anchor=&quot;true&quot; da
 ta-turn=&quot;assistant&quot;&gt;\n&lt;div class=&quot;text-base my-auto mx-auto pb-10 [--threa
 d-content-margin:var(--thread-content-margin-xs\,calc(var(--spacing)*4))] 
 @w-sm/main:[--thread-content-margin:var(--thread-content-margin-sm\,calc(v
 ar(--spacing)*6))] @w-lg/main:[--thread-content-margin:var(--thread-conten
 t-margin-lg\,calc(var(--spacing)*16))] px-(--thread-content-margin)&quot;&gt;\n&lt;di
 v class=&quot;[--thread-content-max-width:40rem] @w-lg/main:[--thread-content-m
 ax-width:48rem] mx-auto max-w-(--thread-content-max-width) flex-1 group/tu
 rn-messages focus-visible:outline-hidden relative flex w-full min-w-0 flex
 -col agent-turn&quot; tabindex=&quot;-1&quot;&gt;\n&lt;div class=&quot;flex max-w-full flex-col gap-
 4 grow&quot;&gt;\n&lt;div class=&quot;min-h-8 text-message relative flex w-full flex-col i
 tems-end gap-2 text-start break-words whitespace-normal [.text-message+&amp;am
 p\;]:mt-1&quot; dir=&quot;auto&quot; data-message-author-role=&quot;assistant&quot; data-message-id
 =&quot;46712a09-2772-4d7e-99bf-2bf707a87b9f&quot; data-message-model-slug=&quot;gpt-5-3&quot;&gt;
 \n&lt;div class=&quot;flex w-full flex-col gap-1 empty:hidden&quot;&gt;\n&lt;div class=&quot;markd
 own prose dark:prose-invert w-full wrap-break-word light markdown-new-styl
 ing&quot;&gt;\n&lt;ol data-start=&quot;1200&quot; data-end=&quot;2228&quot; data-is-last-node=&quot;&quot; data-is-
 only-node=&quot;&quot;&gt;\n&lt;li data-section-id=&quot;2c1um&quot; data-start=&quot;1200&quot; data-end=&quot;133
 7&quot;&gt;\n&lt;p data-start=&quot;1203&quot; data-end=&quot;1337&quot;&gt;&lt;strong data-start=&quot;1203&quot; data-e
 nd=&quot;1244&quot;&gt;Opening and Introduction (10 minutes)&lt;/strong&gt;&lt;br data-start=&quot;12
 44&quot; data-end=&quot;1247&quot;&gt;Welcome address and overview of the importance of clea
 n water and water sustainability.&lt;/p&gt;\n&lt;/li&gt;\n&lt;li data-section-id=&quot;16ehlz3
 &quot; data-start=&quot;1339&quot; data-end=&quot;1482&quot;&gt;\n&lt;p data-start=&quot;1342&quot; data-end=&quot;1482&quot;
 &gt;&lt;strong data-start=&quot;1342&quot; data-end=&quot;1376&quot;&gt;Awareness Session (20 minutes)&lt;
 /strong&gt;&lt;br data-start=&quot;1376&quot; data-end=&quot;1379&quot;&gt;Discussion on water pollutio
 n\, water scarcity\, and global challenges related to safe drinking water.
 &lt;/p&gt;\n&lt;/li&gt;\n&lt;li data-section-id=&quot;1kdk274&quot; data-start=&quot;1484&quot; data-end=&quot;163
 6&quot;&gt;\n&lt;p data-start=&quot;1487&quot; data-end=&quot;1636&quot;&gt;&lt;strong data-start=&quot;1487&quot; data-e
 nd=&quot;1547&quot;&gt;Demonstration of Water Purification Methods (20 minutes)&lt;/strong
 &gt;&lt;br data-start=&quot;1547&quot; data-end=&quot;1550&quot;&gt;Simple demonstrations of filtration
 \, boiling\, and low-cost purification techniques.&lt;/p&gt;\n&lt;/li&gt;\n&lt;li data-se
 ction-id=&quot;1jv8e9r&quot; data-start=&quot;1638&quot; data-end=&quot;1780&quot;&gt;\n&lt;p data-start=&quot;1641
 &quot; data-end=&quot;1780&quot;&gt;&lt;strong data-start=&quot;1641&quot; data-end=&quot;1687&quot;&gt;Water Conserva
 tion Techniques (15 minutes)&lt;/strong&gt;&lt;br data-start=&quot;1687&quot; data-end=&quot;1690&quot;
 &gt;Presentation on practical ways to conserve water at home\, school\, and i
 n the community.&lt;/p&gt;\n&lt;/li&gt;\n&lt;li data-section-id=&quot;184if76&quot; data-start=&quot;178
 2&quot; data-end=&quot;1926&quot;&gt;\n&lt;p data-start=&quot;1785&quot; data-end=&quot;1926&quot;&gt;&lt;strong data-sta
 rt=&quot;1785&quot; data-end=&quot;1831&quot;&gt;Community Engagement Activity (20 minutes)&lt;/stro
 ng&gt;&lt;br data-start=&quot;1831&quot; data-end=&quot;1834&quot;&gt;Participants create posters\, ple
 dges\, or awareness messages promoting water conservation.&lt;/p&gt;\n&lt;/li&gt;\n&lt;li
  data-section-id=&quot;gcm1bs&quot; data-start=&quot;1928&quot; data-end=&quot;2061&quot;&gt;\n&lt;p data-star
 t=&quot;1931&quot; data-end=&quot;2061&quot;&gt;&lt;strong data-start=&quot;1931&quot; data-end=&quot;1978&quot;&gt;Interac
 tive Discussion and Q&amp;amp\;A (10 minutes)&lt;/strong&gt;&lt;br data-start=&quot;1978&quot; da
 ta-end=&quot;1981&quot;&gt;Participants share ideas and ask questions about sustainable
  water practices.&lt;/p&gt;\n&lt;/li&gt;\n&lt;li data-section-id=&quot;idbreo&quot; data-start=&quot;206
 3&quot; data-end=&quot;2228&quot; data-is-last-node=&quot;&quot;&gt;\n&lt;p data-start=&quot;2066&quot; data-end=&quot;2
 228&quot; data-is-last-node=&quot;&quot;&gt;&lt;strong data-start=&quot;2066&quot; data-end=&quot;2126&quot;&gt;Conclu
 sion and Pledge for Water Conservation (5 minutes)&lt;/strong&gt;&lt;br data-start=
 &quot;2126&quot; data-end=&quot;2129&quot;&gt;Participants take a pledge to support clean water i
 nitiatives and promote responsible water use.&lt;/p&gt;\n&lt;/li&gt;\n&lt;/ol&gt;\n&lt;/div&gt;\n&lt;
 /div&gt;\n&lt;/div&gt;\n&lt;/div&gt;\n&lt;div class=&quot;z-0 flex min-h-[46px] justify-start&quot;&gt;&amp;n
 bsp\;&lt;/div&gt;\n&lt;div class=&quot;mt-3 w-full empty:hidden&quot;&gt;\n&lt;div class=&quot;text-cent
 er&quot;&gt;&amp;nbsp\;&lt;/div&gt;\n&lt;/div&gt;\n&lt;/div&gt;\n&lt;/div&gt;\n&lt;/article&gt;\n&lt;/div&gt;\n&lt;div class=
 &quot;pointer-events-none h-px w-px absolute bottom-0&quot; aria-hidden=&quot;true&quot; data-
 edge=&quot;true&quot;&gt;&amp;nbsp\;&lt;/div&gt;
END:VEVENT
END:VCALENDAR

