BEGIN:VCALENDAR
VERSION:2.0
PRODID:IEEE vTools.Events//EN
CALSCALE:GREGORIAN
BEGIN:VTIMEZONE
TZID:Asia/Kolkata
BEGIN:STANDARD
DTSTART:19451014T230000
TZOFFSETFROM:+0630
TZOFFSETTO:+0530
TZNAME:IST
END:STANDARD
END:VTIMEZONE
BEGIN:VEVENT
DTSTAMP:20260403T133557Z
UID:5A940D0F-2186-4246-99C5-A1E260B08EAB
DTSTART;TZID=Asia/Kolkata:20260316T090000
DTEND;TZID=Asia/Kolkata:20260317T090000
DESCRIPTION:TECHSYNAPSE is a 24-hour National Level Hackathon organized by 
 the Department of Electronics and Communication Engineering at Geethanjali
  College of Engineering and Technology. The event aims to bring together i
 nnovative minds from across the country to develop impactful technological
  solutions that address real-world challenges.\n\nThe hackathon is conduct
 ed under the theme “TechBridge”\, which focuses on bridging the gap be
 tween technology and societal needs. Participants will work in teams to de
 sign and build creative solutions in two key tracks: Smart Health Care Sys
 tems and Agritech Solutions.\n\nOver an intense 24-hour period\, participa
 nts will collaborate\, brainstorm\, and develop prototypes that leverage m
 odern technologies such as Artificial Intelligence\, IoT\, data analytics\
 , and smart systems. The event provides a platform for students to showcas
 e their technical skills\, problem-solving abilities\, and innovative thin
 king.\n\nWith a prize pool of ₹60\,000\, TECHSYNAPSE encourages students
  to push the boundaries of innovation while gaining valuable experience in
  teamwork\, research\, and rapid prototyping. The hackathon aims to inspir
 e young engineers to create technology-driven solutions that contribute to
  sustainable development and societal progress.\n\nRoom: ECE Block / Semin
 ar Hall (Hackathon Hall)\, Bldg: Department of Electronics and Communicati
 on Engineering\, eethanjali College of Engineering and Technology\, Cheery
 al (V)\, Keesara (M)\, HYDERABAD\, Telengana\, India
LOCATION:Room: ECE Block / Seminar Hall (Hackathon Hall)\, Bldg: Department
  of Electronics and Communication Engineering\, eethanjali College of Engi
 neering and Technology\, Cheeryal (V)\, Keesara (M)\, HYDERABAD\, Telengan
 a\, India
ORGANIZER:ieeesb@gcet.edu.in
SEQUENCE:14
SUMMARY:TECHSYNAPSE – 24 Hour National Level Hackathon
URL;VALUE=URI:https://events.vtools.ieee.org/m/546544
X-ALT-DESC:Description: &lt;br /&gt;&lt;p data-start=&quot;131&quot; data-end=&quot;466&quot;&gt;TECHSYNAPS
 E is a &lt;strong data-start=&quot;148&quot; data-end=&quot;184&quot;&gt;24-hour National Level Hack
 athon&lt;/strong&gt; organized by the Department of Electronics and Communicatio
 n Engineering at Geethanjali College of Engineering and Technology. The ev
 ent aims to bring together innovative minds from across the country to dev
 elop impactful technological solutions that address real-world challenges.
 &lt;/p&gt;\n&lt;p data-start=&quot;468&quot; data-end=&quot;749&quot;&gt;The hackathon is conducted under 
 the theme &lt;strong data-start=&quot;511&quot; data-end=&quot;527&quot;&gt;&amp;ldquo\;TechBridge&amp;rdquo
 \;&lt;/strong&gt;\, which focuses on bridging the gap between technology and soc
 ietal needs. Participants will work in teams to design and build creative 
 solutions in two key tracks: &lt;strong data-start=&quot;692&quot; data-end=&quot;721&quot;&gt;Smart
  Health Care Systems&lt;/strong&gt; and &lt;strong data-start=&quot;726&quot; data-end=&quot;748&quot;&gt;
 Agritech Solutions&lt;/strong&gt;.&lt;/p&gt;\n&lt;p data-start=&quot;751&quot; data-end=&quot;1086&quot;&gt;Over
  an intense 24-hour period\, participants will collaborate\, brainstorm\, 
 and develop prototypes that leverage modern technologies such as Artificia
 l Intelligence\, IoT\, data analytics\, and smart systems. The event provi
 des a platform for students to showcase their technical skills\, problem-s
 olving abilities\, and innovative thinking.&lt;/p&gt;\n&lt;p data-start=&quot;1088&quot; data
 -end=&quot;1420&quot;&gt;With a &lt;strong data-start=&quot;1095&quot; data-end=&quot;1120&quot;&gt;prize pool of
  ₹60\,000&lt;/strong&gt;\, TECHSYNAPSE encourages students to push the boundar
 ies of innovation while gaining valuable experience in teamwork\, research
 \, and rapid prototyping. The hackathon aims to inspire young engineers to
  create technology-driven solutions that contribute to sustainable develop
 ment and societal progress.&lt;/p&gt;
END:VEVENT
END:VCALENDAR

