BEGIN:VCALENDAR
VERSION:2.0
PRODID:IEEE vTools.Events//EN
CALSCALE:GREGORIAN
BEGIN:VTIMEZONE
TZID:Europe/Tallinn
BEGIN:DAYLIGHT
DTSTART:20260329T040000
TZOFFSETFROM:+0200
TZOFFSETTO:+0300
RRULE:FREQ=YEARLY;BYDAY=-1SU;BYMONTH=3
TZNAME:EEST
END:DAYLIGHT
BEGIN:STANDARD
DTSTART:20251026T030000
TZOFFSETFROM:+0300
TZOFFSETTO:+0200
RRULE:FREQ=YEARLY;BYDAY=-1SU;BYMONTH=10
TZNAME:EET
END:STANDARD
END:VTIMEZONE
BEGIN:VEVENT
DTSTAMP:20260328T113015Z
UID:1F163083-58CF-4F9E-82FD-C0B28E39D987
DTSTART;TZID=Europe/Tallinn:20260325T160000
DTEND;TZID=Europe/Tallinn:20260325T170000
DESCRIPTION:An open\, friendly meet-up for young professionals\, PhD studen
 ts\, postdocs\, and early-career researchers. For the march edition\, the 
 theme is related to Young Researchers’ wellbeing.\n\nGuest speaker is Da
 ria Miliaieva — Marie Curie Alumni Association Board Member\, Postdoctor
 al Researcher\, Czech Technical University in Prague\, Czechia. She will o
 pen the session with a role play on the researchers wellbeing\, followed b
 y a relaxed discussion.\n\nRoom: 422\, Bldg: NRG\, Tallinn\, Estonia\, Est
 onia
LOCATION:Room: 422\, Bldg: NRG\, Tallinn\, Estonia\, Estonia
ORGANIZER:sreenathphd@ieee.org
SEQUENCE:16
SUMMARY:Young Researchers’ Café — March 2026 Edition
URL;VALUE=URI:https://events.vtools.ieee.org/m/546582
X-ALT-DESC:Description: &lt;br /&gt;&lt;p&gt;An open\, friendly meet-up for young profe
 ssionals\, PhD students\, postdocs\, and early-career researchers.&amp;nbsp\;F
 or the march edition\, the theme is related to Young Researchers&amp;rsquo\; w
 ellbeing.&lt;br&gt;&lt;br&gt;Guest speaker is Daria Miliaieva &amp;mdash\; Marie Curie Alu
 mni Association Board Member\, Postdoctoral Researcher\, Czech Technical U
 niversity in Prague\, Czechia. She will open the session with a role play 
 on the researchers wellbeing\, followed by a relaxed discussion.&lt;br&gt;&lt;br&gt;&lt;/
 p&gt;
END:VEVENT
END:VCALENDAR

