BEGIN:VCALENDAR
VERSION:2.0
PRODID:IEEE vTools.Events//EN
CALSCALE:GREGORIAN
BEGIN:VTIMEZONE
TZID:Europe/Rome
BEGIN:DAYLIGHT
DTSTART:20260329T030000
TZOFFSETFROM:+0100
TZOFFSETTO:+0200
RRULE:FREQ=YEARLY;BYDAY=-1SU;BYMONTH=3
TZNAME:CEST
END:DAYLIGHT
BEGIN:STANDARD
DTSTART:20251026T020000
TZOFFSETFROM:+0200
TZOFFSETTO:+0100
RRULE:FREQ=YEARLY;BYDAY=-1SU;BYMONTH=10
TZNAME:CET
END:STANDARD
END:VTIMEZONE
BEGIN:VEVENT
DTSTAMP:20260330T080048Z
UID:A7E14CAF-0415-4BDD-906D-B0E80FCF60D1
DTSTART;TZID=Europe/Rome:20260327T090000
DTEND;TZID=Europe/Rome:20260327T170000
DESCRIPTION:Join the IEEE Student Branch at Polito Open Days!\nAre you read
 y to see what’s behind the &quot;Electronics&quot; curtain at Politecnico di Torin
 o? The IEEE PoliTO Student Branch is excited to welcome prospective studen
 ts for an exclusive look into the world of technology and innovation.\n\n-
 \nDiscover IEEE: Learn about the world’s largest technical professional 
 organization and how we bridge the gap between academic theory and industr
 y reality.\n\n-\nDidactic laboratories visit: Step inside the workstations
 . We’ll show you the tools\, the tech\, and the projects we’re actuall
 y building.\n\n-\nThe &quot;Golden Rules&quot; of Electronics Engineering: We’re s
 haring the practical strategies to help you tackle the toughest exams and 
 keep your sanity.\n\n-\nPower in Community: Discover how our Student Branc
 h provides the networking\, mentorship\, and peer support you need to thri
 ve.\n\nBldg: DET\, Corso Castelfidardo\, 42/A\, Torino\, Piemonte\, Italy
LOCATION:Bldg: DET\, Corso Castelfidardo\, 42/A\, Torino\, Piemonte\, Italy
ORGANIZER:sb.polito@ieee.org
SEQUENCE:24
SUMMARY:PoliTO Open Days 2026 - Meet the IEEE PoliTO Student Branch!
URL;VALUE=URI:https://events.vtools.ieee.org/m/546588
X-ALT-DESC:Description: &lt;br /&gt;&lt;p&gt;&lt;strong&gt;Join the IEEE Student Branch at Po
 lito Open Days!&lt;br&gt;&lt;/strong&gt;Are you ready to see what&amp;rsquo\;s behind the 
 &quot;Electronics&quot; curtain at Politecnico di Torino? The IEEE PoliTO Student Br
 anch is excited to welcome prospective students for an exclusive look into
  the world of technology and innovation.&lt;strong&gt;&lt;br&gt;&lt;/strong&gt;&lt;/p&gt;\n&lt;ul dat
 a-path-to-node=&quot;4&quot;&gt;\n&lt;li&gt;\n&lt;p data-path-to-node=&quot;4\,0\,0&quot;&gt;&lt;strong data-pat
 h-to-node=&quot;4\,0\,0&quot; data-index-in-node=&quot;0&quot;&gt;Discover IEEE:&lt;/strong&gt; Learn a
 bout the world&amp;rsquo\;s largest technical professional organization and ho
 w we bridge the gap between academic theory and industry reality.&lt;/p&gt;\n&lt;/l
 i&gt;\n&lt;li&gt;\n&lt;p data-path-to-node=&quot;4\,1\,0&quot;&gt;&lt;strong data-path-to-node=&quot;4\,1\,
 0&quot; data-index-in-node=&quot;0&quot;&gt;Didactic laboratories visit:&lt;/strong&gt; Step insid
 e the workstations. We&amp;rsquo\;ll show you the tools\, the tech\, and the p
 rojects we&amp;rsquo\;re actually building.&lt;/p&gt;\n&lt;/li&gt;\n&lt;li&gt;\n&lt;p data-path-to-
 node=&quot;4\,2\,0&quot;&gt;&lt;strong data-path-to-node=&quot;4\,2\,0&quot; data-index-in-node=&quot;0&quot;&gt;
 The &quot;Golden Rules&quot; of Electronics Engineering:&lt;/strong&gt; We&amp;rsquo\;re shari
 ng the practical strategies to help you tackle the toughest exams and keep
  your sanity.&lt;/p&gt;\n&lt;/li&gt;\n&lt;li&gt;\n&lt;p data-path-to-node=&quot;4\,3\,0&quot;&gt;&lt;strong dat
 a-path-to-node=&quot;4\,3\,0&quot; data-index-in-node=&quot;0&quot;&gt;Power in Community:&lt;/stron
 g&gt; Discover how our Student Branch provides the networking\, mentorship\, 
 and peer support you need to thrive.&lt;/p&gt;\n&lt;/li&gt;\n&lt;/ul&gt;
END:VEVENT
END:VCALENDAR

